Workbook

Sheet Produtividade Estações
B4: ESTAÇÕES OPERACIONAIS
B6: Áreas Internas
B8: DIRNO | J8: NOTURNO
B9: - | C9: LOCALIDADE | D9: ÁREA INTERNA M² | E9: PRODUTIVIDADE MÍNIMA | G9: EFETIVO | J9: PRODUTIVIDADE MÍNIMA | L9: EFETIVO
E10: SERVENTE | G10: SERVENTE | J10: SERVENTE | L10: SERVENTE | P10: A PREENCHER
B11: 1 | C11: Estação CENTRAL | D11: 3178.3 | E11: =F43 -> #VALUE! | G11: =E11*D11 -> #VALUE! | J11: =L43 -> #VALUE! | L11: =J11*D11 -> #VALUE!
B12: 2 | C12: Estação GALERIA | D12: 4941.49 | E12: =E$11 -> #VALUE! | G12: =E12*D12 -> #VALUE! | J12: =J$11 -> #VALUE! | L12: =J12*D12 -> #VALUE!
B13: 3 | C13: Estação 102 SUL | D13: =4244.85 -> 4244.85 | E13: =E$11 -> #VALUE! | G13: =E13*D13 -> #VALUE! | J13: =J$11 -> #VALUE! | L13: =J13*D13 -> #VALUE!
B14: 4 | C14: Estação 106 SUL | D14: 4041 | E14: =E$11 -> #VALUE! | G14: =E14*D14 -> #VALUE! | J14: =J$11 -> #VALUE! | L14: =J14*D14 -> #VALUE!
B15: 5 | C15: Estação 108 SUL | D15: =4217.67 -> 4217.67 | E15: =E$11 -> #VALUE! | G15: =E15*D15 -> #VALUE! | J15: =J$11 -> #VALUE! | L15: =J15*D15 -> #VALUE!
B16: 6 | C16: Estação 110 SUL | D16: 3985.62 | E16: =E$11 -> #VALUE! | G16: =E16*D16 -> #VALUE! | J16: =J$11 -> #VALUE! | L16: =J16*D16 -> #VALUE!
B17: 7 | C17: Estação 112 SUL | D17: =4269.53 -> 4269.53 | E17: =E$11 -> #VALUE! | G17: =E17*D17 -> #VALUE! | J17: =J$11 -> #VALUE! | L17: =J17*D17 -> #VALUE!
B18: 8 | C18: Estação 114 SUL | D18: =4196.46 -> 4196.46 | E18: =E$11 -> #VALUE! | G18: =E18*D18 -> #VALUE! | J18: =J$11 -> #VALUE! | L18: =J18*D18 -> #VALUE!
B19: 9 | C19: Estação ASA SUL - ASA | D19: 1519.27 | E19: =E$11 -> #VALUE! | G19: =E19*D19 -> #VALUE! | J19: =J$11 -> #VALUE! | L19: =J19*D19 -> #VALUE!
B20: 10 | C20: Estação SHOPPING SHP | D20: =2517.09+324.4 -> 2841.49 | E20: =E$11 -> #VALUE! | G20: =E20*D20 -> #VALUE! | J20: =J$11 -> #VALUE! | L20: =J20*D20 -> #VALUE!
B21: 11 | C21: Estação FEIRA - FEI | D21: 1280.74 | E21: =E$11 -> #VALUE! | G21: =E21*D21 -> #VALUE! | J21: =J$11 -> #VALUE! | L21: =J21*D21 -> #VALUE!
B22: 12 | C22: Estação GUARÁ - GUA | D22: 1835.51 | E22: =E$11 -> #VALUE! | G22: =E22*D22 -> #VALUE! | J22: =J$11 -> #VALUE! | L22: =J22*D22 -> #VALUE!
B23: 13 | C23: Estação ARNIQUEIRAS - ARN | D23: 1404.32 | E23: =E$11 -> #VALUE! | G23: =E23*D23 -> #VALUE! | J23: =J$11 -> #VALUE! | L23: =J23*D23 -> #VALUE!
B24: 14 | C24: Estação ÁGUAS CLARAS - CLA | D24: 2698.23 | E24: =E$11 -> #VALUE! | G24: =E24*D24 -> #VALUE! | J24: =J$11 -> #VALUE! | L24: =J24*D24 -> #VALUE!
B25: 15 | C25: Estação CONCESSIONÁRIAS - COM | D25: 1404.32 | E25: =E$11 -> #VALUE! | G25: =E25*D25 -> #VALUE! | J25: =J$11 -> #VALUE! | L25: =J25*D25 -> #VALUE!
B26: 16 | C26: Estação - PRAÇA DO RELÓGIO - REL | D26: 3246.19 | E26: =E$11 -> #VALUE! | G26: =E26*D26 -> #VALUE! | J26: =J$11 -> #VALUE! | L26: =J26*D26 -> #VALUE!
B27: 17 | C27: Estação ESTRADA PARQUE - EPQ | D27: 1372 | E27: =E$11 -> #VALUE! | G27: =E27*D27 -> #VALUE! | J27: =J$11 -> #VALUE! | L27: =J27*D27 -> #VALUE!
B28: 18 | C28: Estação CENTRO METROPOLITANO - MET | D28: 1599.79 | E28: =E$11 -> #VALUE! | G28: =E28*D28 -> #VALUE! | J28: =J$11 -> #VALUE! | L28: =J28*D28 -> #VALUE!
B29: 19 | C29: Estação TAGUATINGA SUL - TAS | D29: 1496.78 | E29: =E$11 -> #VALUE! | G29: =E29*D29 -> #VALUE! | J29: =J$11 -> #VALUE! | L29: =J29*D29 -> #VALUE!
B30: 20 | C30: Estação FURNAS - FUR | D30: 1496.12 | E30: =E$11 -> #VALUE! | G30: =E30*D30 -> #VALUE! | J30: =J$11 -> #VALUE! | L30: =J30*D30 -> #VALUE!
B31: 21 | C31: Estação SAMAMBAIA SUL - SAS | D31: 1364.77 | E31: =E$11 -> #VALUE! | G31: =E31*D31 -> #VALUE! | J31: =J$11 -> #VALUE! | L31: =J31*D31 -> #VALUE!
B32: 22 | C32: Estação TERMINAL SAMAMBAIA - SAM | D32: 3167.39 | E32: =E$11 -> #VALUE! | G32: =E32*D32 -> #VALUE! | J32: =J$11 -> #VALUE! | L32: =J32*D32 -> #VALUE!
... B37: 27 | C37: Estação TERMINAL CEILÂNDIA - CEI | D37: 2819.99 | E37: =E$11 -> #VALUE! | G37: =E37*D37 -> #VALUE! | J37: =J$11 -> #VALUE! | L37: =J37*D37 -> #VALUE!
C38: ÁREA TOTAL | D38: =SUM(D11:D37) -> 68659 | G38: =SUM(G11:H37) -> #VALUE! | L38: =SUM(L11:M37) -> #VALUE!
C39: Estações 102, 106, 108, 110, 112 e 114 (incluídas as passagens operacionais).
D41: MÃO-DE-OBRA | E41: (1) | J41: MÃO-DE-OBRA | K41: (1)
E42: PRODUTIVIDADE (1/M2) | K42: PRODUTIVIDADE (1/M2)
D43: SERVENTE | E43: ____1____ | F43: =1/E44 -> #VALUE! | J43: SERVENTE | K43: ____1____ | L43: =1/K44 -> #VALUE!
E44: xxxx | K44: xxxx
B49: Áreas Externas
B52: DIURNO | J52: NOTURNO
B53: - | C53: LOCALIDADE | D53: ÁREA EXTERNA M² | E53: PRODUTIVIDADE MÍNIMA | G53: EFETIVO | J53: PRODUTIVIDADE MÍNIMA | L53: EFETIVO
E54: SERVENTE | G54: SERVENTE | J54: SERVENTE | L54: SERVENTE
B55: 1 | C55: Estação CENTRAL | D55: 0 | E55: =F89 -> #VALUE! | G55: =E55*D55 -> #VALUE! | J55: =L89 -> #VALUE! | L55: =J55*D55 -> #VALUE!
B56: 2 | C56: Estação GALERIA | D56: 613.23 | E56: =E$55 -> #VALUE! | G56: =E56*D56 -> #VALUE! | J56: =J$55 -> #VALUE! | L56: =J56*D56 -> #VALUE!
B57: 3 | C57: Estação 102 SUL | D57: 1556.5 | E57: =E$55 -> #VALUE! | G57: =E57*D57 -> #VALUE! | J57: =J$55 -> #VALUE! | L57: =J57*D57 -> #VALUE!
B58: 4 | C58: Estação 106 SUL | D58: 1417.14 | E58: =E$55 -> #VALUE! | G58: =E58*D58 -> #VALUE! | J58: =J$55 -> #VALUE! | L58: =J58*D58 -> #VALUE!
B59: 5 | C59: Estação 108 SUL | D59: 1417.14 | E59: =E$55 -> #VALUE! | G59: =E59*D59 -> #VALUE! | J59: =J$55 -> #VALUE! | L59: =J59*D59 -> #VALUE!
B60: 6 | C60: Estação 110 SUL | D60: 1417.14 | E60: =E$55 -> #VALUE! | G60: =E60*D60 -> #VALUE! | J60: =J$55 -> #VALUE! | L60: =J60*D60 -> #VALUE!
B61: 7 | C61: Estação 112 SUL | D61: 1555.71 | E61: =E$55 -> #VALUE! | G61: =E61*D61 -> #VALUE! | J61: =J$55 -> #VALUE! | L61: =J61*D61 -> #VALUE!
B62: 8 | C62: Estação 114 SUL | D62: 1793.08 | E62: =E$55 -> #VALUE! | G62: =E62*D62 -> #VALUE! | J62: =J$55 -> #VALUE! | L62: =J62*D62 -> #VALUE!
B63: 9 | C63: Estação ASA SUL - ASA | D63: 278.19 | E63: =E$55 -> #VALUE! | G63: =E63*D63 -> #VALUE! | J63: =J$55 -> #VALUE! | L63: =J63*D63 -> #VALUE!
B64: 10 | C64: Estação SHOPPING SHP | D64: 771.98 | E64: =E$55 -> #VALUE! | G64: =E64*D64 -> #VALUE! | J64: =J$55 -> #VALUE! | L64: =J64*D64 -> #VALUE!
B65: 11 | C65: Estação FEIRA - FEI | D65: 436.69 | E65: =E$55 -> #VALUE! | G65: =E65*D65 -> #VALUE! | J65: =J$55 -> #VALUE! | L65: =J65*D65 -> #VALUE!
B66: 12 | C66: Estação GUARÁ - GUA | D66: 4310.66 | E66: =E$55 -> #VALUE! | G66: =E66*D66 -> #VALUE! | J66: =J$55 -> #VALUE! | L66: =J66*D66 -> #VALUE!
B67: 13 | C67: Estação ARNIQUEIRAS - ARN | D67: 1108.19 | E67: =E$55 -> #VALUE! | G67: =E67*D67 -> #VALUE! | J67: =J$55 -> #VALUE! | L67: =J67*D67 -> #VALUE!
... B81: 27 | C81: Estação TERMINAL CEILÂNDIA - CEI | D81: 1034.23 | E81: =E$55 -> #VALUE! | G81: =E81*D81 -> #VALUE! | J81: =J$55 -> #VALUE! | L81: =J81*D81 -> #VALUE!
C82: TOTAL | D82: =SUM(D55:D81) -> 28742.88
C84: Estações 102, 106, 108, 110, 112 e 114 (incluídas as passagens operacionais).
D87: MÃO-DE-OBRA | E87: (1) | J87: MÃO-DE-OBRA | K87: (1)
E88: PRODUTIVIDADE (1/M2) | K88: PRODUTIVIDADE (1/M2)
D89: SERVENTE | E89: ____1____ | F89: =1/E90 -> #VALUE! | J89: SERVENTE | K89: ____1____ | L89: =1/K90 -> #VALUE!
E90: xxxx | K90: xxxx
B94: Esquadrias de Vidro
B97: - | C97: LOCALIDADE | D97: ESQUADRIAS DE VIDRO FACE INTERNA E EXTERNA | E97: PRODUTIVIDADE MÍNIMA | G97: EFETIVO
E98: SERVENTE | G98: SERVENTE
B99: 1 | C99: Estação CENTRAL | D99: ='[1]ÁREA ÚTIL'!$F$13*2 -> 25.12 | E99: =R114 -> #VALUE! | G99: =D99*E99 -> #VALUE!
B100: 2 | C100: Estação GALERIA | D100: ='[1]ÁREA ÚTIL'!$F$14*2 -> 103.26 | E100: =E$99 -> #VALUE! | G100: =D100*E100 -> #VALUE!
B101: 3 | C101: Estação 102 SUL | D101: ='[1]ÁREA ÚTIL'!$F$15*2 -> 368.24 | E101: =E$99 -> #VALUE! | G101: =D101*E101 -> #VALUE!
B102: 4 | C102: Estação 106 SUL | D102: ='[1]ÁREA ÚTIL'!$F$16*2 -> 316.08 | E102: =E$99 -> #VALUE! | G102: =D102*E102 -> #VALUE!
B103: 5 | C103: Estação 108 SUL | D103: ='[1]ÁREA ÚTIL'!$F$16*2 -> 316.08 | E103: =E$99 -> #VALUE! | G103: =D103*E103 -> #VALUE! | K103: Nº. de semanas trabalhadas no ano | L103: Dias trabalhados | M103: Meses do ano | N103: Cálculo de dias úteis no ano | O103: Cálculo de dias úteis mensais | P103: Cálculo de semanas úteis no mês** | Q103: Cálculo de horas semanais úteis
B104: 6 | C104: Estação 110 SUL | D104: ='[1]ÁREA ÚTIL'!$F$16*2 -> 316.08 | E104: =E$99 -> #VALUE! | G104: =D104*E104 -> #VALUE! | S104: *sem dedução dos feriados
B105: 7 | C105: Estação 112 SUL | D105: ='[1]ÁREA ÚTIL'!$F$17*2 -> 321.86 | E105: =E$99 -> #VALUE! | G105: =D105*E105 -> #VALUE!
B106: 8 | C106: Estação 114 SUL | D106: ='[1]ÁREA ÚTIL'!$F$18*2 -> 15.16 | E106: =E$99 -> #VALUE! | G106: =D106*E106 -> #VALUE!
B107: 9 | C107: Estação ASA SUL - ASA | D107: ='[1]ÁREA ÚTIL'!$F$19*2 -> 64 | E107: =E$99 -> #VALUE! | G107: =D107*E107 -> #VALUE! | K107: 365/7= 52,14 Semanas | L107: 6 | M107: 12 | N107: 52,14 x 6 = 312,84 dias | O107: 312,84/12 = 26,07 dias | P107: 26,07/6 = 4,35 Semanas | Q107: 44 h * 4,35 = 191,40 horas úteis/mês
B108: 10 | C108: Estação SHOPPING SHP | D108: ='[1]ÁREA ÚTIL'!$F$20*2 -> 51.52 | E108: =E$99 -> #VALUE! | G108: =D108*E108 -> #VALUE!
B109: 11 | C109: Estação FEIRA - FEI | D109: ='[1]ÁREA ÚTIL'!$F$21*2 -> 14.6 | E109: =E$99 -> #VALUE! | G109: =D109*E109 -> #VALUE!
B110: 12 | C110: Estação GUARÁ - GUA | D110: 350 | E110: =E$99 -> #VALUE! | G110: =D110*E110 -> #VALUE!
B111: 13 | C111: Estação ARNIQUEIRAS - ARN | D111: ='[1]ÁREA ÚTIL'!$F$23*2 -> 36.48 | E111: =E$99 -> #VALUE! | G111: =D111*E111 -> #VALUE! | K111: MÃO-DE-OBRA | M111: (1) | O111: (2) | Q111: (3) | R111: (4) = (1 x 2 x 3) Ki
B112: 14 | C112: Estação ÁGUAS CLARAS - CLA | D112: ='[1]ÁREA ÚTIL'!$F$24*2 -> 30.34 | E112: =E$99 -> #VALUE! | G112: =D112*E112 -> #VALUE! | M112: PRODUTIVIDADE (1/M2) | O112: Número de horas trabalhadas no mês para cada xx m² | Q112: Número de horas semanais úteis | R112: Total
B113: 15 | C113: Estação CONCESSIONÁRIAS - COM | D113: ='[1]ÁREA ÚTIL'!$F$25*2 -> 57.14 | E113: =E$99 -> #VALUE! | G113: =D113*E113 -> #VALUE!
B114: 16 | C114: Estação - PRAÇA DO RELÓGIO - REL | D114: ='[1]ÁREA ÚTIL'!$F$26*2 -> 69.94 | E114: =E$99 -> #VALUE! | G114: =D114*E114 -> #VALUE! | K114: SERVENTE | M114: ____1____ | N114: =1/M115 -> #VALUE! | O114: 16 | Q114: =1/191.4 -> 0.0052246604 | R114: =N114*O114*Q114 -> #VALUE!
B115: 17 | C115: Estação CENTRO METROPOLITANO - MET | D115: 200 | E115: =E$99 -> #VALUE! | G115: =D115*E115 -> #VALUE! | M115: xxxx
B116: 18 | C116: Estação ESTRADA PARQUE - EPQ | D116: 200 | E116: =E$99 -> #VALUE! | G116: =D116*E116 -> #VALUE!
B117: 19 | C117: Estação TAGUATINGA SUL - TAS | D117: ='[1]ÁREA ÚTIL'!$F$33*2 -> 118 | E117: =E$99 -> #VALUE! | G117: =D117*E117 -> #VALUE!
B118: 20 | C118: Estação FURNAS - FUR | D118: ='[1]ÁREA ÚTIL'!$F$34*2 -> 84.64 | E118: =E$99 -> #VALUE! | G118: =D118*E118 -> #VALUE!
B119: 21 | C119: Estação SAMAMBAIA SUL - SAS | D119: ='[1]ÁREA ÚTIL'!$F$35*2 -> 17.34 | E119: =E$99 -> #VALUE! | G119: =D119*E119 -> #VALUE!
B120: 22 | C120: Estação TERMINAL SAMAMBAIA - SAM | D120: ='[1]ÁREA ÚTIL'!$F$36*2 -> 81.46 | E120: =E$99 -> #VALUE! | G120: =D120*E120 -> #VALUE!
B121: 23 | C121: Estação CEILÂNDIA SUL - CES | D121: ='[1]ÁREA ÚTIL'!$F$28*2 -> 37.54 | E121: =E$99 -> #VALUE! | G121: =D121*E121 -> #VALUE!
B122: 24 | C122: Estação GUARIROBA - GBA | D122: ='[1]ÁREA ÚTIL'!$F$29*2 -> 37.54 | E122: =E$99 -> #VALUE! | G122: =D122*E122 -> #VALUE!
B123: 25 | C123: Estação CEILÂNDIA CENTRO - CEC | D123: 427 | E123: =E$99 -> #VALUE! | G123: =D123*E123 -> #VALUE!
B124: 26 | C124: Estação CEILÂNDIA NORTE - CEN | D124: ='[1]ÁREA ÚTIL'!$F$31*2 -> 32.82 | E124: =E$99 -> #VALUE! | G124: =D124*E124 -> #VALUE!
B125: 27 | C125: Estação TERMINAL CEILÂNDIA - CEI | D125: ='[1]ÁREA ÚTIL'!$F$32*2 -> 117.06 | E125: =E$99 -> #VALUE! | G125: =D125*E125 -> #VALUE!
C126: TOTAL | D126: =SUM(D99:D125) -> 3809.3 | G126: =SUM(G99:H125) -> #VALUE!
B130: Áreas Verdes
B132: - | C132: LOCALIDADE | D132: ÁREA VERDE M² | E132: PRODUTIVIDADE MÍNIMA | G132: EFETIVO
E133: SERVENTE | G133: SERVENTE
B134: 1 | C134: Estação CENTRAL | D134: 745.39 | E134: =R$149 -> #VALUE! | G134: =D134*E134 -> #VALUE!
B135: 2 | C135: Estação GALERIA | D135: 0 | E135: =R$149 -> #VALUE! | G135: =D135*E135 -> #VALUE!
B136: 3 | C136: Estação 102 SUL | D136: 173.22 | E136: =R$149 -> #VALUE! | G136: =D136*E136 -> #VALUE!
B137: 4 | C137: Estação 106 SUL | D137: 217.79 | E137: =R$149 -> #VALUE! | G137: =D137*E137 -> #VALUE!
B138: 5 | C138: Estação 108 SUL | D138: 217.79 | E138: =R$149 -> #VALUE! | G138: =D138*E138 -> #VALUE!
B139: 6 | C139: Estação 110 SUL | D139: 217.79 | E139: =R$149 -> #VALUE! | G139: =D139*E139 -> #VALUE!
B140: 7 | C140: Estação 112 SUL | D140: 217.79 | E140: =R$149 -> #VALUE! | G140: =D140*E140 -> #VALUE!
B141: 8 | C141: Estação 114 SUL - 114 | D141: 240.46 | E141: =R$149 -> #VALUE! | G141: =D141*E141 -> #VALUE!
...

Sheet Banheiros
B4: Área dos Banheiros
B6: LOCAL | F6: Quantidade | P6: TOTAL
F7: 1 | G7: 2 | H7: 3 | I7: 4 | J7: 5 | K7: 6 | L7: 7 | M7: 8 | N7: 9 | O7: 10
B8: CAO | F8: =5.67*3.47 -> 19.6749 | G8: =5.67*3.47 -> 19.6749 | H8: =5.65*2.15 -> 12.1475 | I8: =5.77*2.1 -> 12.117 | J8: =3.83*2.03 -> 7.7749 | K8: =3.86*2.1 -> 8.106 | L8: =5.35*1.72 -> 9.202 | M8: =4.25*1.92 -> 8.16 | N8: =5.76*3.44 -> 19.8144 | O8: =5.76*3.44 -> 19.8144 | P8: =SUM(F8:O12) -> 599.7585
F9: =2.37*1.05 -> 2.4885 | G9: =2.39*1.07 -> 2.5573 | H9: =2.46*1.07 -> 2.6322 | I9: =2.47*1.04 -> 2.5688 | J9: =2.41*1.04 -> 2.5064 | K9: =2.37*1.07 -> 2.5359 | L9: =1.68*1.09 -> 1.8312 | M9: =1.68*1.09 -> 1.8312 | N9: =8.58*2.99 -> 25.6542 | O9: =3.46*2.88 -> 9.9648
F10: =3.44*2.85 -> 9.804 | G10: =5.06*2.3 -> 11.638 | H10: =5.06*2.3 -> 11.638 | I10: =2.41*2.33 -> 5.6153 | J10: =2.36*2.33 -> 5.4988 | K10: =4.76*3.08 -> 14.6608 | L10: =4.77*2.96 -> 14.1192 | M10: =4.76*3.08 -> 14.6608 | N10: =4.76*2.93 -> 13.9468 | O10: =2.32*1.49 -> 3.4568
F11: =2.1*1.1 -> 2.31 | G11: =2.7*1.15 -> 3.105 | H11: =2.7*1.15 -> 3.105 | I11: =2.61*2.01 -> 5.2461 | J11: =6.94*3.4 -> 23.596 | K11: =8.88*3.42 -> 30.3696 | L11: =6*3.4 -> 20.4 | M11: =4.03*3.41 -> 13.7423 | N11: =7.51*2.36 -> 17.7236 | O11: =6.1*2.36 -> 14.396
F12: =5.95*1.6 -> 9.52 | G12: =5.95*1.64 -> 9.758 | H12: =6.73*1.47 -> 9.8931 | I12: =6.76*1.75 -> 11.83 | J12: =12.72*7.36 -> 93.6192 | K12: =5.95*3.27 -> 19.4565 | L12: =4.03*3.24 -> 13.0572 | M12: =2.37*1.07 -> 2.5359
B13: TPAC | F13: =4.3*2.3 -> 9.89 | G13: =2.4*6.2 -> 14.88 | H13: =8.3*2.4 -> 19.92 | I13: =2.5*6.3 -> 15.75 | P13: =SUM(F13:O13) -> 60.44
B14: TPAS | F14: =2.61*2.82 -> 7.3602 | G14: =2.6*2.94 -> 7.644 | H14: =3.81*5.17 -> 19.6977 | I14: =3.95*2.94 -> 11.613 | J14: =1.55*1.2 -> 1.86 | K14: =2.94*2.6 -> 7.644 | L14: =2.6*2.8 -> 7.28 | P14: =SUM(F14:O14) -> 63.0989
B15: CENTRAL | F15: =5.79*2.81 -> 16.2699 | G15: =5.79*2.83 -> 16.3857 | H15: =5.78*2.85 -> 16.473 | I15: =5.8*2.85 -> 16.53 | J15: =2.02*2.62 -> 5.2924 | K15: =2.01*2.73 -> 5.4873 | L15: =4.67*2.67 -> 12.4689 | M15: =4.75*2.66 -> 12.635 | P15: =SUM(F15:O15) -> 101.5422
B16: GALERIA | F16: =5.95*3.69 -> 21.9555 | G16: =6*3.67 -> 22.02 | H16: =6.01*3.66 -> 21.9966 | I16: =6.01*3.69 -> 22.1769 | P16: =SUM(F16:O16) -> 88.149
B17: 102 | F17: =7.85*2.06 -> 16.171 | G17: =6.26*2.05 -> 12.833 | H17: =2.1*2.16 -> 4.536 | I17: =2.1*2.17 -> 4.557 | J17: =1.6*2.15 -> 3.44 | K17: =2.15*1.6 -> 3.44 | L17: =5.14*2.7 -> 13.878 | M17: =4.07*3.5 -> 14.245 | N17: =3.99*3.11 -> 12.4089 | O17: =3.11*3.8 -> 11.818 | P17: =SUM(F17:O18) -> 136.2723
F18: =3.99*3.46 -> 13.8054 | G18: =3.78*3.5 -> 13.23 | H18: =3*1.99 -> 5.97 | I18: =1.98*3 -> 5.94
B19: 106 | F19: =7.3*3.46 -> 25.258 | G19: =8.07*3.14 -> 25.3398 | H19: =3.02*2.15 -> 6.493 | I19: =3.07*2.14 -> 6.5698 | J19: =2.04*6.21 -> 12.6684 | K19: =7.85*2.06 -> 16.171 | L19: =2.5*2.56 -> 6.4 | M19: =2.11*1.6 -> 3.376 | N19: =2.2*1.78 -> 3.916 | O19: =5.2*2.6 -> 13.52 | P19: =SUM(F19:O20) -> 138.107
F20: =4.1*2.95 -> 12.095 | G20: =2.5*2.52 -> 6.3
B21: 108 | F21: =5.27*2.62 -> 13.8074 | G21: =2.52*2.73 -> 6.8796 | H21: =2.73*2.5 -> 6.825 | I21: =2.67*5.33 -> 14.2311 | J21: =2.05*6.23 -> 12.7715 | K21: =7.87*2.07 -> 16.2909 | L21: =2.52*2.67 -> 6.7284 | M21: =2.12*1.59 -> 3.3708 | N21: =2.13*1.59 -> 3.3867 | O21: =5.19*2.7 -> 14.013 | P21: =SUM(F21:O22) -> 117.0814
F22: =4.08*2.94 -> 11.9952 | G22: =2.54*2.67 -> 6.7818
B23: 110 | F23: =3.13*8.06 -> 25.2278 | G23: =3.47*7.25 -> 25.1575 | H23: =2.16*2.98 -> 6.4368 | I23: =2.97*2.14 -> 6.3558 | J23: =2.04*6.22 -> 12.6888 | K23: =7.86*2.08 -> 16.3488 | L23: =2.52*2.66 -> 6.7032 | M23: =2.12*1.58 -> 3.3496 | N23: =2.16*1.8 -> 3.888 | O23: =5.21*2.6 -> 13.546 | P23: =SUM(F23:O24) -> 138.2269
F24: =4.09*2.94 -> 12.0246 | G24: =2.5*2.6 -> 6.5
B25: 112 | F25: =3.47*7.14 -> 24.7758 | G25: =8*3.11 -> 24.88 | H25: =1.96*3.02 -> 5.9192 | I25: =3.02*1.97 -> 5.9494 | J25: =2.22*2.06 -> 4.5732 | K25: =2.22*2.14 -> 4.7508 | L25: =7.74*2.07 -> 16.0218 | M25: =6.2*2.07 -> 12.834 | N25: =2.1*1.59 -> 3.339 | O25: =1.14*1.58 -> 1.8012 | P25: =SUM(F25:O26) -> 130.5896
F26: =5.12*2.72 -> 13.9264 | G26: =4.02*2.94 -> 11.8188
B27: 114 | F27: =5.52*2.71 -> 14.9592 | G27: =2.71*3.45 -> 9.3495 | H27: =1.71*1.76 -> 3.0096 | I27: =1.77*1.73 -> 3.0621 | J27: =5.36*2.69 -> 14.4184 | K27: =2.7*3.47 -> 9.369 | L27: =2*1.51 -> 3.02 | M27: =1.81*1.66 -> 3.0046 | N27: =4.68*3.48 -> 16.2864 | O27: =4.6*3.49 -> 16.054 | P27: =SUM(F27:O28) -> 124.5302
B28: 114 | F28: =1.61*1.86 -> 2.9946 | G28: =1.61*1.86 -> 2.9946 | H28: =5.19*2.7 -> 14.013 | I28: =4.08*2.94 -> 11.9952 | P28: =SUM(F28:O28) -> 31.9974
B29: ASA SUL | F29: =3.65*4.4 -> 16.06 | G29: =4.52*3.36 -> 15.1872 | H29: =2.4*4.47 -> 10.728 | I29: =2.4*4.46 -> 10.704 | P29: =SUM(F29:O29) -> 52.6792
B30: SHOPPING | F30: =2.29*3.85 -> 8.8165 | G30: =5.83*2.29 -> 13.3507 | H30: =4.31*2.29 -> 9.8699 | I30: =4.3*2.27 -> 9.761 | J30: =4.64*5.52 -> 25.6128 | K30: =4.33*7.8 -> 33.774 | P30: =SUM(F30:O30) -> 101.1849
B31: FEIRA | F31: =3.73*4.01 -> 14.9573 | G31: =2.39*4.5 -> 10.755 | H31: =3.6*2.36 -> 8.496 | I31: =3.73*2.39 -> 8.9147 | P31: =SUM(F31:O31) -> 43.123
B32: GUARÁ | F32: =5.1*4.9 -> 24.99 | G32: =6.77*4.15 -> 28.0955 | H32: =1.88*2.98 -> 5.6024 | I32: =1.88*2.98 -> 5.6024 | P32: =SUM(F32:O32) -> 64.2903
B33: ARNIQUEIRAS | F33: =2.3*4.5 -> 10.35 | G33: =2.25*6 -> 13.5 | H33: =2.4*4.5 -> 10.8 | P33: =SUM(F33:O33) -> 34.65
B34: ÁGUAS CLARAS | F34: =3*4.6 -> 13.8 | G34: =3*4.6 -> 13.8 | H34: =3*4.6 -> 13.8 | I34: =3*4.6 -> 13.8 | P34: =SUM(F34:O34) -> 55.2
B35: CONCESSIONÁRIAS | F35: =2.3*4.58 -> 10.534 | G35: =2.3*5.75 -> 13.225 | H35: =2.38*4.58 -> 10.9004 | I35: =2.4*4.58 -> 10.992 | P35: =SUM(F35:O35) -> 45.6514
B36: ESTRADA PARQUE | F36: =4.89*6 -> 29.34 | G36: =6*4.84 -> 29.04 | H36: =2.29*2.6 -> 5.954 | P36: =SUM(F36:O36) -> 64.334
B37: PRAÇA DO RELÓGIO | F37: =6*3.68 -> 22.08 | G37: =5.96*3.78 -> 22.5288 | H37: =5.95*3.79 -> 22.5505 | I37: =5.96*3.75 -> 22.35 | P37: =SUM(F37:O37) -> 89.5093
B38: CENTRO METROPOLITANO | F38: =5.09*3.74 -> 19.0366 | G38: =2.16*2.55 -> 5.508 | H38: =5.01*3.76 -> 18.8376 | P38: =SUM(F38:O38) -> 43.3822
B39: CEILÂNDIA SUL | F39: =3.7*2 -> 7.4 | G39: =4.5*3.73 -> 16.785 | H39: =3.16*3.68 -> 11.6288 | I39: =1.46*2.06 -> 3.0076 | P39: =SUM(F39:O39) -> 38.8214
B40: GUARIROBA | F40: =2.33*1.75 -> 4.0775 | G40: =3.6*1.77 -> 6.372 | H40: =4.5*3.75 -> 16.875 | I40: =4.5*3.75 -> 16.875 | P40: =SUM(F40:O40) -> 44.1995
B41: CEILÂNDIA CENTRO | F41: =7.93*3.44 -> 27.2792 | G41: =8.15*3.66 -> 29.829 | H41: =3.42*2.87 -> 9.8154 | I41: =3.07*3.5 -> 10.745 | J41: =3.06*3.57 -> 10.9242 | P41: =SUM(F41:O41) -> 88.5928
B42: CEILÂNDIA NORTE | F42: =2.22*1.76 -> 3.9072 | G42: =3.5*1.76 -> 6.16 | H42: =4.48*3.73 -> 16.7104 | I42: =4.52+3.74 -> 8.26 | P42: =SUM(F42:O42) -> 35.0376
B43: TERMINAL CEILÂNDIA | F43: =5.48*3.42 -> 18.7416 | G43: =2.56*1.07 -> 2.7392 | H43: =2.36*2.4 -> 5.664 | I43: =2.29*2.4 -> 5.496 | J43: =3.64*7.22 -> 26.2808 | K43: =4.22*2.53 -> 10.6766 | L43: =4.23*2.58 -> 10.9134 | M43: =4.23*2.51 -> 10.6173 | N43: =4.27*2.49 -> 10.6323 | P43: =SUM(F43:O43) -> 101.7612
B44: TAGUATINGA SUL | F44: =3.1*4.3 -> 13.33 | G44: =5.63*3.08 -> 17.3404 | H44: =2.24*4.29 -> 9.6096 | I44: =2.23*5.63 -> 12.5549 | P44: =SUM(F44:O44) -> 52.8349
B45: FURNAS | F45: =2.2*5.62 -> 12.364 | G45: =2.2*4.24 -> 9.328 | H45: =4.26*2.99 -> 12.7374 | I45: =2.2*4.2 -> 9.24 | P45: =SUM(F45:O45) -> 43.6694
B46: SAMAMBAIA SUL | F46: =4.49*2.28 -> 10.2372 | G46: =3.65*3.99 -> 14.5635 | H46: =2.38*3.65 -> 8.687 | I46: =2.29*3.59 -> 8.2211 | P46: =SUM(F46:O46) -> 41.7088
B47: TERMINAL SAMAMBAIA | F47: =3.63*3.89 -> 14.1207 | G47: =5.83*2.42 -> 14.1086 | H47: =2.51*1.81 -> 4.5431 | I47: =4.32*2.58 -> 11.1456 | J47: =2.5*4.32 -> 10.8 | K47: =2.53*4.28 -> 10.8284 | L47: =2.53*4.28 -> 10.8284 | P47: =SUM(F47:O47) -> 76.3748
B48: TOTAL | P48: =SUM(P8:P47) -> 2846.7981

Sheet Efetivo Estações
C3: EFETIVO ESTAÇÕES OPERACIONAIS
C5: DIURNO
B7: - | C7: LOCALIDADE | D7: EFETIVO ÁREA INTERNA | F7: EFETIVO ÁREA EXTERNA | H7: EFETIVO ESQUADRIA DE VIDRO | J7: ÁREA VERDE | L7: BANHEIROS | N7: TOTAL
D8: SERVENTE | F8: SERVENTE | H8: SERVENTE | J8: SERVENTE | L8: SERVENTE
B9: 1 | C9: Estação CENTRAL | D9: ='Produtividade Estações'!G11 -> #VALUE! | F9: ='Produtividade Estações'!G55 -> #VALUE! | H9: ='Produtividade Estações'!G99 -> #VALUE! | J9: ='Produtividade Estações'!G134 -> #VALUE! | L9: ='Produtividade Estações'!H168 -> #VALUE! | N9: =D9+F9+H9+J9+L9 -> #VALUE!
B10: 2 | C10: Estação GALERIA | D10: ='Produtividade Estações'!G12 -> #VALUE! | F10: ='Produtividade Estações'!G56 -> #VALUE! | H10: ='Produtividade Estações'!G100 -> #VALUE! | J10: ='Produtividade Estações'!G135 -> #VALUE! | L10: ='Produtividade Estações'!H169 -> #VALUE! | N10: =D10+F10+H10+J10+L10 -> #VALUE!
B11: 3 | C11: Estação 102 SUL | D11: ='Produtividade Estações'!G13 -> #VALUE! | F11: ='Produtividade Estações'!G57 -> #VALUE! | H11: ='Produtividade Estações'!G101 -> #VALUE! | J11: ='Produtividade Estações'!G136 -> #VALUE! | L11: ='Produtividade Estações'!H170 -> #VALUE! | N11: =D11+F11+H11+J11+L11 -> #VALUE!
B12: 4 | C12: Estação 106 SUL | D12: ='Produtividade Estações'!G14 -> #VALUE! | F12: ='Produtividade Estações'!G58 -> #VALUE! | H12: ='Produtividade Estações'!G102 -> #VALUE! | J12: ='Produtividade Estações'!G137 -> #VALUE! | L12: ='Produtividade Estações'!H171 -> #VALUE! | N12: =D12+F12+H12+J12+L12 -> #VALUE!
B13: 5 | C13: Estação 108 SUL | D13: ='Produtividade Estações'!G15 -> #VALUE! | F13: ='Produtividade Estações'!G59 -> #VALUE! | H13: ='Produtividade Estações'!G103 -> #VALUE! | J13: ='Produtividade Estações'!G138 -> #VALUE! | L13: ='Produtividade Estações'!H172 -> #VALUE! | N13: =D13+F13+H13+J13+L13 -> #VALUE!
B14: 6 | C14: Estação 110 SUL | D14: ='Produtividade Estações'!G16 -> #VALUE! | F14: ='Produtividade Estações'!G60 -> #VALUE! | H14: ='Produtividade Estações'!G104 -> #VALUE! | J14: ='Produtividade Estações'!G139 -> #VALUE! | L14: ='Produtividade Estações'!H173 -> #VALUE! | N14: =D14+F14+H14+J14+L14 -> #VALUE!
B15: 7 | C15: Estação 112 SUL - 112 | D15: ='Produtividade Estações'!G17 -> #VALUE! | F15: ='Produtividade Estações'!G61 -> #VALUE! | H15: ='Produtividade Estações'!G105 -> #VALUE! | J15: ='Produtividade Estações'!G140 -> #VALUE! | L15: ='Produtividade Estações'!H174 -> #VALUE! | N15: =D15+F15+H15+J15+L15 -> #VALUE!
B16: 8 | C16: Estação 114 SUL - 114 | D16: ='Produtividade Estações'!G18 -> #VALUE! | F16: ='Produtividade Estações'!G62 -> #VALUE! | H16: ='Produtividade Estações'!G106 -> #VALUE! | J16: ='Produtividade Estações'!G141 -> #VALUE! | L16: ='Produtividade Estações'!H175 -> #VALUE! | N16: =D16+F16+H16+J16+L16 -> #VALUE!
B17: 9 | C17: Estação ASA SUL - ASA | D17: ='Produtividade Estações'!G19 -> #VALUE! | F17: ='Produtividade Estações'!G63 -> #VALUE! | H17: ='Produtividade Estações'!G107 -> #VALUE! | J17: ='Produtividade Estações'!G142 -> #VALUE! | L17: ='Produtividade Estações'!H176 -> #VALUE! | N17: =D17+F17+H17+J17+L17 -> #VALUE!
B18: 10 | C18: Estação SHOPPING SHP/PÁTIO ASA SUL | D18: ='Produtividade Estações'!G20 -> #VALUE! | F18: ='Produtividade Estações'!G64 -> #VALUE! | H18: ='Produtividade Estações'!G108 -> #VALUE! | J18: ='Produtividade Estações'!G143 -> #VALUE! | L18: ='Produtividade Estações'!H177 -> #VALUE! | N18: =D18+F18+H18+J18+L18 -> #VALUE!
B19: 11 | C19: Estação FEIRA - FEI | D19: ='Produtividade Estações'!G21 -> #VALUE! | F19: ='Produtividade Estações'!G65 -> #VALUE! | H19: ='Produtividade Estações'!G109 -> #VALUE! | J19: ='Produtividade Estações'!G144 -> #VALUE! | L19: ='Produtividade Estações'!H178 -> #VALUE! | N19: =D19+F19+H19+J19+L19 -> #VALUE!
B20: 12 | C20: Estação GUARÁ - GUA | D20: ='Produtividade Estações'!G22 -> #VALUE! | F20: ='Produtividade Estações'!G66 -> #VALUE! | H20: ='Produtividade Estações'!G110 -> #VALUE! | J20: ='Produtividade Estações'!G145 -> #VALUE! | L20: ='Produtividade Estações'!H179 -> #VALUE! | N20: =D20+F20+H20+J20+L20 -> #VALUE!
... B35: 27 | C35: Estação TERMINAL CEILÂNDIA - CEI | D35: ='Produtividade Estações'!G37 -> #VALUE! | F35: ='Produtividade Estações'!G81 -> #VALUE! | H35: ='Produtividade Estações'!G125 -> #VALUE! | J35: ='Produtividade Estações'!G160 -> #VALUE! | L35: ='Produtividade Estações'!H194 -> #VALUE! | N35: =D35+F35+H35+J35+L35 -> #VALUE!
L37: TOTAL DIURNO | N37: =SUM(N9:O35) -> #VALUE!
B42: NOTURNO
B44: LOCALIDADE | D44: EFETIVO ÁREA INTERNA | F44: EFETIVO ÁREA EXTERNA | H44: BANHEIROS | J44: TOTAL
D45: SERVENTE | F45: SERVENTE | H45: SERVENTE | J45: SERVENTE
B46: 1 | C46: Estação CENTRAL | D46: ='Produtividade Estações'!L11 -> #VALUE! | F46: ='Produtividade Estações'!L55 -> #VALUE! | H46: ='Produtividade Estações'!H168 -> #VALUE! | J46: =D46+F46+H46 -> #VALUE!
B47: 2 | C47: Estação GALERIA | D47: ='Produtividade Estações'!L12 -> #VALUE! | F47: ='Produtividade Estações'!L56 -> #VALUE! | H47: ='Produtividade Estações'!H169 -> #VALUE! | J47: =D47+F47+H47 -> #VALUE!
B48: 3 | C48: Estação 102 SUL | D48: ='Produtividade Estações'!L13 -> #VALUE! | F48: ='Produtividade Estações'!L57 -> #VALUE! | H48: ='Produtividade Estações'!H170 -> #VALUE! | J48: =D48+F48+H48 -> #VALUE!
B49: 4 | C49: Estação 106 SUL | D49: ='Produtividade Estações'!L14 -> #VALUE! | F49: ='Produtividade Estações'!L58 -> #VALUE! | H49: ='Produtividade Estações'!H171 -> #VALUE! | J49: =D49+F49+H49 -> #VALUE!
B50: 5 | C50: Estação 108 SUL | D50: ='Produtividade Estações'!L15 -> #VALUE! | F50: ='Produtividade Estações'!L59 -> #VALUE! | H50: ='Produtividade Estações'!H172 -> #VALUE! | J50: =D50+F50+H50 -> #VALUE!
B51: 6 | C51: Estação 110 SUL | D51: ='Produtividade Estações'!L16 -> #VALUE! | F51: ='Produtividade Estações'!L60 -> #VALUE! | H51: ='Produtividade Estações'!H173 -> #VALUE! | J51: =D51+F51+H51 -> #VALUE!
B52: 7 | C52: Estação 112 SUL | D52: ='Produtividade Estações'!L17 -> #VALUE! | F52: ='Produtividade Estações'!L61 -> #VALUE! | H52: ='Produtividade Estações'!H174 -> #VALUE! | J52: =D52+F52+H52 -> #VALUE!
B53: 8 | C53: Estação 114 SUL | D53: ='Produtividade Estações'!L18 -> #VALUE! | F53: ='Produtividade Estações'!L62 -> #VALUE! | H53: ='Produtividade Estações'!H175 -> #VALUE! | J53: =D53+F53+H53 -> #VALUE!
B54: 9 | C54: Estação ASA SUL - ASA | D54: ='Produtividade Estações'!L19 -> #VALUE! | F54: ='Produtividade Estações'!L63 -> #VALUE! | H54: ='Produtividade Estações'!H176 -> #VALUE! | J54: =D54+F54+H54 -> #VALUE!
B55: 10 | C55: Estação SHOPPING - SHP | D55: ='Produtividade Estações'!L20 -> #VALUE! | F55: ='Produtividade Estações'!L64 -> #VALUE! | H55: ='Produtividade Estações'!H177 -> #VALUE! | J55: =D55+F55+H55 -> #VALUE!
B56: 11 | C56: Estação FEIRA - FEI | D56: ='Produtividade Estações'!L21 -> #VALUE! | F56: ='Produtividade Estações'!L65 -> #VALUE! | H56: ='Produtividade Estações'!H178 -> #VALUE! | J56: =D56+F56+H56 -> #VALUE!
B57: 12 | C57: Estação GUARÁ - GUA | D57: ='Produtividade Estações'!L22 -> #VALUE! | F57: ='Produtividade Estações'!L66 -> #VALUE! | H57: ='Produtividade Estações'!H179 -> #VALUE! | J57: =D57+F57+H57 -> #VALUE!
... B72: 27 | C72: Estação TERMINAL CEILÂNDIA - CEI | D72: ='Produtividade Estações'!L37 -> #VALUE! | F72: ='Produtividade Estações'!L81 -> #VALUE! | H72: ='Produtividade Estações'!H194 -> #VALUE! | J72: =D72+F72+H72 -> #VALUE!
H74: TOTAL NOTURNO | J74: =SUM(J46:K72) -> #VALUE!

Sheet Produtividade CAO - Galpões
D3: Complexo Administrativo e Operacional
C5: Produtividade - Efetivo
D8: Áreas Internas | L8: Resumo Efetivo - Complexo Administrativo e Operacional
D10: LOCALIDADE | E10: ÁREA INTERNA M² | F10: PRODUTIVIDADE MÍNIMA | H10: EFETIVO | K10: - | L10: LOCALIDADE | M10: ÁREA INTERNA | O10: ESQUADRIAS DE VIDRO | Q10: ÁREA VERDE | S10: BANHEIROS | U10: TOTAL
F11: SERVENTE | H11: SERVENTE | M11: SERVENTE | O11: SERVENTE | Q11: SERVENTE | S11: SERVENTE | U11: SERVENTE
C12: 1 | D12: BLOCO A | E12: 3010.99 | F12: =F$74 -> #VALUE! | H12: =F12*E12 -> #VALUE! | K12: 1 | L12: BLOCO A | M12: =H12 -> #VALUE! | O12: =H29 -> #VALUE! | Q12: 0 | S12: =I54 -> #VALUE! | U12: =Q12+O12+M12+S12 -> #VALUE!
C13: 2 | D13: BLOCO B | E13: 1061.57 | F13: =F$74 -> #VALUE! | H13: =F13*E13 -> #VALUE! | K13: 2 | L13: BLOCO B | M13: =H13 -> #VALUE! | O13: =H30 -> #VALUE! | Q13: 0 | U13: =Q13+O13+M13 -> #VALUE!
C14: 3 | D14: CENTRO DE TREINAMENTO | E14: 440.58 | F14: =F$74 -> #VALUE! | H14: =F14*E14 -> #VALUE! | K14: 3 | L14: CENTRO DE TREINAMENTO | M14: =H14 -> #VALUE! | O14: =H31 -> #VALUE! | Q14: 0 | U14: =Q14+O14+M14 -> #VALUE!
C15: 4 | D15: CENTRO DE CONTROLE OPERACIONAL | E15: 2015.31 | F15: =F$74 -> #VALUE! | H15: =F15*E15 -> #VALUE! | K15: 4 | L15: CENTRO DE CONTROLE OPERACIONAL | M15: =H15 -> #VALUE! | O15: =H32 -> #VALUE! | Q15: 0 | U15: =Q15+O15+M15 -> #VALUE!
C16: 5 | D16: GALPÃO DE MATERIAL RODANTE | E16: =8010.24 -> 8010.24 | F16: =F84 -> #VALUE! | H16: =F16*E16 -> #VALUE! | K16: 5 | L16: GALPÃO DE MATERIAL RODANTE | M16: =H16 -> #VALUE! | O16: =H33 -> #VALUE! | Q16: 0 | U16: =Q16+O16+M16 -> #VALUE!
C17: 6 | D17: GALPÃO DE ELETROMECÂNICA | E17: 7181.57 | F17: =I94 -> #VALUE! | H17: =F17*E17 -> #VALUE! | K17: 6 | L17: GALPÃO DE ELETROMECÂNICA | M17: =H17 -> #VALUE! | O17: =H34 -> #VALUE! | Q17: 0 | U17: =Q17+O17+M17 -> #VALUE!
C18: 7 | D18: ALMOXARIFADO MANUTENÇÃO | E18: 2875.74 | F18: =F84 -> #VALUE! | H18: =F18*E18 -> #VALUE! | K18: 7 | L18: ALMOXARIFADO MANUTENÇÃO | M18: =H18 -> #VALUE! | O18: =H35 -> #VALUE! | Q18: 0 | U18: =Q18+O18+M18 -> #VALUE!
C19: 8 | D19: ÁREAS DE ESTACIONAMENTO E RUAS | E19: 40036.62 | F19: =I105 -> #VALUE! | H19: =F19*E19 -> #VALUE! | K19: 8 | L19: ÁREAS DE ESTACIONAMENTO E RUAS / PAC | M19: =H19 -> #VALUE! | O19: 0 | Q19: =H46 -> #VALUE! | U19: =Q19+O19+M19 -> #VALUE!
C20: 9 | D20: CALÇADAS | E20: 5373.42 | F20: =I105 -> #VALUE! | H20: =F20*E20 -> #VALUE! | K20: 9 | L20: CALÇADAS | M20: =H20 -> #VALUE! | O20: 0 | Q20: 0 | U20: =Q20+O20+M20 -> #VALUE!
D21: TOTAL | E21: =SUM(E12:E20) -> 70006.04 | H21: =SUM(H12:I20) -> #VALUE! | S21: TOTAL EFETIVO | U21: =SUM(U12:V20) -> #VALUE!
D25: Esquadrias de Vidro
D27: LOCALIDADE | E27: ESQUADRIAS DE VIDRO M² FACE INTERNA E EXTERNA | F27: PRODUTIVIDADE MÍNIMA | H27: EFETIVO
F28: SERVENTE | H28: SERVENTE
C29: 1 | D29: BLOCO A | E29: ='[1]ÁREA ÚTIL'!$F$61*2 -> 288 | F29: =I$126 -> #VALUE! | H29: =F29*E29 -> #VALUE!
C30: 2 | D30: BLOCO B | E30: ='[1]ÁREA ÚTIL'!$F$62*2 -> 332 | F30: =I$126 -> #VALUE! | H30: =F30*E30 -> #VALUE!
C31: 3 | D31: CENTRO DE TREINAMENTO | E31: ='[1]ÁREA ÚTIL'!$F$63*2 -> 32 | F31: =I$126 -> #VALUE! | H31: =F31*E31 -> #VALUE!
C32: 4 | D32: CENTRO DE CONTROLE OPERACIONAL | E32: ='[1]ÁREA ÚTIL'!$F$64*2 -> 1600 | F32: =I$126 -> #VALUE! | H32: =F32*E32 -> #VALUE!
C33: 5 | D33: GALPÃO DE MATERIAL RODANTE | E33: ='[1]ÁREA ÚTIL'!$F$65*2 -> 312 | F33: =I$126 -> #VALUE! | H33: =F33*E33 -> #VALUE!
C34: 6 | D34: GALPÃO DE ELETROMECÂNICA | E34: ='[1]ÁREA ÚTIL'!$F$66*2 -> 76 | F34: =I$126 -> #VALUE! | H34: =F34*E34 -> #VALUE!
C35: 7 | D35: ALMOXARIFADO MANUTENÇÃO | E35: ='[1]ÁREA ÚTIL'!$F$67*2 -> 464 | F35: =I$126 -> #VALUE! | H35: =F35*E35 -> #VALUE!
D36: TOTAL | E36: =SUM(E29:E35) -> 3104 | H36: =SUM(H29:I35) -> #VALUE!
D39: Áreas Verdes
D42: LOCALIDADE | E42: ÁREA VERDE M² | F42: PRODUTIVIDADE MÍNIMA | H42: EFETIVO
F43: SERVENTE | H43: SERVENTE
C44: 1 | D44: ÁREAS DE ESTACIONAMENTO E RUAS | E44: 324705.23 | F44: =I117 -> #VALUE! | H44: =F44*E44 -> #VALUE!
C45: 2 | D45: PÁTIO ÁGUAS CLARAS | E45: 90318.32 | F45: =I117 -> #VALUE! | H45: =F45*E45 -> #VALUE!
D46: TOTAL | E46: =SUM(E44:E45) -> 415023.55 | H46: =SUM(H44:I45) -> #VALUE!
D50: Banheiros
C52: - | D52: LOCALIDADE | E52: QUANTIDADE | F52: ÁREA M² - TOTAL | G52: PRODUTIVIDADE MÍNIMA | I52: EFETIVO
G53: SERVENTE | I53: SERVENTE
C54: 1 | D54: CAO + GALPÕES | E54: 48 | F54: =Banheiros!P8 -> 599.7585 | G54: =F64 -> #VALUE! | I54: =F54*G54 -> #VALUE!
C58: Índices de Produtividade
C60: Banheiros
D62: MÃO-DE-OBRA | E62: (1)
E63: PRODUTIVIDADE (1/M2)
D64: SERVENTE | E64: ____1____ | F64: =1/E65 -> #VALUE!
E65: xxxx
D69: Blocos A, B, CT e CCO - Áreas Internas
E71: ÁREA INTERNA
D72: MÃO-DE-OBRA | E72: (1)
E73: PRODUTIVIDADE (1/M2)
D74: SERVENTE | E74: ____1____ | F74: =1/E75 -> #VALUE!
E75: xxxx
D79: Galpões e Almoxarifado
E81: ÁREA INTERNA
D82: MÃO-DE-OBRA | E82: (1)
E83: PRODUTIVIDADE (1/M2)
D84: SERVENTE | E84: ____1____ | F84: =1/E85 -> #VALUE!
E85: xxxx
D90: Galpão Oficinas
D92: MÃO-DE-OBRA | E92: (1) | G92: (2) | H92: (3) | I92: (4) = (1 x 2 x 3) Ki
E93: PRODUTIVIDADE (1/M2) | G93: FREQUENCIA NO MÊS (HORAS) | H93: Jornada de trabalho no Mês (horas)
D94: SERVENTE | E94: ____1____ | F94: =1/E95 -> #VALUE! | G94: 16 | H94: 1/191,40 | I94: =F94*G94*H97 -> #VALUE!
E95: xxxx
H97: =1/191.4 -> 0.0052246604
D100: Áreas de Estacionamento, ruas e calçadas
D103: MÃO-DE-OBRA | E103: (1) | G103: (2) | H103: (3) | I103: (4) = (1 x 2 x 3) Ki
E104: PRODUTIVIDADE (1/M2) | G104: FREQUENCIA NO MÊS (HORAS) | H104: Jornada de trabalho no Mês (horas)
D105: SERVENTE | E105: ____1____ | F105: =1/E106 -> #VALUE! | G105: 8 | H105: 1/191,40 | I105: =F105*G105*H108 -> #VALUE!
E106: xxxx
H108: =1/191.4 -> 0.0052246604
D112: Áreas verdes (geral)
E114: ÁREA INTERNA
D115: MÃO-DE-OBRA | E115: (1) | G115: (2) | H115: (3) | I115: (4) = (1 x 2 x 3) Ki
E116: PRODUTIVIDADE (1/M2) | G116: FREQUENCIA NO MÊS (HORAS) | H116: Jornada de trabalho no Mês (horas)
D117: SERVENTE | E117: ____1____ | F117: =1/E118 -> #VALUE! | G117: 16 | H117: 1/191,40 | I117: =F117*G117*H120 -> #VALUE!
E118: xxxx
H120: =1/191.4 -> 0.0052246604
D122: Esquadria de Vidro
D124: MÃO-DE-OBRA | E124: (1) | G124: (2) | H124: (3) | I124: (4) = (1 x 2 x 3) Ki
E125: PRODUTIVIDADE (1/M2) | G125: FREQUENCIA NO MÊS (HORAS) | H125: Jornada de trabalho no Mês (horas)
D126: SERVENTE | E126: ____1____ | F126: =1/E127 -> #VALUE! | G126: 16 | H126: 1/191,40 | I126: =F126*G126*H129 -> #VALUE!
E127: xxxx
H129: =1/191.4 -> 0.0052246604

Sheet Limpeza de trens entre viagens
C5: Limpeza de Trens Entre Viagens - Estação Central-CTL
C8: Segunda a Sexta Feira
C10: DIURNO
C11: LOCALIDADE | D11: ÁREA INTERNA M² | E11: QUANTIDADE ESTIMADA DE VIAGENS/LIMPEZA | F11: TOTAL ÁREA INTERNA M²/DIA | G11: PRODUTIVIDADE MÍNIMA | I11: EFETIVO
G12: SERVENTE | I12: SERVENTE
C13: TRENS SÉRIE 1000/2000 (06h00 as 22h00) | D13: 227 | E13: 200 | F13: =D13*E13 -> 45400 | G13: =G40 -> #VALUE! | I13: =G13*F13 -> #VALUE!
C16: Sábado
C18: DIURNO
C19: LOCALIDADE | D19: ÁREA INTERNA M² | E19: QUANTIDADE ESTIMADA DE VIAGENS/LIMPEZA | F19: TOTAL ÁREA INTERNA M²/DIA | G19: PRODUTIVIDADE MÍNIMA | I19: EFETIVO
G20: SERVENTE | I20: SERVENTE
C21: TRENS SÉRIE 1000/2000 (06h00 as 22h00) | D21: 227 | E21: =150 -> 150 | F21: =D21*E21 -> 34050 | G21: =G40 -> #VALUE! | I21: =G21*F21 -> #VALUE!
C25: Domingos e Feriados
C27: DIURNO
C28: LOCALIDADE | D28: ÁREA INTERNA M² | E28: QUANTIDADE ESTIMADA DE VIAGENS/LIMPEZA | F28: TOTAL ÁREA INTERNA M²/DIA | G28: PRODUTIVIDADE MÍNIMA | I28: EFETIVO
G29: SERVENTE | I29: SERVENTE
C30: TRENS SÉRIE 1000/2000 (06h00 as 22h00) | D30: 227 | E30: 70 | F30: =D30*E30 -> 15890 | G30: =G40 -> #VALUE! | I30: =G30*F30 -> #VALUE!
F37: ÁREA INTERNA
E38: MÃO-DE-OBRA | F38: (1)
F39: PRODUTIVIDADE (1/M2)
E40: SERVENTE | F40: ____1____ | G40: =1/F41 -> #VALUE!
F41: xxxx

Sheet Higienização Covid-19
C5: Higienização de Trens - Covid/19 - Terminal Ceilândia e Samambaia
C8: Segunda a Sexta Feira
C10: DIURNO
C11: LOCALIDADE | D11: ÁREA INTERNA M² | E11: QUANTIDADE ESTIMADA DE VIAGENS/LIMPEZA | F11: TOTAL ÁREA INTERNA M²/DIA | G11: PRODUTIVIDADE MÍNIMA | I11: EFETIVO
G12: SERVENTE | I12: SERVENTE
C13: TRENS SÉRIE 1000/2000 (06h00 as 22h00) - TERMINAL SAMAMBAIA | D13: 227 | E13: 90 | F13: =D13*E13 -> 20430 | G13: =G43 -> #VALUE! | I13: =G13*F13 -> #VALUE!
C14: TRENS SÉRIE 1000/2000 (06h00 as 22h00) - TERMINAL CEILÂNDIA | D14: 227 | E14: 110 | F14: =D14*E14 -> 24970 | G14: =G43 -> #VALUE! | I14: =G14*F14 -> #VALUE!
C18: Sábado
C20: DIURNO
C21: LOCALIDADE | D21: ÁREA INTERNA M² | E21: QUANTIDADE ESTIMADA DE VIAGENS/LIMPEZA | F21: TOTAL ÁREA INTERNA M²/DIA | G21: PRODUTIVIDADE MÍNIMA | I21: EFETIVO
G22: SERVENTE | I22: SERVENTE
C23: TRENS SÉRIE 1000/2000 (06h00 as 22h00) - TERMINAL SAMAMBAIA | D23: 227 | E23: 75 | F23: =D23*E23 -> 17025 | G23: =G43 -> #VALUE! | I23: =G23*F23 -> #VALUE!
C24: TRENS SÉRIE 1000/2000 (06h00 as 22h00) - TERMINAL CEILÂNDIA | D24: 227 | E24: 75 | F24: =D24*E24 -> 17025 | G24: =G43 -> #VALUE! | I24: =G24*F24 -> #VALUE!
C28: Domingos e Feriados
C30: DIURNO
C31: LOCALIDADE | D31: ÁREA INTERNA M² | E31: QUANTIDADE ESTIMADA DE VIAGENS/LIMPEZA | F31: TOTAL ÁREA INTERNA M²/DIA | G31: PRODUTIVIDADE MÍNIMA | I31: EFETIVO
G32: SERVENTE | I32: SERVENTE
C33: TRENS SÉRIE 1000/2000 (06h00 as 22h00) - TERMINAL SAMAMBAIA | D33: 227 | E33: 32 | F33: =D33*E33 -> 7264 | G33: =G43 -> #VALUE! | I33: =G33*F33 -> #VALUE!
C34: TRENS SÉRIE 1000/2000 (06h00 as 22h00) - TERMINAL CEILÂNDIA | D34: 227 | E34: 35 | F34: =D34*E34 -> 7945 | G34: =G43 -> #VALUE! | I34: =G34*F34 -> #VALUE!
F40: ÁREA INTERNA
E41: MÃO-DE-OBRA | F41: (1)
F42: PRODUTIVIDADE (1/M2)
E43: SERVENTE | F43: ____1____ | G43: =1/F44 -> #VALUE!
F44: xxxx

Sheet Resumo Efetivo
B3: EFETIVO TOTAL
B5: Subitem 01 - Mercado Geral
E7: DIURNO | J7: NOTURNO
B8: SETOR | C8: LOCALIDADE | E8: SERVENTE | F8: ENCARREGADO | G8: JARDINEIRO | H8: COPEIRA | J8: SERVENTE | K8: ENCARREGADO
B10: 1 | C10: Estação CENTRAL | E10: =ROUNDUP('Efetivo Estações'!N9,1) -> #VALUE! | F10: 6 | J10: =ROUNDUP('Efetivo Estações'!J46,1) -> #VALUE! | K10: 6
B11: 2 | C11: Estação GALERIA | E11: =ROUNDUP('Efetivo Estações'!N10,1) -> #VALUE! | J11: =ROUNDUP('Efetivo Estações'!J47,1) -> #VALUE!
B12: 3 | C12: Estação 102 SUL | E12: =ROUNDUP('Efetivo Estações'!N11,1) -> #VALUE! | J12: =ROUNDUP('Efetivo Estações'!J48,1) -> #VALUE!
B13: 4 | C13: Estação 106 SUL | E13: =ROUNDUP('Efetivo Estações'!N12,1) -> #VALUE! | J13: =ROUNDUP('Efetivo Estações'!J49,1) -> #VALUE!
B14: 5 | C14: Estação 108 SUL | E14: =ROUNDUP('Efetivo Estações'!N13,1) -> #VALUE! | J14: =ROUNDUP('Efetivo Estações'!J50,1) -> #VALUE!
B15: 6 | C15: Estação 110 SUL | E15: =ROUNDUP('Efetivo Estações'!N14,1) -> #VALUE! | J15: =ROUNDUP('Efetivo Estações'!J51,1) -> #VALUE!
B16: 7 | C16: Estação 112 SUL | E16: =ROUNDUP('Efetivo Estações'!N15,1) -> #VALUE! | J16: =ROUNDUP('Efetivo Estações'!J52,1) -> #VALUE!
B17: 8 | C17: Estação 114 SUL | E17: =ROUNDUP('Efetivo Estações'!N16,1) -> #VALUE! | J17: =ROUNDUP('Efetivo Estações'!J53,1) -> #VALUE!
B18: 9 | C18: Estação ASA SUL - ASA | E18: =ROUNDUP('Efetivo Estações'!N17,1) -> #VALUE! | J18: =ROUNDUP('Efetivo Estações'!J54,1) -> #VALUE!
B19: 10 | C19: Estação SHOPPING - SHP | E19: =ROUNDUP('Efetivo Estações'!N18,1) -> #VALUE! | J19: =ROUNDUP('Efetivo Estações'!J55,1) -> #VALUE!
B20: 11 | C20: Estação FEIRA - FEI | E20: =ROUNDUP('Efetivo Estações'!N19,1) -> #VALUE! | J20: =ROUNDUP('Efetivo Estações'!J56,1) -> #VALUE!
B21: 12 | C21: Estação GUARÁ - GUA | E21: =ROUNDUP('Efetivo Estações'!N20,1) -> #VALUE! | J21: =ROUNDUP('Efetivo Estações'!J57,1) -> #VALUE!
B22: 13 | C22: Estação ARNIQUEIRAS - ARN | E22: =ROUNDUP('Efetivo Estações'!N21,1) -> #VALUE! | J22: =ROUNDUP('Efetivo Estações'!J58,1) -> #VALUE!
... B36: 27 | C36: Estação TERMINAL CEILÂNDIA - CEI | E36: =ROUNDUP('Efetivo Estações'!N35,1) -> #VALUE! | J36: =ROUNDUP('Efetivo Estações'!J72,1) -> #VALUE!
B37: 28 | C37: COMPLEXO ADMINISTRATIVO E OPERACIONAL | E37: =ROUNDUP('Produtividade CAO - Galpões'!U21,2) -> #VALUE! | F37: 1 | G37: 5 | H37: 5 | J37: - | K37: -
B38: 29 | C38: LIMPEZA DE TRENS ENTRE VIAGENS | E38: =ROUNDUP('Limpeza de trens entre viagens'!I13,2) -> #VALUE! | J38: - | K38: -
B39: 30 | C39: TORRE PÁTIO ASA SUL | E39: 1 | J39: 1 | K39: -
B40: 31 | C40: ESTAÇÕES NÃO OPERACIONAIS / SUBESTAÇÕES | E40: 1 | J40: - | K40: -
B41: 32 | C41: SANITIZAÇÃO - COVID/19 | J41: 3 | K41: 1
B42: 33 | C42: HIGIENIZAÇÃO TRENS - COVID/19 | E42: ='Higienização Covid-19'!I13+'Higienização Covid-19'!I14 -> #VALUE! | J42: - | K42: -
C45: SUBTOTAL 01 | E45: =ROUND(SUM(E10:E42),1) -> #VALUE! | F45: =ROUND(SUM(F10:F42),1) -> 7 | G45: =ROUND(SUM(G10:G42),1) -> 5 | H45: =ROUND(SUM(H10:H42),1) -> 5 | I45: =ROUND(SUM(I10:I42),1) -> 0 | J45: =ROUND(SUM(J10:J42),1) -> #VALUE! | K45: =ROUND(SUM(K10:K42),1) -> 7 | L45: =ROUND(SUM(E45:K45),1) -> #VALUE!
E49: EFETIVO TOTAL - ESTIMADO
E51: SERVENTE DIURNO | H51: =E45 -> #VALUE!
E52: ENCARREGADO DIURNO | H52: =F45 -> 7
E53: SERVENTE NOTURNO | H53: =J45 -> #VALUE!
E54: ENCARREGADO NOTURNO | H54: =K45 -> 7
E55: JARDINEIRO | H55: =G45 -> 5
E56: COPEIRA | H56: =H45 -> 5
E57: RECEPCIONISTA | H57: 2
E58: TOTAL | H58: =SUM(H51:H57) -> #VALUE!

Sheet Plan1
C7: ITEM | D7: DISCRIMINAÇÃO | E7: UNIDADE | F7: QUANTIDADE | G7: VALOR UNITÁRIO | H7: SUB TOTAL | I7: TOTAL | K7: Cálculo - Valor m²
C8: SERVIÇOS CONTÍNUOS DE LIMPEZA | H8: A | I8: =SUM(H9:H9) -> 3290.75
C9: 1.1 | D9: Servente diurno 44h | E9: Mês | F9: 1 | G9: ='[2]Custo contratação'!$F$14 -> 3290.75 | H9: =G9*F9 -> 3290.75 | K9: ÁREA | L9: METROS | M9: EFETIVO SERVENTES | N9: VALOR POSTO | O9: TOTAL POSTO $ | P9: VALOR M²
C10: 2 | D10: BONIFICAÇÕES E DESPESAS INDIRETAS - LUCRO | I10: =I11+I12+I13 -> 815.49198 | K10: Interna | L10: ='Produtividade Estações'!D11 -> 3178.3 | M10: ='Produtividade Estações'!G11 -> #VALUE! | N10: =H22 -> 4106.242 | O10: =M10*N10 -> #VALUE! | P10: =O10/L10 -> #VALUE!
C11: 2.1 | D11: Despesas Administrativas | E11: 0.02 | G11: =I8*E11 -> 65.815 | H11: D | I11: =G11 -> 65.815 | K11: Externa | L11: ='Produtividade Estações'!D55 -> 0 | M11: ='Produtividade Estações'!G55 -> #VALUE! | O11: =M11*N10 -> #VALUE! | P11: 0
C12: 2.2 | D12: Lucro | E12: 0.05 | G12: =I8*E12 -> 164.5375 | H12: E | I12: =G12 -> 164.5375 | K12: Vidros | L12: ='Produtividade Estações'!D99 -> 25.12 | M12: ='Produtividade Estações'!G99 -> #VALUE! | O12: =M12*N10 -> #VALUE! | P12: =O12/L12 -> #VALUE!
C13: 3 | D13: IMPOSTOS E CONTRIBUIÇÕES SOBRE O FATURAMENTO | G13: T0 = | H13: =SUM(E14:F16) -> 0.1425 | I13: =G21 -> 585.13948 | K13: Verde | L13: ='Produtividade Estações'!D134 -> 745.39 | M13: ='Produtividade Estações'!G134 -> #VALUE! | O13: =N10*M13 -> #VALUE! | P13: =O13/L13 -> #VALUE!
C14: 3.1 | D14: ISS | E14: 0.05 | M14: =SUM(M10:M13) -> #VALUE!
C15: 3.2 | D15: COFINS | E15: 0.076
C16: 3.3 | D16: PIS | E16: 0.0165
C17: CÁLCULO VALOR MENSAL DOS SERVIÇOS (P1)
C18: TRIBUTOS (%)/100 = T0 | G18: =SUM(E14:F16) -> 0.1425
C19: P0 = (A+B+C+D+E) | G19: =I8+I11+I12 -> 3521.1025
C20: P1=P0/(1-T0) | G20: =G19/(1-G18) -> 4106.242
C21: TRIBUTOS = P1-P0 | G21: =G20-G19 -> 585.13948
C22: VALOR TOTAL MENSAL ESTIMADO | H22: =G20 -> 4106.242
C41: ITEM | D41: DISCRIMINAÇÃO | E41: UNIDADE | F41: QUANTIDADE | G41: VALOR UNITÁRIO | H41: SUB TOTAL | I41: TOTAL
C42: SERVIÇOS CONTÍNUOS DE LIMPEZA | H42: A | I42: =SUM(H43:H44) -> 3290.75
C43: 1.1 | D43: Servente diurno 44h | E43: Mês | F43: 1 | G43: ='[2]Custo contratação'!$F$14 -> 3290.75 | H43: =G43*F43 -> 3290.75
C44: 1.2 | D44: Servente diurno 12x36 | E44: Mês | H44: =G44*F44 -> 0
C45: 2 | D45: BONIFICAÇÕES E DESPESAS INDIRETAS - LUCRO | I45: =I46+I47+I48 -> 815.49198
C46: 2.1 | D46: Despesas Administrativas | E46: 0.02 | G46: =I42*E46 -> 65.815 | H46: D | I46: =G46 -> 65.815
C47: 2.2 | D47: Lucro | E47: 0.05 | G47: =I42*E47 -> 164.5375 | H47: E | I47: =G47 -> 164.5375
C48: 3 | D48: IMPOSTOS E CONTRIBUIÇÕES SOBRE O FATURAMENTO | G48: T0 = | H48: =SUM(E49:F51) -> 0.1425 | I48: =G56 -> 585.13948
C49: 3.1 | D49: ISS | E49: 0.05
C50: 3.2 | D50: COFINS | E50: 0.076
C51: 3.3 | D51: PIS | E51: 0.0165
C52: CÁLCULO VALOR MENSAL DOS SERVIÇOS (P1)
C53: TRIBUTOS (%)/100 = T0 | G53: =SUM(E49:F51) -> 0.1425
C54: P0 = (A+B+C+D+E) | G54: =I42+I46+I47 -> 3521.1025
C55: P1=P0/(1-T0) | G55: =G54/(1-G53) -> 4106.242
C56: TRIBUTOS = P1-P0 | G56: =G55-G54 -> 585.13948
C57: VALOR TOTAL MENSAL ESTIMADO | H57: =G55 -> 4106.242
C60: Externa | D60: ='Produtividade Estações'!D81 -> 1034.23 | E60: ='Produtividade Estações'!L81 -> #VALUE!
C61: Interna | D61: ='Produtividade Estações'!D37 -> 2819.99 | E61: ='Produtividade Estações'!L37 -> #VALUE! | F61: =#REF! -> #REF! | G61: =F61*E61 -> #REF! | H61: =G61/D61 -> #REF!
C62: Vidros | D62: ='Produtividade Estações'!D125 -> 117.06 | E62: 0
C63: Verde | D63: ='Produtividade Estações'!D160 -> 117.02 | E63: 0
G65: =G61+G58 -> #REF!
