Workbook
Name JR_PAGE_ANCHOR_0_1: 'M1'!#REF!

Sheet Canteiro de Obras ND 
C2: CONTRATAÇÃO DE EMPRESA ESPECIALIZADA PARA A REALIZAÇÃO DAS OBRAS CIVIS DO TRECHO SAMAMBAIA DA EXPANSÃO DA LINHA 1 DO METRÔ-DF
B5: OBRA:Expansão Samambaia - Obras civis
B6: DATA-BASE: Abril/2022 | D6: ENCARGOS SOCIAIS NÃO DESONERADOS: | E6: SINAPI - 110,14% (HORA)
E7: SINAPI - 70,03% (MÊS)
E8: SICRO - CONFORME CATEGORIA
B9: CÁLCULO CANTEIRO DE OBRAS
B10: 1.0 | C10: CARACTERÍSTICAS DO EMPREENDIMENTO
B11: 1.1 | C11: MÃO DE OBRA | D11: Funcionário/mês
C12: Mão de obra ordinária média no período do empreendimento | D12: =NMO!E81 -> 122.80629
C13: Mão de obra parcela fixa da administração local | D13: 35
C14: Mão de obra parcela variável da administração local | D14: 12.72
B15: 1.2 | C15: DISTÂNCIA | D15: KM
C16: Distância entre o canteiro e a cidade mais próxima | D16: 0
B17: 1.3 | C17: CARACTERIZAÇÃO DA MÃO DE OBRA | D17: COEFICENTE | E17: Funcionário/mês
C18: Número de funcionários da mão de obra ordinária no mês de pico (NMO) | D18: 1.33 | E18: =D18*D12 -> 163.33236
C19: Número de funcionários da parcela variável no mês de pico (NPV) | D19: 1.33 | E19: =D19*D14 -> 16.9176
C20: Número de funcionários da parcela fixa da administração local (NPF) | D20: 1.33 | E20: =D13*1.33 -> 46.55
C21: Número de funcionários das parcelas fixa e vinculada (NPF-V) | D21: - | E21: 31
C22: Número de funcionários alojados no canteiro (NFA) | D22: - | E22: 0
C23: Número máximo de funcionários (NMAX) | D23: - | E23: =SUM(E18,E19,E20,E21,E22) -> 257.79996
B24: 1.4 | C24: FATOR DO PADRÃO DE CONSTRUÇÃO (K1) TABELA 38 | D24: VALOR K1
C25: Padrão de construção provisório | D25: 0.8
B26: 1.5 | C26: FATOR DE MOBILIÁRIO E APARELHAGEM (K2) TABELA 58 | D26: VALOR K2
C27: Construção ferroviária/edificação | D27: 1.05
B28: 1.6 | C28: FATOR DE DISTÂNCIA DO CANTEIRO AOS CENTROS FORNECEDORES (K3) TABELA 59 | D28: VALOR K3
C29: Rodovia pavimentada DMT menor que 50,00 kM | D29: 1
B30: 1.7 | C30: CUSTO MÉDIO DA CONSTRUÇÃO CIVIL ( CMCC) SINAPI
C31: Unidade Federativa : | D31: Brasília - DF
C32: Mês-base: | D32: 44652
C33: Forma de Tributação : | D33: Não desonerado
C34: Custo médio : | D34: ='Tabela 53_Centro Oeste ND'!C544 -> 1718.15
B35: 2.0 | C35: CANTEIROS DE OBRA
B36: 2.1 | C36: DIMENSIONAMENTO DAS ÁREAS VARIÁVEIS TABELA 40 | D36: ÁREA ( M²) | E36: =SUM(D37:D40) -> 1130.4624
C37: Escritório e seção técnica | D37: =517.95+(4.5*E20) -> 727.425
C38: Refeitório e cozinha | D38: =1.55*(0.5*E23) -> 199.79497
C39: Banheiros e vestiário | D39: =0.77*(E18+E19) -> 138.79247
C40: Ambulatório | D40: =0.25*E23 -> 64.44999
B41: 2.2 | C41: DIMENSIONAMENTO DAS ÁREAS FIXAS TABELA 41 | D41: ÁREA ( M²) | E41: =SUM(D42:D46) -> 446.54
C42: Almoxarifado | D42: 104.88
C43: Depósito de cimento | D43: 93.45
...

Sheet Tabelas de Referência (SICRO)

Sheet Canteiro de Obras D
C2: Orçamento Referencial para a contratação de empresa para obras da Expansão do METRÔ-DF - Samambaia
B5: OBRA:Expansão Samambaia - Obras civis
B6: DATA-BASE: Abril/2022 | D6: ENCARGOS SOCIAIS DESONERADOS: | E6: SINAPI - 81,53% (HORA)
E7: SINAPI - 46,62% (MÊS)
E8: SICRO - CONFORME CATEGORIA
B9: CÁLCULO CANTEIRO DE OBRAS
B10: 1.0 | C10: CARACTERÍSTICAS DO EMPREENDIMENTO
B11: 1.1 | C11: MÃO DE OBRA | D11: Funcionário/mês
C12: Mão de obra ordinária média no período do empreendimento | D12: =NMO!E81 -> 122.80629
C13: Mão de obra parcela fixa da administração local | D13: 35
C14: Mão de obra parcela variável da administração local | D14: 12.44
B15: 1.2 | C15: DISTÂNCIA | D15: KM
C16: Distância entre o canteiro e a cidade mais próxima | D16: 0
B17: 1.3 | C17: CARACTERIZAÇÃO DA MÃO DE OBRA | D17: COEFICENTE | E17: Funcionário/mês
C18: Número de funcionários da mão de obra ordinária no mês de pico (NMO) | D18: 1.33 | E18: =D18*D12 -> 163.33236
C19: Número de funcionários da parcela variável no mês de pico (NPV) | D19: 1.33 | E19: =D19*D14 -> 16.5452
C20: Número de funcionários da parcela fixa da administração local (NPF) | D20: 1.33 | E20: =D13*1.33 -> 46.55
C21: Número de funcionários das parcelas fixa e vinculada (NPF-V) | D21: - | E21: 31
C22: Número de funcionários alojados no canteiro (NFA) | D22: - | E22: 0
C23: Número máximo de funcionários (NMAX) | D23: - | E23: =SUM(E18,E19,E20,E21,E22) -> 257.42756
B24: 1.4 | C24: FATOR DO PADRÃO DE CONSTRUÇÃO (K1) TABELA 38 | D24: VALOR K1
C25: Padrão de construção provisório | D25: 0.8
B26: 1.5 | C26: FATOR DE MOBILIÁRIO E APARELHAGEM (K2) TABELA 58 | D26: VALOR K2
C27: Construção ferroviária/edificação | D27: 1.05
B29: 1.6 | C29: FATOR DE DISTÂNCIA DO CANTEIRO AOS CENTROS FORNECEDORES (K3) TABELA 59 | D29: VALOR K3
C30: Rodovia pavimentada DMT menor que 50,00 kM | D30: 1
B31: 1.7 | C31: CUSTO MÉDIO DA CONSTRUÇÃO CIVIL ( CMCC) SINAPI
C32: Unidade Federativa : | D32: Brasília - DF
C33: Mês-base: | D33: 44652
C34: Forma de Tributação : | D34: Desonerado
C35: Custo médio : | D35: ='Tabela 53_Centro Oeste D'!C238 -> 1626.25
B37: 2.0 | C37: CANTEIROS DE OBRA
B38: 2.1 | C38: DIMENSIONAMENTO DAS ÁREAS VARIÁVEIS TABELA 40 | D38: ÁREA ( M²) | E38: =SUM(D39:D42) -> 1129.794
C39: Escritório e seção técnica | D39: =517.95+(4.5*E20) -> 727.425
C40: Refeitório e cozinha | D40: =1.55*(0.5*E23) -> 199.50636
C41: Banheiros e vestiário | D41: =0.77*(E18+E19) -> 138.50572
C42: Ambulatório | D42: =0.25*E23 -> 64.35689
B43: 2.2 | C43: DIMENSIONAMENTO DAS ÁREAS FIXAS TABELA 41 | D43: ÁREA ( M²) | E43: =SUM(D44:D48) -> 446.54
C44: Almoxarifado | D44: 104.88
C45: Depósito de cimento | D45: 93.45
...

Sheet NMO
C2: CONTRATAÇÃO DE EMPRESA ESPECIALIZADA PARA A REALIZAÇÃO DAS OBRAS CIVIS DO TRECHO SAMAMBAIA DA EXPANSÃO DA LINHA 1 DO METRÔ-DF
B3: MEMÓRIA DE CÁCULO QUANTIDADE MÃO DE OBRA ORDINÁRIA MÉDIA
B4: 1.0 | D4: QUANTIDADE DE HORAS MÃO DE OBRA ORDINÁRIA TOTAL
B5: CÓDIGO | C5: FONTE | D5: DESCRIÇÃO | E5: UNIDADE | F5: QUANTIDADE
B6: P9824 | C6: SICRO3 | D6: Servente | E6: H | F6: 201499.63
B7: 00001213 | C7: SINAPI | D7: Carpinteiro De Formas (Horista) | E7: H | F7: 114470.28
B8: 00000378 | C8: SINAPI | D8: Armador (Horista) | E8: H | F8: 91670.048
B9: 00006111 | C9: SINAPI | D9: Servente De Obras | E9: H | F9: 100363.42
B10: 00004750 | C10: SINAPI | D10: Pedreiro (Horista) | E10: H | F10: 58401.166
B11: P9801 | C11: SICRO3 | D11: Ajudante | E11: H | F11: 54225.149
B12: 00002436 | C12: SINAPI | D12: Eletricista (Horista) | E12: H | F12: 36992.229
B13: P9830 | C13: SICRO3 | D13: Montador | E13: H | F13: 22887.281
B14: 00000247 | C14: SINAPI | D14: Ajudante De Eletricista (Horista) | E14: H | F14: 36966.341
B15: 00006117 | C15: SINAPI | D15: Carpinteiro Auxiliar (Horista) | E15: H | F15: 28769.098
B16: P9805 | C16: SICRO3 | D16: Armador | E16: H | F16: 15785.125
B17: 00004783 | C17: SINAPI | D17: Pintor (Horista) | E17: H | F17: 11801.323
... B73: 00004233 | C73: SINAPI | D73: Operador De Usina De Asfalto, De Solos Ou De Concreto | E73: H | F73: 0.0792595
B74: M1 | C74: TABELA M1 | D74: Motoristas E Operadores De Equipamentos (Sicro) | E74: H | F74: ='M1'!F61 -> 99918.679
E75: TOTAL | F75: =SUM(F6:F74) -> 1008491.4
B77: 2.0 | D77: NÚMERO DE FUNCIONÁRIOS DA MÃO DE OBRA ORDINÁRIA NO MÊS DE PICO (NMO)
D78: Duração da obra* (meses): | E78: 45
D79: Produção mensal teórica (H) 1,00 funcionário: | E79: 182.49
D80: Horas médias trabalhadas/mês (H): | E80: =F75/E78 -> 22410.919
D81: Número de funcionários/mês: | E81: =E80/E79 -> 122.80629
D82: Número de funcionários/mês pico (x 1,33): | E82: =E81*1.33 -> 163.33236
B84: Metodologia SICRO 2017 - Volume 07 Canteiro de Obras
B85: * A partir do primeiro mês de implatação do canteiro de obras

Sheet M1
C2: CONTRATAÇÃO DE EMPRESA ESPECIALIZADA PARA A REALIZAÇÃO DAS OBRAS CIVIS DO TRECHO SAMAMBAIA DA EXPANSÃO DA LINHA 1 DO METRÔ-DF
B3: M1 | C3: QUANTITATIVO DE MÃO DE OBRA ORDINÁRIA MOTORISTAS E OPERADORES DE EQUIPAMENTOS
B4: CÓDIGO | C4: DESCRIÇÃO | D4: TIPO | E4: UNIDADE | F4: QUANTIDADE
B5: E9579 | C5: Caminhão basculante com capacidade de 10 m³ - 188 kW | D5: Equipamento | E5: H | F5: =G5+H5 -> 1839.4137 | G5: {=VLOOKUP(B5,'Curva ABC de Insumos'!A:Q,6,FALSE)} -> 1.674,6540272 | H5: =VLOOKUP(B5,'Curva ABC de Insumos'!A:Q,7,FALSE) -> 164,7596912
B6: E9667 | C6: Caminhão basculante com capacidade de 14 m³ - 188 kW | D6: Equipamento | E6: H | F6: =G6+H6 -> 37491.553 | G6: =VLOOKUP(B6,'Curva ABC de Insumos'!A:Q,6,FALSE) -> 36.216,2596390 | H6: =VLOOKUP(B6,'Curva ABC de Insumos'!A:Q,7,FALSE) -> 1.275,2928723
B7: E9506 | C7: Caminhão basculante com capacidade de 6 m³ - 136 kW | D7: Equipamento | E7: H | F7: =G7+H7 -> 804.74857 | G7: =VLOOKUP(B7,'Curva ABC de Insumos'!A:Q,6,FALSE) -> 802,0669256 | H7: =VLOOKUP(B7,'Curva ABC de Insumos'!A:Q,7,FALSE) -> 2,6816445
B8: E9145 | C8: Caminhão basculante para concreto com capacidade de 7 m³ - 188 kW | D8: Equipamento | E8: H | F8: =G8+H8 -> 4.911493 | G8: =VLOOKUP(B8,'Curva ABC de Insumos'!A:Q,6,FALSE) -> 3,7327185 | H8: =VLOOKUP(B8,'Curva ABC de Insumos'!A:Q,7,FALSE) -> 1,1787745
B9: E9604 | C9: Caminhão basculante para rocha com capacidade de 8 m³ - 210 kW | D9: Equipamento | E9: H | F9: =G9+H9 -> 1.1538421 | G9: =VLOOKUP(B9,'Curva ABC de Insumos'!A:Q,6,FALSE) -> 0,9692246 | H9: =VLOOKUP(B9,'Curva ABC de Insumos'!A:Q,7,FALSE) -> 0,1846175
B10: E9600 | C10: Caminhão betoneira com capacidade de 8 m³ - 188 kW | D10: Equipamento | E10: H | F10: =G10+H10 -> 886.19161 | G10: =VLOOKUP(B10,'Curva ABC de Insumos'!A:Q,6,FALSE) -> 708,9530250 | H10: =VLOOKUP(B10,'Curva ABC de Insumos'!A:Q,7,FALSE) -> 177,2385873
B11: E9592 | C11: Caminhão carroceria com capacidade de 15 t - 188 kW | D11: Equipamento | E11: H | F11: =G11+H11 -> 1861.9279 | G11: =VLOOKUP(B11,'Curva ABC de Insumos'!A:Q,6,FALSE) -> 1.316,4329468 | H11: =VLOOKUP(B11,'Curva ABC de Insumos'!A:Q,7,FALSE) -> 545,4949246
B12: E9687 | C12: Caminhão carroceria com capacidade de 5 t - 115 kW | D12: Equipamento | E12: H | F12: =G12+H12 -> 356.01336 | G12: =VLOOKUP(B12,'Curva ABC de Insumos'!A:Q,6,FALSE) -> 166,2715845 | H12: =VLOOKUP(B12,'Curva ABC de Insumos'!A:Q,7,FALSE) -> 189,7417793
B13: E9686 | C13: Caminhão carroceria com guindauto com capacidade de 20 t.m - 136 kW | D13: Equipamento | E13: H | F13: =G13+H13 -> 2851.663 | G13: =VLOOKUP(B13,'Curva ABC de Insumos'!A:Q,6,FALSE) -> 2.851,6629975 | H13: =VLOOKUP(B13,'Curva ABC de Insumos'!A:Q,7,FALSE) -> 0,0000000
B14: E9041 | C14: Caminhão carroceria com guindauto com capacidade de 45 t.m - 188 kW | D14: Equipamento | E14: H | F14: =G14+H14 -> 36.096919 | G14: =VLOOKUP(B14,'Curva ABC de Insumos'!A:Q,6,FALSE) -> 36,0969186 | H14: =VLOOKUP(B14,'Curva ABC de Insumos'!A:Q,7,FALSE) -> 0,0000000
B15: E9644 | C15: Caminhão demarcador de faixas com sistema de pintura a frio - 28 kW/115 kW | D15: Equipamento | E15: H | F15: =G15+H15 -> 36.165508 | G15: =VLOOKUP(B15,'Curva ABC de Insumos'!A:Q,6,FALSE) -> 36,1655081 | H15: =VLOOKUP(B15,'Curva ABC de Insumos'!A:Q,7,FALSE) -> 0,0000000
B16: E9645 | C16: Caminhão demarcador de faixas com sistema de pintura a quente - 5 kW/30,10 kW/136 kW | D16: Equipamento | E16: H | F16: =G16+H16 -> 12.862578 | G16: =VLOOKUP(B16,'Curva ABC de Insumos'!A:Q,6,FALSE) -> 12,8625785 | H16: =VLOOKUP(B16,'Curva ABC de Insumos'!A:Q,7,FALSE) -> 0,0000000
B17: E9027 | C17: Caminhão distribuidor de cimento e cal com capacidade de 17 m³ - 210 kW | D17: Equipamento | E17: H | F17: =G17+H17 -> 77.017231 | G17: =VLOOKUP(B17,'Curva ABC de Insumos'!A:Q,6,FALSE) -> 24,6457347 | H17: =VLOOKUP(B17,'Curva ABC de Insumos'!A:Q,7,FALSE) -> 52,3714959
... B60: E9588 | C60: Vibroacabadora de concreto sobre esteiras com fôrmas deslizantes - 205 kW | D60: Equipamento | E60: H | F60: =G60+H60 -> 1.2278824 | G60: =VLOOKUP(B60,'Curva ABC de Insumos'!A:Q,6,FALSE) -> 1,0191384 | H60: =VLOOKUP(B60,'Curva ABC de Insumos'!A:Q,7,FALSE) -> 0,2087440
E61: TOTAL (H): | F61: =SUM(F5:F60) -> 99918.679
B63: Metodologia SICRO 2017 - Volume 07 Canteiro de Obras

Sheet Tabela 53_Centro Oeste ND
A1: SISTEMA NACIONAL DE PESQUISA DE CUSTOS E ÍNDICES DA CONSTRUÇÃO CIVIL - SINAPI
A2: REGIÃO CENTRO-OESTE
A3: Custo Médio em R$/m²
A4: VALORES A PARTIR DE MAIO/2013 CASO A DESONERAÇÃO DA FOLHA DE PAGAMENTO DOS SALÁRIOS NÃO TIVESSE OCORRIDO
A6: MATO GROSSO DO SUL | H6: MATO GROSSO | O6: GOIÁS
A7: ANO | C7: Valores em R$/m² | D7: Variações % | H7: ANO | J7: Valores em R$/m² | K7: Variações % | O7: ANO | Q7: Valores em R$/m² | R7: Variações %
A8: / | D8: Mês | E8: Acumuladas | H8: / | K8: Mês | L8: Acumuladas | O8: / | R8: Mês | S8: Acumuladas
A9: MÊS | E9: Ano | F9: 12 Meses | H9: MÊS | L9: Ano | M9: 12 Meses | O9: MÊS | S9: Ano | T9: 12 Meses
A10: 2001 | B10: JAN | C10: 303.11 | D10: 0.34 | E10: 0.34 | F10: 5.22 | H10: 2001 | I10: JAN | J10: 288.86 | K10: 0.89 | L10: 0.89 | M10: 3.16 | O10: 2001 | P10: JAN | Q10: 304.59 | R10: 0.04 | S10: 0.04 | T10: 6.63
B11: FEV | C11: 304.63 | D11: 0.50146811 | E11: 0.84 | F11: 6.13 | I11: FEV | J11: 289.9 | K11: 0.360036 | L11: 1.26 | M11: 2.93 | P11: FEV | Q11: 303.82 | R11: -0.25279884 | S11: -0.21 | T11: 6.56
B12: MAR | C12: 305.5 | D12: 0.28559236 | E12: 1.13 | F12: 6.36 | I12: MAR | J12: 291.11 | K12: 0.41738531 | L12: 1.68 | M12: 3.49 | P12: MAR | Q12: 304.53 | R12: 0.233691 | S12: 0.02 | T12: 4.98 | W12: <- | X12: Extraído de: | Y12: http://www.cbicdados.com.br/menu/custo-da-construcao/sinapiibge
B13: ABR | C13: 308 | D13: 0.81833061 | E13: 1.96 | F13: 7.35 | I13: ABR | J13: 293.24 | K13: 0.73168218 | L13: 2.42 | M13: 4.68 | P13: ABR | Q13: 307.56 | R13: 0.99497586 | S13: 1.02 | T13: 5.39 | X13: Custo Médio do m² na Construção Civil – Estados da Federação - Valores a partir de maio/2013 caso a desoneração da folha de pagamento dos salários não tivesse ocorrido
B14: MAI | C14: 307.95 | D14: -0.016233766 | E14: 1.94 | F14: 7.17 | I14: MAI | J14: 293.23 | K14: -0.003410176 | L14: 2.42 | M14: 4.72 | P14: MAI | Q14: 307.54 | R14: -0.0065027962 | S14: 1.01 | T14: 4.97
B15: JUN | C15: 315.52 | D15: 2.4581913 | E15: 4.45 | F15: 9.27 | I15: JUN | J15: 298.49 | K15: 1.7938137 | L15: 4.26 | M15: 6.61 | P15: JUN | Q15: 319.25 | R15: 3.8076348 | S15: 4.86 | T15: 9.04
B16: JUL | C16: 317.44 | D16: 0.60851927 | E16: 5.08 | F16: 7.25 | I16: JUL | J16: 301.45 | K16: 0.99165801 | L16: 5.29 | M16: 7.28 | P16: JUL | Q16: 321.98 | R16: 0.85512921 | S16: 5.75 | T16: 7.01
B17: AGO | C17: 320.44 | D17: 0.94506048 | E17: 6.07 | F17: 7.65 | I17: AGO | J17: 310.38 | K17: 2.9623486 | L17: 8.41 | M17: 9.23 | P17: AGO | Q17: 325.67 | R17: 1.1460339 | S17: 6.97 | T17: 7.51
B18: SET | C18: 322.91 | D18: 0.77081513 | E18: 6.89 | F18: 7.91 | I18: SET | J18: 316.16 | K18: 1.8622334 | L18: 10.43 | M18: 11.09 | P18: SET | Q18: 327.31 | R18: 0.50357724 | S18: 7.51 | T18: 7.99
B19: OUT | C19: 324.16 | D19: 0.38710477 | E19: 7.31 | F19: 8.31 | I19: OUT | J19: 320.44 | K19: 1.3537449 | L19: 11.92 | M19: 12.38 | P19: OUT | Q19: 330.22 | R19: 0.88906541 | S19: 8.46 | T19: 8.78
B20: NOV | C20: 324.27 | D20: 0.03393386 | E20: 7.34 | F20: 7.75 | I20: NOV | J20: 321.25 | K20: 0.25277743 | L20: 12.21 | M20: 12.39 | P20: NOV | Q20: 330.88 | R20: 0.19986676 | S20: 8.68 | T20: 8.68
B21: DEZ | C21: 328.19 | D21: 1.2088692 | E21: 8.64 | F21: 8.64 | I21: DEZ | J21: 323.34 | K21: 0.65058366 | L21: 12.94 | M21: 12.94 | P21: DEZ | Q21: 333.33 | R21: 0.74044971 | S21: 9.48 | T21: 9.48
A22: 2002 | B22: JAN | C22: 330.9 | D22: 0.82574119 | E22: 0.82574119 | F22: 9.1682887 | H22: 2002 | I22: JAN | J22: 328.09 | K22: 1.4690419 | L22: 1.4690419 | M22: 13.580973 | O22: 2002 | P22: JAN | Q22: 335.18 | R22: 0.55500555 | S22: 0.55500555 | T22: 10.043009
B23: FEV | C23: 332.79 | D23: 0.57116954 | E23: 1.4016271 | F23: 9.2440009 | I23: FEV | J23: 328.99 | K23: 0.27431497 | L23: 1.7473867 | M23: 13.48396 | P23: FEV | Q23: 338.02 | R23: 0.84730593 | S23: 1.4070141 | T23: 11.256665
B24: MAR | C24: 333.58 | D24: 0.23738694 | E24: 1.6423413 | F24: 9.1914894 | I24: MAR | J24: 330.12 | K24: 0.34347549 | L24: 2.096864 | M24: 13.400433 | P24: MAR | Q24: 339.84 | R24: 0.53842968 | S24: 1.9530195 | T24: 11.594917
B25: ABR | C25: 334.14 | D25: 0.16787577 | E25: 1.8129742 | F25: 8.487013 | I25: ABR | J25: 331.7 | K25: 0.47861384 | L25: 2.5855137 | M25: 13.115537 | P25: ABR | Q25: 340.94 | R25: 0.32368173 | S25: 2.2830228 | T25: 10.853167
B26: MAI | C26: 337.03 | D26: 0.86490693 | E26: 2.6935617 | F26: 9.4430914 | I26: MAI | J26: 333.94 | K26: 0.67530901 | L26: 3.2782829 | M26: 13.8833 | P26: MAI | Q26: 353.64 | R26: 3.7249956 | S26: 6.0930609 | T26: 14.98992
B27: JUN | C27: 345.74 | D27: 2.5843397 | E27: 5.3475121 | F27: 9.5778398 | I27: JUN | J27: 335.51 | K27: 0.47014434 | L27: 3.7638399 | M27: 12.402426 | P27: JUN | Q27: 356.52 | R27: 0.81438751 | S27: 6.9570696 | T27: 11.674236
B28: JUL | C28: 347.01 | D28: 0.36732805 | E28: 5.7344831 | F28: 9.3151462 | I28: JUL | J28: 336.33 | K28: 0.24440404 | L28: 4.0174429 | M28: 11.570741 | P28: JUL | Q28: 356.55 | R28: 0.0084146752 | S28: 6.9660697 | T28: 10.736692
B29: AGO | C29: 349.96 | D29: 0.85011959 | E29: 6.6333526 | F29: 9.212333 | I29: AGO | J29: 338.45 | K29: 0.6303333 | L29: 4.6730995 | M29: 9.0437528 | P29: AGO | Q29: 356.92 | R29: 0.10377226 | S29: 7.0770708 | T29: 9.5956029
B30: SET | C30: 354.06 | D30: 1.1715625 | E30: 7.882629 | F30: 9.6466508 | I30: SET | J30: 353.56 | K30: 4.4644704 | L30: 9.346199 | M30: 11.829453 | P30: SET | Q30: 361.75 | R30: 1.3532444 | S30: 8.5260853 | T30: 10.522135
B31: OUT | C31: 355.3 | D31: 0.35022313 | E31: 8.2604589 | F31: 9.6063672 | I31: OUT | J31: 363.16 | K31: 2.7152393 | L31: 12.31521 | M31: 13.331669 | P31: OUT | Q31: 366.46 | R31: 1.3020041 | S31: 9.9390994 | T31: 10.974502
B32: NOV | C32: 361.59 | D32: 1.7703349 | E32: 10.177032 | F32: 11.508928 | I32: NOV | J32: 370.65 | K32: 2.0624518 | L32: 14.631657 | M32: 15.377432 | P32: NOV | Q32: 370.43 | R32: 1.0833379 | S32: 11.130111 | T32: 11.952974
B33: DEZ | C33: 374.3 | D33: 3.5150308 | E33: 14.049788 | F33: 14.049788 | I33: DEZ | J33: 378.41 | K33: 2.0936193 | L33: 17.031608 | M33: 17.031608 | P33: DEZ | Q33: 380.22 | R33: 2.6428745 | S33: 14.067141 | T33: 14.067141
A34: 2003 | B34: JAN | C34: 385.14 | D34: 2.8960727 | E34: 2.8960727 | F34: 16.391659 | H34: 2003 | I34: JAN | J34: 385.18 | K34: 1.7890648 | L34: 1.7890648 | M34: 17.400713 | O34: 2003 | P34: JAN | Q34: 389.84 | R34: 2.5301141 | S34: 2.5301141 | T34: 16.307656
B35: FEV | C35: 390.88 | D35: 1.4903671 | E35: 4.4296019 | F35: 17.455452 | I35: FEV | J35: 388.45 | K35: 0.84895374 | L35: 2.6532068 | M35: 18.073498 | P35: FEV | Q35: 392.99 | R35: 0.8080238 | S35: 3.3585819 | T35: 16.262351
B36: MAR | C36: 395.29 | D36: 1.1282235 | E36: 5.6078012 | F36: 18.499311 | I36: MAR | J36: 388.82 | K36: 0.095250354 | L36: 2.7509844 | M36: 17.781413 | P36: MAR | Q36: 396.2 | R36: 0.81681468 | S36: 4.2028299 | T36: 16.584275
B37: ABR | C37: 397.73 | D37: 0.61726833 | E37: 6.2596847 | F37: 19.030945 | I37: ABR | J37: 393.15 | K37: 1.1136258 | L37: 3.8952459 | M37: 18.525776 | P37: ABR | Q37: 398.34 | R37: 0.54013125 | S37: 4.765662 | T37: 16.835807
B38: MAI | C38: 401.02 | D38: 0.82719433 | E38: 7.1386588 | F38: 18.98644 | I38: MAI | J38: 394.71 | K38: 0.39679512 | L38: 4.3074972 | M38: 18.19788 | P38: MAI | Q38: 401.54 | R38: 0.80333384 | S38: 5.60728 | T38: 13.544848
B39: JUN | C39: 426.67 | D39: 6.3961897 | E39: 13.991451 | F39: 23.407763 | I39: JUN | J39: 395.75 | K39: 0.26348458 | L39: 4.5823313 | M39: 17.954755 | P39: JUN | Q39: 426.82 | R39: 6.2957613 | S39: 12.256062 | T39: 19.718389
B40: JUL | C40: 429.1 | D40: 0.5695268 | E40: 14.640663 | F40: 23.656379 | I40: JUL | J40: 397.64 | K40: 0.47757423 | L40: 5.0817896 | M40: 18.22912 | P40: JUL | Q40: 426.98 | R40: 0.037486528 | S40: 12.298143 | T40: 19.75319
B41: AGO | C41: 431.7 | D41: 0.60591937 | E41: 15.335293 | F41: 23.356955 | I41: AGO | J41: 400.66 | K41: 0.75948094 | L41: 5.8798658 | M41: 18.380854 | P41: AGO | Q41: 427.96 | R41: 0.22951895 | S41: 12.555889 | T41: 19.90362
...

Sheet Tabela 53_Centro Oeste D
A1: SISTEMA NACIONAL DE PESQUISA DE CUSTOS E ÍNDICES DA CONSTRUÇÃO CIVIL - SINAPI
A2: REGIÃO CENTRO-OESTE
A3: Custo Médio em R$/m²
A4: SÉRIE COM DESONERAÇÃO DA FOLHA DE PAGAMENTO DOS SALÁRIOS
A6: MATO GROSSO DO SUL | H6: MATO GROSSO | O6: GOIÁS
A7: ANO | C7: Valores em R$/m² | D7: Variações % | H7: ANO | J7: Valores em R$/m² | K7: Variações % | O7: ANO | Q7: Valores em R$/m² | R7: Variações %
A8: / | D8: Mês | E8: Acumuladas | H8: / | K8: Mês | L8: Acumuladas | O8: / | R8: Mês | S8: Acumuladas
A9: MÊS | E9: Ano | F9: 12 Meses | H9: MÊS | L9: Ano | M9: 12 Meses | O9: MÊS | S9: Ano | T9: 12 Meses
A10: 2013 | B10: MAI | C10: 811.44 | D10: -5.32 | E10: -4.06 | F10: -0.04 | H10: =A10 -> 2013 | I10: MAI | J10: 836.67 | K10: -5.5 | L10: -5.2 | M10: 2.16 | O10: =A10 -> 2013 | P10: MAI | Q10: 789.73 | R10: -5.58 | S10: -4.77 | T10: 0.32
B11: JUN | C11: 861.15 | D11: =((C11/C10)-1)*100 -> 6.1261461 | E11: 1.82 | F11: 3.7 | I11: JUN | J11: 891.2 | K11: =((J11/J10)-1)*100 -> 6.5175039 | L11: 0.98 | M11: 8.34 | P11: JUN | Q11: 846.71 | R11: =((Q11/Q10)-1)*100 -> 7.2151242 | S11: 2.1 | T11: 7.14
B12: JUL | C12: 818.12 | D12: =((C12/C11)-1)*100 -> -4.9968066 | E12: -3.27 | F12: -1.74 | I12: JUL | J12: 840.27 | K12: =((J12/J11)-1)*100 -> -5.7147666 | L12: -4.79 | M12: 2 | P12: JUL | Q12: 837.61 | R12: =((Q12/Q11)-1)*100 -> -1.0747481 | S12: 1 | T12: 5.96
B13: AGO | C13: 850.41 | D13: =((C13/C12)-1)*100 -> 3.9468538 | E13: 0.55 | F13: 1.78 | I13: AGO | J13: 839.52 | K13: =((J13/J12)-1)*100 -> -0.089257025 | L13: -4.87 | M13: -3.1 | P13: AGO | Q13: 837.58 | R13: =((Q13/Q12)-1)*100 -> -0.0035816191 | S13: 1 | T13: 1.03
B14: SET | C14: 855.14 | D14: =((C14/C13)-1)*100 -> 0.5562023 | E14: 1.11 | F14: 2.3 | I14: SET | J14: 839.91 | K14: =((J14/J13)-1)*100 -> 0.046455117 | L14: -4.83 | M14: -4.32 | P14: SET | Q14: 838.23 | R14: =((Q14/Q13)-1)*100 -> 0.077604527 | S14: 1.08 | T14: 1.15
B15: OUT | C15: 856.38 | D15: =((C15/C14)-1)*100 -> 0.1450055 | E15: 1.26 | F15: 2.04 | I15: OUT | J15: 879.53 | K15: =((J15/J14)-1)*100 -> 4.7171721 | L15: -0.34 | M15: -0.08 | P15: OUT | Q15: 841.72 | R15: =((Q15/Q14)-1)*100 -> 0.41635351 | S15: 1.5 | T15: 1.47
B16: NOV | C16: 856.37 | D16: =((C16/C15)-1)*100 -> -0.0011677059 | E16: 1.26 | F16: 1.75 | I16: NOV | J16: 879.23 | K16: =((J16/J15)-1)*100 -> -0.034109126 | L16: -0.38 | M16: 0.03 | P16: NOV | Q16: 843.1 | R16: =((Q16/Q15)-1)*100 -> 0.16395001 | S16: 1.67 | T16: 1.49
B17: DEZ | C17: 857.45 | D17: =((C17/C16)-1)*100 -> 0.12611371 | E17: 1.38 | F17: 1.38 | I17: DEZ | J17: 883.72 | K17: =((J17/J16)-1)*100 -> 0.51067411 | L17: 0.13 | M17: 0.13 | P17: DEZ | Q17: 843.23 | R17: =((Q17/Q16)-1)*100 -> 0.015419286 | S17: 1.68 | T17: 1.68
A18: 2014 | B18: JAN | C18: 855.33 | D18: =((C18/C17)-1)*100 -> -0.24724474 | E18: =((C18/C$17)-1)*100 -> -0.24724474 | F18: 1.03 | H18: =A18 -> 2014 | I18: JAN | J18: 879.21 | K18: =((J18/J17)-1)*100 -> -0.51034264 | L18: =((J18/J$17)-1)*100 -> -0.51034264 | M18: -0.46 | O18: =A18 -> 2014 | P18: JAN | Q18: 851.38 | R18: =((Q18/Q17)-1)*100 -> 0.96652159 | S18: =((Q18/Q$17)-1)*100 -> 0.96652159 | T18: 2.49
B19: FEV | C19: 860.62 | D19: =((C19/C18)-1)*100 -> 0.61847474 | E19: =((C19/C$17)-1)*100 -> 0.36970086 | F19: 1.02 | I19: FEV | J19: 882.15 | K19: =((J19/J18)-1)*100 -> 0.3343911 | L19: =((J19/J$17)-1)*100 -> -0.17765808 | M19: -0.29 | P19: FEV | Q19: 855.07 | R19: =((Q19/Q18)-1)*100 -> 0.43341399 | S19: =((Q19/Q$17)-1)*100 -> 1.4041246 | T19: 2.85
B20: MAR | C20: 864.37 | D20: =((C20/C19)-1)*100 -> 0.43573238 | E20: =((C20/C$17)-1)*100 -> 0.80704414 | F20: 1.39 | I20: MAR | J20: 884.65 | K20: =((J20/J19)-1)*100 -> 0.28339851 | L20: =((J20/J$17)-1)*100 -> 0.10523695 | M20: 0.13 | P20: MAR | Q20: 858.19 | R20: =((Q20/Q19)-1)*100 -> 0.36488241 | S20: =((Q20/Q$17)-1)*100 -> 1.7741304 | T20: 3.27
B21: ABR | C21: 866.4 | D21: =((C21/C20)-1)*100 -> 0.23485313 | E21: =((C21/C$17)-1)*100 -> 1.0437926 | F21: 1.09 | I21: ABR | J21: 886.08 | K21: =((J21/J20)-1)*100 -> 0.16164585 | L21: =((J21/J$17)-1)*100 -> 0.26705291 | M21: 0.08 | P21: ABR | Q21: 862.27 | R21: =((Q21/Q20)-1)*100 -> 0.4754192 | S21: =((Q21/Q$17)-1)*100 -> 2.2579842 | T21: 3.09
B22: MAI | C22: 871.3 | D22: =((C22/C21)-1)*100 -> 0.56555863 | E22: =((C22/C$17)-1)*100 -> 1.6152545 | F22: =((C22/C10)-1)*100 -> 7.3770088 | I22: MAI | J22: 890.04 | K22: =((J22/J21)-1)*100 -> 0.44691224 | L22: =((J22/J$17)-1)*100 -> 0.71515865 | M22: =((J22/J10)-1)*100 -> 6.378859 | P22: MAI | Q22: 864.36 | R22: =((Q22/Q21)-1)*100 -> 0.24238348 | S22: =((Q22/Q$17)-1)*100 -> 2.5058406 | T22: =((Q22/Q10)-1)*100 -> 9.4500652
B23: JUN | C23: 902.61 | D23: =((C23/C22)-1)*100 -> 3.593481 | E23: =((C23/C$17)-1)*100 -> 5.2667794 | F23: =((C23/C11)-1)*100 -> 4.8144922 | I23: JUN | J23: 891.17 | K23: =((J23/J22)-1)*100 -> 0.12696059 | L23: =((J23/J$17)-1)*100 -> 0.8430272 | M23: =((J23/J11)-1)*100 -> -0.0033662478 | P23: JUN | Q23: 868.13 | R23: =((Q23/Q22)-1)*100 -> 0.43616086 | S23: =((Q23/Q$17)-1)*100 -> 2.952931 | T23: =((Q23/Q11)-1)*100 -> 2.5297918
B24: JUL | C24: 904.71 | D24: =((C24/C23)-1)*100 -> 0.23265862 | E24: =((C24/C$17)-1)*100 -> 5.5116916 | F24: =((C24/C12)-1)*100 -> 10.584022 | I24: JUL | J24: 891.04 | K24: =((J24/J23)-1)*100 -> -0.014587565 | L24: =((J24/J$17)-1)*100 -> 0.82831666 | M24: =((J24/J12)-1)*100 -> 6.0421055 | P24: JUL | Q24: 868.7 | R24: =((Q24/Q23)-1)*100 -> 0.065658369 | S24: =((Q24/Q$17)-1)*100 -> 3.0205282 | T24: =((Q24/Q12)-1)*100 -> 3.7117513
B25: AGO | C25: 907.11 | D25: =((C25/C24)-1)*100 -> 0.26527838 | E25: =((C25/C$17)-1)*100 -> 5.7915913 | F25: =((C25/C13)-1)*100 -> 6.6673722 | I25: AGO | J25: 933.87 | K25: =((J25/J24)-1)*100 -> 4.8067427 | L25: =((J25/J$17)-1)*100 -> 5.6748744 | M25: =((J25/J13)-1)*100 -> 11.238565 | P25: AGO | Q25: 898.69 | R25: =((Q25/Q24)-1)*100 -> 3.452285 | S25: =((Q25/Q$17)-1)*100 -> 6.5770905 | T25: =((Q25/Q13)-1)*100 -> 7.2960195
B26: SET | C26: 906.56 | D26: =((C26/C25)-1)*100 -> -0.060632117 | E26: =((C26/C$17)-1)*100 -> 5.7274477 | F26: =((C26/C14)-1)*100 -> 6.0130505 | I26: SET | J26: 933.61 | K26: =((J26/J25)-1)*100 -> -0.027841134 | L26: =((J26/J$17)-1)*100 -> 5.6454533 | M26: =((J26/J14)-1)*100 -> 11.155957 | P26: SET | Q26: 899.28 | R26: =((Q26/Q25)-1)*100 -> 0.065651114 | S26: =((Q26/Q$17)-1)*100 -> 6.6470595 | T26: =((Q26/Q14)-1)*100 -> 7.2832039
B27: OUT | C27: 908.36 | D27: =((C27/C26)-1)*100 -> 0.19855277 | E27: =((C27/C$17)-1)*100 -> 5.9373724 | F27: =((C27/C15)-1)*100 -> 6.0697354 | I27: OUT | J27: 931.85 | K27: =((J27/J26)-1)*100 -> -0.18851555 | L27: =((J27/J$17)-1)*100 -> 5.4462952 | M27: =((J27/J15)-1)*100 -> 5.9486317 | P27: OUT | Q27: 894.36 | R27: =((Q27/Q26)-1)*100 -> -0.54710435 | S27: =((Q27/Q$17)-1)*100 -> 6.0635888 | T27: =((Q27/Q15)-1)*100 -> 6.2538611
B28: NOV | C28: 907.24 | D28: =((C28/C27)-1)*100 -> -0.12329913 | E28: =((C28/C$17)-1)*100 -> 5.8067526 | F28: 5,95 (1) | I28: NOV | J28: 929.95 | K28: =((J28/J27)-1)*100 -> -0.20389548 | L28: =((J28/J$17)-1)*100 -> 5.231295 | M28: =((J28/J16)-1)*100 -> 5.768684 | P28: NOV | Q28: 897.79 | R28: =((Q28/Q27)-1)*100 -> 0.38351447 | S28: =((Q28/Q$17)-1)*100 -> 6.470358 | T28: =((Q28/Q16)-1)*100 -> 6.486775
B29: DEZ | C29: 905.66 | D29: =((C29/C28)-1)*100 -> -0.17415458 | E29: 5,63 (1) | F29: 5,63 (1) | I29: DEZ | J29: 933.62 | K29: =((J29/J28)-1)*100 -> 0.39464487 | L29: =((J29/J$17)-1)*100 -> 5.6465849 | M29: =((J29/J17)-1)*100 -> 5.6465849 | P29: DEZ | Q29: 905.88 | R29: =((Q29/Q28)-1)*100 -> 0.90110159 | S29: =((Q29/Q$17)-1)*100 -> 7.4297641 | T29: =((Q29/Q17)-1)*100 -> 7.4297641
A30: 2015 | B30: JAN | C30: 906.19 | D30: =((C30/C29)-1)*100 -> 0.058520858 | E30: =((C30/C$29)-1)*100 -> 0.058520858 | F30: 5,96 (1) | H30: 2015 | I30: JAN | J30: 933.62 | K30: =((J30/J29)-1)*100 -> 0 | L30: =((J30/J$29)-1)*100 -> 0 | M30: =((J30/J18)-1)*100 -> 6.1885101 | O30: 2015 | P30: JAN | Q30: 907.16 | R30: =((Q30/Q29)-1)*100 -> 0.14129907 | S30: =((Q30/Q$29)-1)*100 -> 0.14129907 | T30: =((Q30/Q18)-1)*100 -> 6.551716
B31: FEV | C31: 913.51 | D31: =((C31/C30)-1)*100 -> 0.80777762 | E31: =((C31/C$29)-1)*100 -> 0.86677119 | F31: 6,16 (1) | I31: FEV | J31: 934.54 | K31: =((J31/J30)-1)*100 -> 0.098541162 | L31: =((J31/J$29)-1)*100 -> 0.098541162 | M31: 5,95 (1) | P31: FEV | Q31: 912.72 | R31: =((Q31/Q30)-1)*100 -> 0.6129018 | S31: 0,75 (1) | T31: =((Q31/Q19)-1)*100 -> 6.7421381
B32: MAR | C32: 914.33 | D32: =((C32/C31)-1)*100 -> 0.089763659 | E32: =((C32/C$29)-1)*100 -> 0.9573129 | F32: 5,79 (1) | I32: MAR | J32: 933.81 | K32: =((J32/J31)-1)*100 -> -0.078113296 | L32: =((J32/J$29)-1)*100 -> 0.020350892 | M32: =((J32/J20)-1)*100 -> 5.5569999 | P32: MAR | Q32: 914.92 | R32: =((Q32/Q31)-1)*100 -> 0.24103778 | S32: 0,99 (1) | T32: =((Q32/Q20)-1)*100 -> 6.6104243
B33: ABR | C33: 913.78 | D33: =((C33/C32)-1)*100 -> -0.060153336 | E33: =((C33/C$29)-1)*100 -> 0.89658371 | F33: 5,49 (1) | I33: ABR | J33: 935.45 | K33: =((J33/J32)-1)*100 -> 0.17562459 | L33: =((J33/J$29)-1)*100 -> 0.19601123 | M33: 5,59 (1) | P33: ABR | Q33: 915.25 | R33: =((Q33/Q32)-1)*100 -> 0.036068727 | S33: =((Q33/Q$29)-1)*100 -> 1.0343533 | T33: =((Q33/Q21)-1)*100 -> 6.1442472
B34: MAI | C34: 917.55 | D34: =((C34/C33)-1)*100 -> 0.41257195 | E34: =((C34/C$29)-1)*100 -> 1.3128547 | F34: 5,32 (1) | I34: MAI | J34: 936.64 | K34: =((J34/J33)-1)*100 -> 0.1272115 | L34: 0,33 (1) | M34: 5,25 (1) | P34: MAI | Q34: 916.85 | R34: =((Q34/Q33)-1)*100 -> 0.17481562 | S34: 1,20 (1) | T34: =((Q34/Q22)-1)*100 -> 6.0727012
B35: JUN | C35: 948.49 | D35: =((C35/C34)-1)*100 -> 3.3720233 | E35: =((C35/C$29)-1)*100 -> 4.7291478 | F35: 5,09 (1) | I35: JUN | J35: 937.43 | K35: =((J35/J34)-1)*100 -> 0.084344038 | L35: =((J35/J$29)-1)*100 -> 0.40808894 | M35: 5,20 (1) | P35: JUN | Q35: 918.96 | R35: =((Q35/Q34)-1)*100 -> 0.23013579 | S35: =((Q35/Q$29)-1)*100 -> 1.4438999 | T35: 5,85 (1)
B36: JUL | C36: 953.11 | D36: =((C36/C35)-1)*100 -> 0.48709001 | E36: =((C36/C$29)-1)*100 -> 5.239273 | F36: 5,37 (1) | I36: JUL | J36: 941.25 | K36: =((J36/J35)-1)*100 -> 0.40749709 | L36: =((J36/J$29)-1)*100 -> 0.81724899 | M36: 5,64 (1) | P36: JUL | Q36: 923.21 | R36: =((Q36/Q35)-1)*100 -> 0.46247932 | S36: 1,90 (1) | T36: 6,26 (1)
B37: AGO | C37: 954.55 | D37: =((C37/C36)-1)*100 -> 0.15108434 | E37: =((C37/C$29)-1)*100 -> 5.3982731 | F37: 5,24 (1) | I37: AGO | J37: 971.4 | K37: =((J37/J36)-1)*100 -> 3.2031873 | L37: =((J37/J$29)-1)*100 -> 4.0466143 | M37: =((J37/J25)-1)*100 -> 4.0187606 | P37: AGO | Q37: 959.32 | R37: =((Q37/Q36)-1)*100 -> 3.9113528 | S37: 5,89 (1) | T37: 6,73 (1)
B38: SET | C38: 953.95 | D38: =((C38/C37)-1)*100 -> -0.062856844 | E38: 5,34 (1) | F38: 5,24 (1) | I38: SET | J38: 975.23 | K38: =((J38/J37)-1)*100 -> 0.3942763 | L38: 4,45 (1) | M38: 4,45 (1) | P38: SET | Q38: 958.95 | R38: =((Q38/Q37)-1)*100 -> -0.038568986 | S38: 5,85 (1) | T38: 6,62 (1)
B39: OUT | C39: 951.92 | D39: =((C39/C38)-1)*100 -> -0.21279941 | E39: 5,12 (1) | F39: 4,81 (1) | I39: OUT | J39: 975.57 | K39: =((J39/J38)-1)*100 -> 0.034863571 | L39: =((J39/J$29)-1)*100 -> 4.4932628 | M39: 4,68 (1) | P39: OUT | Q39: 960.96 | R39: =((Q39/Q38)-1)*100 -> 0.20960425 | S39: 6,07 (1) | T39: 7,43 (1)
B40: NOV | C40: 956.37 | D40: =((C40/C39)-1)*100 -> 0.46747626 | E40: 5,61 (1) | F40: 5,43 (1) | I40: NOV | J40: 976.53 | K40: =((J40/J39)-1)*100 -> 0.09840401 | L40: 4,59 (1) | M40: 5,00 (1) | P40: NOV | Q40: 963.68 | R40: =((Q40/Q39)-1)*100 -> 0.28305028 | S40: 6,37 (1) | T40: 7,32 (1)
B41: DEZ | C41: 957.68 | D41: =((C41/C40)-1)*100 -> 0.13697627 | E41: 5,76 (1) | F41: 5,76 (1) | I41: DEZ | J41: 980.45 | K41: =((J41/J40)-1)*100 -> 0.40142136 | L41: 5,01 (1) | M41: 5,01 (1) | P41: DEZ | Q41: 958.47 | R41: =((Q41/Q40)-1)*100 -> -0.5406359 | S41: 5,79 (1) | T41: 5,79 (1)
...

Sheet Curva ABC de Insumos
C1: Obra | D1: Bancos | E1: B.D.I. | H1: Encargos Sociais
C2: EXP SAM - ND - REV01 - VER00 (nova numeração) | D2: SINAPI - 04/2022 - Distrito Federal SBC - 04/2022 - Distrito Federal SICRO3 - 04/2022 - Distrito Federal ORSE - 04/2022 - Sergipe | E2: 20,94% | H2: Não Desonerado: Horista: 110,14% Mensalista: 70,03%
A3: Curva ABC de Insumos
A4: Código | B4: Banco | C4: Descrição | D4: Tipo | E4: Und | F4: Operativa | G4: Improdutiva | H4: Operativa | I4: Improdutiva | J4: Operativa | K4: Improdutiva | L4: Geral | M4: Peso | N4: Valor Acumulado | O4: Peso Acumulado
A5: IN0506 | B5: Próprio | C5: Fornecimento do conjunto condutor de terceiro trilho, com capacidade nominal de 2900 A, completo, incluindo todos os componentes necessários para montagem do conjunto (Viga I, barras de alumínio, suportes, tirefondes, capas, espaçadores, garras, dentre outros). O conjunto condutor deverá atender as características técnicas indicadas na especificação técnica ET.4/EF.99/00.301. Quantitativo conforme Lista de Material LM.3/EF.99/00.302. | D5: Material | E5: m | F5: 8.567,0000000 | H5: 2.830,24 | J5: 24.246.666,08 | L5: 24246666 | M5: 8,34% | N5: 24246666 | O5: 8,34%
A6: SE0601 | B6: Próprio | C6: ADMINISTRAÇÃO LOCAL - EXPANSÃO SAMAMBAIA | D6: Mão de Obra | E6: UN | F6: 1,0000000 | H6: 17.614.579,90 | J6: 17.614.579,90 | L6: 17614580 | M6: 6,06% | N6: 41861246 | O6: 14,40%
A7: IN0472 | B7: Próprio | C7: Fornecimento de Conjunto de cubículos blindados de 1kVcc constituído em chapa de aço galvanizada por imersão de zinco a quente e estruturas metálicas com dispositivos de alívio de pressão, instalação abrigada, montagem vertical isolada da malha de terra da subestação. O conjunto de cubículos de 1 kVcc deverá atender as características técnicas conforme a especificação ET.4/EB.99/40.201. O fornecimento deve incluir os IEDs instalados nos compartimentos específicos dos cubículos 2, 3, 4 e 5, atendendo as características das especificações técnicas ET.4/EX.99/00.501 e ET.4/EX.99/00.502-2 e observando a indicação no diagrama DG.4/EX.99/00.502. | D7: Material | E7: un | F7: 3,0000000 | H7: 5.724.797,23 | J7: 17.174.391,69 | L7: 17174392 | M7: 5,91% | N7: 59035638 | O7: 20,31%
A8: E9667 | B8: SICRO3 | C8: Caminhão basculante com capacidade de 14 m³ - 188 kW | D8: Equipamento | E8: UN | F8: 36.216,2596390 | G8: 1.275,2928723 | H8: 285,74 | I8: 80,94 | J8: 10.348.571,65 | K8: 103.222,21 | L8: 10451794 | M8: 3,60% | N8: 69487432 | O8: 23,90%
A9: M2202 | B9: SICRO3 | C9: Trilho TR57 em aço-carbono - C = 12 m | D9: Material | E9: t | F9: 785,2200000 | H9: 11.667,30 | J9: 9.161.395,81 | L9: 9161395.8 | M9: 3,15% | N9: 78648827 | O9: 27,06%
A10: SE0327 | B10: Próprio | C10: Montagem, comissionamento e testes do conjunto condutor do terceiro trilho com capacidade nominal de 2900 A. | D10: Serviços | E10: un | F10: 8.567,0000000 | H10: 675,65 | J10: 5.788.293,55 | L10: 5788293.5 | M10: 1,99% | N10: 84437121 | O10: 29,05%
A11: IN0521 | B11: Próprio | C11: Fornecimento de cabo elétrico isolado, singelo, potência em média tensão, 8,7/15 kV, cobre, tempera mole, redondo compactado, seção nominal 300 mm² temperatura de 90°C, classe de encordoamento 2, isolamento HEPR, blindagem isolação metálica em cobre; capa externa em poliolefínico, antichama, livre de halogênio e gases corrosivos. Quantitativo conforme Lista de Cabos LC.4/EE.99/00.103. | D11: Material | E11: m | F11: 8.340,0000000 | H11: 607,51 | J11: 5.066.633,40 | L11: 5066633.4 | M11: 1,74% | N11: 89503754 | O11: 30,79%
A12: IN0257 | B12: Próprio | C12: AÇO CA-50, 25,0MM, VERGALHÃO | D12: Material | E12: KG | F12: 626.714,6156960 | H12: 7,66 | J12: 4.800.633,96 | L12: 4800634 | M12: 1,65% | N12: 94304388 | O12: 32,44%
A13: IN0466 | B13: Próprio | C13: Fornecimento de Conjunto de cubículos de 15 kV para as SRs 64 e 65, constituído de 8 cubículos interligados pelo mesmo barramento e um cubículo isolado desse barramento. O conjunto de cubículos deve atender as características técnicas da especificação ET.4/EB.99/01.201. O fornecimento deve incluir os IEDs instalados nos compartimentos específicos dos cubículos, atendendo as características das especificações técnicas ET.4/EX.99/00.501 e ET.4/EX.99/00.502-2 e observando a indicação nos diagramas DG.4/EX.99/00.502, DG.4/EX.99/00.503. | D13: Material | E13: un | F13: 2,0000000 | H13: 2.252.624,06 | J13: 4.505.248,12 | L13: 4505248.1 | M13: 1,55% | N13: 98809636 | O13: 33,99%
A14: IN0519 | B14: Próprio | C14: Fornecimento de cabo de cobre, singelo, potência em média tensão, 8,7/15 kV, tempera mole, redondo compactado, seção nominal 120 mm² temperatura de 90°C, classe de encordoamento 2, isolamento HEPR, blindagem isolação metálica em cobre; capa externa em poliolefínico, antichama, livre de halogênio e gases corrosivos. Quantitativo conforme Lista de Cabos LC.4/EE.99/00.103. | D14: Material | E14: m | F14: 19.575,0000000 | H14: 225,33 | J14: 4.410.834,75 | L14: 4410834.8 | M14: 1,52% | N14: 1.0322047e+08 | O14: 35,51%
A15: IN0480 | B15: Próprio | C15: Fornecimento de Cabo de cobre, unipolar singelo seção nominal 400 mm², isolação 0,6/1 kV em borracha HEPR, 90ºC , antichamas, livre de halogênio e gases corrosivos e cobertura em poliolefínica não halogenada na cor preta. Quantitativo conforme Lista de Cabos LC.4/EB.34/00.201, LC.4/EB.35/00.201 e LC.4/EB.36/00.201 | D15: Material | E15: m | F15: 9.300,0000000 | H15: 447,58 | J15: 4.162.494,00 | L15: 4162494 | M15: 1,43% | N15: 1.0738297e+08 | O15: 36,94%
A16: IN0255 | B16: Próprio | C16: AÇO CA-50, 16,0MM, VERGALHÃO | D16: Material | E16: KG | F16: 535.588,4165700 | H16: 7,64 | J16: 4.091.895,50 | L16: 4091895.5 | M16: 1,41% | N16: 1.1147486e+08 | O16: 38,35%
A17: P9824 | B17: SICRO3 | C17: Servente | D17: Mão de Obra | E17: h | F17: 201.499,6312212 | H17: 17,97 | J17: 3.621.049,12 | L17: 3621049.1 | M17: 1,25% | N17: 1.1509591e+08 | O17: 39,59%
A18: 00001525 | B18: SINAPI | C18: CONCRETO USINADO BOMBEAVEL, CLASSE DE RESISTENCIA C30, COM BRITA 0 E 1, SLUMP = 100 +/- 20 MM, INCLUI SERVICO DE BOMBEAMENTO (NBR 8953) | D18: Material | E18: m³ | F18: 7.644,0901400 | H18: 450,64 | J18: 3.444.732,78 | L18: 3444732.8 | M18: 1,18% | N18: 1.1854064e+08 | O18: 40,78%
A19: IN0517 | B19: Próprio | C19: Fornecimento de Painel de Entrada de Energia (PEE/SAM) formado por 4 cubículos de 15 kV, instalação ao tempo, incluindo IEDs, conforme especificações técnicas ET.3/EE.99/00.101, ET.4/EX.99/00.501, ET.4/EX.99/00.502-2 e ET.4/EX.99/00.503. O fornecimento deverá abranger ainda o projeto de fabricação e testes de plataforma em fábrica. | D19: Material | E19: un | F19: 1,0000000 | H19: 3.326.447,58 | J19: 3.326.447,58 | L19: 3326447.6 | M19: 1,14% | N19: 1.2186709e+08 | O19: 41,92%
A20: IN0467 | B20: Próprio | C20: Fornecimento de Conjunto de cubículos de 15 kV para a SR 63, constituído de 9 cubículos interligados pelo mesmo barramento e um cubículo isolado desse barramento. O conjunto de cubículos deve atender as características técnicas da especificação ET.4/EB.99/01.201. O fornecimento deve incluir os IEDs instalados nos compartimentos específicos dos cubículos, atendendo as características das especificações técnicas ET.4/EX.99/00.501 e ET.4/EX.99/00.502-2 e observando a indicação nos diagramas DG.4/EX.99/00.502, DG.4/EX.99/00.503 e DG.4/EX.99/00.506. | D20: Material | E20: un | F20: 1,0000000 | H20: 3.100.000,00 | J20: 3.100.000,00 | L20: 3100000 | M20: 1,07% | N20: 1.2496709e+08 | O20: 42,99%
... A34: IN0252 | B34: Próprio | C34: AÇO CA-50, 8,0MM, VERGALHÃO | D34: Material | E34: KG | F34: 234.594,5706000 | H34: 8,54 | J34: 2.003.437,63 | L34: 2003437.6 | M34: 0,69% | N34: 1.5837871e+08 | O34: 54,48%
A35: E9526 | B35: SICRO3 | C35: Retroescavadeira de pneus com capacidade de 0,76 m³ - 58 kW | D35: Equipamento | E35: UN | F35: 13.744,9493252 | G35: 0,0000000 | H35: 139,69 | I35: 65,21 | J35: 1.919.982,49 | K35: 0,00 | L35: 1919982.5 | M35: 0,66% | N35: 1.6029869e+08 | O35: 55,14%
A36: SE0311 | B36: Próprio | C36: Montagem, comissionamento e testes da cablagem de 750 Vcc (400 mm²), conforme Projeto Básico (A montagem da cablagem de 750 Vcc deve considerar a interligação com o terceiro trilho e via). | D36: Serviços | E36: m | F36: 8.400,0000000 | H36: 200,00 | J36: 1.680.000,00 | L36: 1680000 | M36: 0,58% | N36: 1.6197869e+08 | O36: 55,72%
A37: 00001358 | B37: SINAPI | C37: CHAPA/PAINEL DE MADEIRA COMPENSADA RESINADA (MADEIRITE RESINADO ROSA) PARA FORMA DE CONCRETO, DE 2200 x 1100 MM, E = 17 MM | D37: Material | E37: m² | F37: 25.227,5900975 | H37: 65,58 | J37: 1.654.425,36 | L37: 1654425.4 | M37: 0,57% | N37: 1.6363312e+08 | O37: 56,29%
A38: 00037370 | B38: SINAPI | C38: ALIMENTACAO - HORISTA (COLETADO CAIXA) | D38: Outros | E38: H | F38: 576.944,9189050 | H38: 2,85 | J38: 1.644.293,02 | L38: 1644293 | M38: 0,57% | N38: 1.6527741e+08 | O38: 56,86%
A39: 00001527 | B39: SINAPI | C39: CONCRETO USINADO BOMBEAVEL, CLASSE DE RESISTENCIA C25, COM BRITA 0 E 1, SLUMP = 100 +/- 20 MM, INCLUI SERVICO DE BOMBEAMENTO (NBR 8953) | D39: Material | E39: m³ | F39: 3.759,2100100 | H39: 437,19 | J39: 1.643.489,02 | L39: 1643489 | M39: 0,57% | N39: 1.669209e+08 | O39: 57,42%
A40: 00000378 | B40: SINAPI | C40: ARMADOR (HORISTA) | D40: Mão de Obra | E40: H | F40: 91.670,0476073 | H40: 17,88 | J40: 1.639.060,45 | L40: 1639060.5 | M40: 0,56% | N40: 1.6855996e+08 | O40: 57,98%
A41: IN0471 | B41: Próprio | C41: Fornecimento de Retificador de Tração de 12 pulsos, potência de retificação nominal de 2750 kW, para operação conjunta com transformador de tração de potência nominal de 3025 kVA. Tensão de entrada em corrente alternada definida pelo fornecedor em função da regulação do Grupo Retificador (Transformador/Retificado) tensão nominal de saída em corrente contínua 750 Vcc. O Retificador deverá atender as características técnicas conforme a especificação ET.4/EB.99/26.201. . | D41: Material | E41: un | F41: 2,0000000 | H41: 790.815,76 | J41: 1.581.631,52 | L41: 1581631.5 | M41: 0,54% | N41: 1.7014159e+08 | O41: 58,53%
A42: IN0251 | B42: Próprio | C42: AÇO CA-50, 6,3MM, VERGALHÃO | D42: Material | E42: KG | F42: 168.521,4347600 | H42: 8,70 | J42: 1.466.136,48 | L42: 1466136.5 | M42: 0,50% | N42: 1.7160773e+08 | O42: 59,03%
A43: IN0445 | B43: Próprio | C43: TUNNEL LINER DE CHAPA EPÓXI - E = 2,7 MM E D = 2,60 M, COM REVESTIMENTO INTERNO DE CONCRETO A 360° DE RECOBRIMENTO. | D43: Material | E43: M | F43: 170,3200000 | H43: 8.547,00 | J43: 1.455.725,04 | L43: 1455725 | M43: 0,50% | N43: 1.7306345e+08 | O43: 59,53%
A44: IN0446 | B44: Próprio | C44: TUNNEL LINER DE CHAPA EPÓXI - E = 3,4 MM E D = 2,60 M, COM REVESTIMENTO INTERNO DE CONCRETO A 360° DE RECOBRIMENTO. | D44: Material | E44: M | F44: 133,5200000 | H44: 10.382,00 | J44: 1.386.204,64 | L44: 1386204.6 | M44: 0,48% | N44: 1.7444966e+08 | O44: 60,01%
A45: IN0166 | B45: Próprio | C45: CONJUNTO DE FIXAÇÃO DE TRILHO UIC 60 EM LAJE FIXA | D45: Material | E45: un | F45: 1.126,4000000 | H45: 1.203,60 | J45: 1.355.735,04 | L45: 1355735 | M45: 0,47% | N45: 1.7580539e+08 | O45: 60,48%
A46: M2353 | B46: SICRO3 | C46: Conjunto para solda aluminotérmica de TR57 - porção, fôrmas, acendedor, pasta de vedação e cadinho | D46: Material | E46: un | F46: 1.030,3900000 | H46: 1.285,04 | J46: 1.324.090,92 | L46: 1324090.9 | M46: 0,46% | N46: 1.7712948e+08 | O46: 60,93%
A47: IN0507 | B47: Próprio | C47: Fornecimento de chave secionadora do circuito de tração conforme especificação técnica ET.4/EF.99/00.302. Quantitativo conforme Lista de Material LM.3/EF.99/00.302. | D47: Material | E47: un | F47: 4,0000000 | H47: 326.952,79 | J47: 1.307.811,16 | L47: 1307811.2 | M47: 0,45% | N47: 1.7843729e+08 | O47: 61,38%
... A75: IN0102 | B75: Próprio | C75: CONJUNTO DE FIXAÇÃO DE TRILHO UIC 60 EM DORMENTE DE CONCRETO | D75: Material | E75: UN | F75: 18.618,3800000 | H75: 48,16 | J75: 896.661,18 | L75: 896661.18 | M75: 0,31% | N75: 2.0864196e+08 | O75: 71,77%
A76: E9686 | B76: SICRO3 | C76: Caminhão carroceria com guindauto com capacidade de 20 t.m - 136 kW | D76: Equipamento | E76: UN | F76: 2.851,6629975 | G76: 0,0000000 | H76: 300,66 | I76: 101,44 | J76: 857.386,70 | K76: 0,00 | L76: 857386.7 | M76: 0,29% | N76: 2.0949934e+08 | O76: 72,07%
A77: 00040453 | B77: SINAPI | C77: GABIAO MANTA (COLCHAO) MALHA HEXAGONAL 6 X 8 CM (ZN/AL REVESTIDO COM POLIMERO), FIO 2,0 MM, DIMENSOES 5,0 X 2,0 X 0,23 M (C X L X A) | D77: Material | E77: m² | F77: 5.146,8800000 | H77: 160,92 | J77: 828.235,93 | L77: 828235.93 | M77: 0,28% | N77: 2.1032758e+08 | O77: 72,35%
A78: PEX.SAM 111 | B78: Próprio | C78: PROJETO EXECUTIVO DO SISTEMA DE PROTEÇÃO E CONTROLE | D78: Verba | E78: CJ | F78: 1,1000000 | H78: 739.736,98 | J78: 813.710,68 | L78: 813710.68 | M78: 0,28% | N78: 2.1114129e+08 | O78: 72,63%
A79: M2257 | B79: SICRO3 | C79: AMV tipo TR57, abertura 1:14, bitola larga | D79: Material | E79: un | F79: 4,0000000 | H79: 202.792,14 | J79: 811.168,54 | L79: 811168.54 | M79: 0,28% | N79: 2.1195246e+08 | O79: 72,91%
A80: 00037371 | B80: SINAPI | C80: TRANSPORTE - HORISTA (COLETADO CAIXA) | D80: Serviços | E80: H | F80: 576.944,9189050 | H80: 1,36 | J80: 784.645,09 | L80: 784645.09 | M80: 0,27% | N80: 2.127371e+08 | O80: 73,18%
...
