Workbook

Sheet Parcela Fixa (Mão de Obra)
C2: ORÇAMENTO PARA CONTRATAÇÃO DE EMPRESA ESPECIALIZADA PARA | H2: Nº CODIFICAÇÃO METRÔ:
H5: DATA BASE: | I5: Janeiro/2018
B6: ADMINISTRAÇÃO LOCAL
B7: ITEM/ CÓDIGO | C7: DESCRIÇÃO DOS ITENS | F7: UNIDADE | G7: QUANTIDADE | H7: CUSTO UNITÁRIO (R$) | I7: CUSTO TOTAL (R$)
B9: 01.00.00.000 | C9: PARCELA FIXA DA ADMINISTRAÇÃO LOCAL | I9: =I10+I35 -> #REF!
B10: 01.01.00.000 | C10: PARCELA FIXA (MÃO DE OBRA) | I10: =I11+I26 -> 75148.047
B11: 01.01.00.000 | C11: Gerência Técnica | I11: =I12+I23 -> 50417.06
B12: 01.01.01.000 | C12: Geral | I12: =SUM(I13:I17) -> 47009.862 | K12: Encargos Sociais
B13: 9819 | C13: Engenheiro Supervisor | F13: mês | G13: 1 | H13: =11285.2435*K13 -> 21103.146 | I13: =G13*H13 -> 21103.146 | K13: 1.869977
B14: 9840 | C14: Encarregado Geral | F14: mês | G14: 1 | H14: =6119.2723*K14 -> 11775.946 | I14: =G14*H14 -> 11775.946 | K14: 1.924403
B15: 9897 | C15: Técnico em Meio Ambiente | F15: mês | G15: 1 | H15: =3604.6066*K15 -> 7153.7563 | I15: =G15*H15 -> 7153.7563 | K15: 1.984615
B16: 9948 | C16: Motorista | F16: mês | G16: 1 | H16: =1667.6528*K16 -> 3537.0582 | I16: =G16*H16 -> 3537.0582 | K16: 2.12098
B17: 9878 | C17: Secretária | F17: mês | G17: 1 | H17: =1617*K17 -> 3439.9557 | I17: =G17*H17 -> 3439.9557 | K17: 2.127369
B18: 01.01.02.000 | C18: V | I18: =SUM(I23:I27) -> 50362.982
B22: 9878 | C22: Secretária | F22: mês | G22: 1 | H22: =1617*K22 -> 0 | I22: =G22*H22 -> 0
B23: 01.01.02.000 | C23: Auxiliar | I23: =SUM(I24:I25) -> 3407.1977
C24: Engenheiro Auxiliar | F24: mês | G24: 0 | H24: =1551.3374*K24 -> 0 | I24: =G24*H24 -> 0
B25: 9903 | C25: Auxiliar técnico | F25: mês | G25: 1 | H25: =1551.3374*K25 -> 3407.1977 | I25: =G25*H25 -> 3407.1977 | K25: 2.196297
B26: 01.02.00.000 | C26: Gerência Administrativa | I26: =I27+I32 -> 24730.987
B27: 01.02.01.000 | C27: Geral | I27: =SUM(I28:I31) -> 18817.6
B28: 9883 | C28: Chefe do setor Administrativo | F28: mês | G28: 1 | H28: =3148.6684*K28 -> 6332.1863 | I28: =G28*H28 -> 6332.1863 | K28: 2.011068
B29: 9896 | C29: Porteiro | F29: mês | G29: 1 | H29: =1617*K29 -> 3466.1268 | I29: =G29*H29 -> 3466.1268 | K29: 2.143554
B30: 9827 | C30: Vigia | F30: mês | G30: 2 | H30: =1073.3363*K30 -> 2741.1141 | I30: =G30*H30 -> 5482.2283 | K30: 2.553826
B31: 9948 | C31: Motorista | F31: mês | G31: 1 | H31: =H16 -> 3537.0582 | I31: =G31*H31 -> 3537.0582 | K31: 2.12098
B32: 01.02.01.000 | C32: Auxiliar | I32: =SUM(I33:I34) -> 5913.3878
B33: 9806 | C33: Auxiliar administrativo | F33: mês | G33: 1 | H33: =1592.0013*K33 -> 3503.6446 | I33: =G33*H33 -> 3503.6446 | K33: 2.20078
B34: 9842 | C34: Faxineiro | F34: mês | G34: 1 | H34: =1057.5436*K34 -> 2409.7432 | I34: =G34*H34 -> 2409.7432 | K34: 2.278623
B35: 01.00.00.000 | C35: PARCELA FIXA (VEÍCULOS) | I35: =I36+I39 -> #REF!
B36: 01.01.00.000 | C36: Gerência Técnica | I36: =SUM(I37:I38) -> 0
B37: E9093 | C37: Veículo leve - 53 Kw | F37: mês | G37: 1 | H37: =11285.2435*K37 -> 0 | I37: =G37*H37 -> 0
F38: mês | G38: 1 | H38: =6119.2723*K38 -> 0 | I38: =G38*H38 -> 0
B39: 01.02.00.000 | C39: Gerência Administrativa | I39: =I40+I43 -> #REF!
B40: E9093 | C40: Veículo leve - 53 Kw | F40: mês | G40: 1 | H40: =11285.2435*K40 -> 0 | I40: =G40*H40 -> 0
F41: mês | G41: 1 | H41: =1617*K41 -> 0 | I41: =G41*H41 -> 0
B43: 02.00.00.000 | C43: PARCELA VINCULADA | I43: =I44+I60 -> #REF!
B44: 01.00.00.000 | C44: PARCELA VINCULADA (MÃO DE OBRA) | I44: =I45+I55 -> #REF!
B45: 01.01.00.000 | C45: ENCARREGADOS DE PRODUÇÃO | I45: =I46+#REF! -> #REF!
B46: 01.01.01.000 | I46: =SUM(I47:I53) -> 0
C47: Encarregado de pavimentação | F47: mês | G47: 1 | H47: =11285.2435*K47 -> 0 | I47: =G47*H47 -> 0
C48: Encarregado de terraplenagem | F48: mês | G48: 1 | H48: =6119.2723*K48 -> 0 | I48: =G48*H48 -> 0
...

Sheet Parcela mão de obra (total)
E1: Contratação de empresa para elaboração de projeto executivo execução das obras civis das Estações nº35 e nº36, Via permanente, Subestações Retificadoras (SR63, SR64 e SR65) e implantação dos sistemas fixos referentes à expansão da Linha 1 do Metrô-DF no Trecho Samambaia
B2: OBRA: | D2: Expansão Samambaia | K2: BDI: | L2: 0.2223
B3: DATA-BASE: | D3: 04/2022 | I3: ENCARGOS SOCIAIS NÃO DESONERADOS: | L3: SINAPI - 110,14% (HORA) SINAPI - 70,03% (MÊS)
L4: SICRO - CONFORME CATEGORIA
B5: ADMINISTRAÇÃO LOCAL
B6: ITEM | C6: FONTE | D6: CÓDIGO | E6: DESCRIÇÃO | F6: UNIDADE | G6: QTDE MENSAL | H6: PERÍODO | I6: QTDE TOTAL | J6: UTILIZAÇÃO | L6: CUSTO UNITÁRIO | N6: CUSTO TOTAL
J7: PROD. | K7: IMPROD. | L7: PROD. | M7: IMPROD.
B8: 1 | E8: MÃO DE OBRA | L8: =IF(D8="","",VLOOKUP(D8,'[1]SICRO MO'!$A$5:$F$103,6,FALSE)) | N8: =N9+N49+N75+N82 -> 15657106
B9: 1.1 | E9: Parcela Fixa | L9: =IF(D9="","",VLOOKUP(D9,'[1]SICRO MO'!$A$5:$F$103,6,FALSE)) | N9: =N10+N30 -> 9381860.7
B10: 1.1.1 | E10: Gerência Técnica | L10: =IF(D10="","",VLOOKUP(D10,'[1]SICRO MO'!$A$5:$F$103,6,FALSE)) | N10: =SUM(N12:N29) -> 5858763.7
E11: Responsável Técnico (Civil e Sistemas)
C12: SICRO | D12: P9819 | E12: =VLOOKUP(D12,'CUSTOS SICRO_SINAPI'!A:D,2,FALSE) -> Engenheiro supervisor | F12: mês | G12: 2 | H12: 50 | I12: =G12*H12 -> 100 | J12: - | K12: - | L12: =VLOOKUP(D12,'CUSTOS SICRO_SINAPI'!A:D,4,FALSE) -> 21625.217 | N12: =TRUNC(I12*L12,2) -> 2162521.7
C13: SICRO | D13: P9878 | E13: =VLOOKUP(D13,'CUSTOS SICRO_SINAPI'!A:D,2,FALSE) -> Secretária | F13: mês | G13: 1 | H13: 50 | I13: =G13*H13 -> 50 | J13: - | K13: - | L13: =VLOOKUP(D13,'CUSTOS SICRO_SINAPI'!A:D,4,FALSE) -> 5289.9622 | N13: =TRUNC(I13*L13,2) -> 264498.11
C14: SICRO | D14: P9948 | E14: =VLOOKUP(D14,'CUSTOS SICRO_SINAPI'!A:D,2,FALSE) -> Motorista de veículo leve - mensalista | F14: mês | G14: 1 | H14: 50 | I14: =G14*H14 -> 50 | J14: - | K14: - | L14: =VLOOKUP(D14,'CUSTOS SICRO_SINAPI'!A:D,4,FALSE) -> 4147.462 | N14: =TRUNC(I14*L14,2) -> 207373.1
E15: Planejamento e Medição (Civil e Sistemas)
C16: SICRO | D16: P9946 | E16: =VLOOKUP(D16,'CUSTOS SICRO_SINAPI'!A:D,2,FALSE) -> Engenheiro auxiliar | F16: mês | G16: 2 | H16: 45 | I16: =G16*H16 -> 90 | J16: - | K16: - | L16: =VLOOKUP(D16,'CUSTOS SICRO_SINAPI'!A:D,4,FALSE) -> 19050.057 | N16: =TRUNC(I16*L16,2) -> 1714505.1
E17: Técnico de Telecom
C18: SICRO | D18: P9903 | E18: =VLOOKUP(D18,'CUSTOS SICRO_SINAPI'!A:D,2,FALSE) -> Auxiliar técnico | F18: mês | G18: 2 | H18: 23 | I18: =G18*H18 -> 46 | J18: - | K18: - | L18: =VLOOKUP(D18,'CUSTOS SICRO_SINAPI'!A:D,4,FALSE) -> 3598.6376 | N18: =TRUNC(I18*L18,2) -> 165537.32
E19: Técnico de Energia
C20: SICRO | D20: P9903 | E20: =VLOOKUP(D20,'CUSTOS SICRO_SINAPI'!A:D,2,FALSE) -> Auxiliar técnico | F20: mês | G20: 1 | H20: 28 | I20: =G20*H20 -> 28 | J20: - | K20: - | L20: =VLOOKUP(D20,'CUSTOS SICRO_SINAPI'!A:D,4,FALSE) -> 3598.6376 | N20: =TRUNC(I20*L20,2) -> 100761.85
E21: Técnico de Edificações (Estações)
C22: SICRO | D22: P9903 | E22: =VLOOKUP(D22,'CUSTOS SICRO_SINAPI'!A:D,2,FALSE) -> Auxiliar técnico | F22: mês | G22: 2 | H22: 20 | I22: =G22*H22 -> 40 | J22: - | K22: - | L22: =VLOOKUP(D22,'CUSTOS SICRO_SINAPI'!A:D,4,FALSE) -> 3598.6376 | N22: =TRUNC(I22*L22,2) -> 143945.5
E23: Técnico Via Permanente e OAE
C24: SICRO | D24: P9903 | E24: =VLOOKUP(D24,'CUSTOS SICRO_SINAPI'!A:D,2,FALSE) -> Auxiliar técnico | F24: mês | G24: 1 | H24: 25 | I24: =G24*H24 -> 25 | J24: - | K24: - | L24: =VLOOKUP(D24,'CUSTOS SICRO_SINAPI'!A:D,4,FALSE) -> 3598.6376 | N24: =TRUNC(I24*L24,2) -> 89965.94
E25: Mestre de Obra (Civil e Sistemas)
C26: SICRO | D26: P9840 | E26: =VLOOKUP(D26,'CUSTOS SICRO_SINAPI'!A:D,2,FALSE) -> Encarregado geral | F26: mês | G26: 2 | H26: 45 | I26: =G26*H26 -> 90 | J26: - | K26: - | L26: =VLOOKUP(D26,'CUSTOS SICRO_SINAPI'!A:D,4,FALSE) -> 10785.454 | N26: =TRUNC(I26*L26,2) -> 970690.88
E27: Ambiental
C28: SICRO | D28: P9897 | E28: =VLOOKUP(D28,'CUSTOS SICRO_SINAPI'!A:D,2,FALSE) -> Técnico de meio ambiente | F28: mês | G28: 1 | H28: 6 | I28: =G28*H28 -> 6 | J28: - | K28: - | L28: =VLOOKUP(D28,'CUSTOS SICRO_SINAPI'!A:D,4,FALSE) -> 6494.0399 | N28: =TRUNC(I28*L28,2) -> 38964.23
B30: 1.1.2 | E30: Gerência Administrativa | N30: =SUM(N32:N48) -> 3523097
B31: 1.1.2.1 | E31: Geral - Canteiro Principal
C32: SICRO | D32: P9883 | E32: =VLOOKUP(D32,'CUSTOS SICRO_SINAPI'!A:D,2,FALSE) -> Chefe do setor administrativo | F32: mês | G32: 1 | H32: 45 | I32: =G32*H32 -> 45 | J32: - | K32: - | L32: =VLOOKUP(D32,'CUSTOS SICRO_SINAPI'!A:D,4,FALSE) -> 7185.3571 | N32: =TRUNC(I32*L32,2) -> 323341.06
C33: SICRO | D33: P9806 | E33: =VLOOKUP(D33,'CUSTOS SICRO_SINAPI'!A:D,2,FALSE) -> Auxiliar administrativo | F33: mês | G33: 1 | H33: 45 | I33: =G33*H33 -> 45 | J33: - | K33: - | L33: =VLOOKUP(D33,'CUSTOS SICRO_SINAPI'!A:D,4,FALSE) -> 3804.4425 | N33: =TRUNC(I33*L33,2) -> 171199.91
C34: SICRO | D34: P9948 | E34: =VLOOKUP(D34,'CUSTOS SICRO_SINAPI'!A:D,2,FALSE) -> Motorista de veículo leve - mensalista | F34: mês | G34: 1 | H34: 45 | I34: =G34*H34 -> 45 | J34: - | K34: - | L34: =VLOOKUP(D34,'CUSTOS SICRO_SINAPI'!A:D,4,FALSE) -> 4147.462 | N34: =TRUNC(I34*L34,2) -> 186635.79
C35: SICRO | D35: P9896 | E35: =VLOOKUP(D35,'CUSTOS SICRO_SINAPI'!A:D,2,FALSE) -> Porteiro | F35: mês | G35: 2 | H35: 45 | I35: =G35*H35 -> 90 | J35: - | K35: - | L35: =VLOOKUP(D35,'CUSTOS SICRO_SINAPI'!A:D,4,FALSE) -> 3675.5744 | N35: =TRUNC(I35*L35,2) -> 330801.69
C36: SICRO | D36: P9827 | E36: =VLOOKUP(D36,'CUSTOS SICRO_SINAPI'!A:D,2,FALSE) -> Vigia | F36: mês | G36: 2 | H36: 45 | I36: =G36*H36 -> 90 | J36: - | K36: - | L36: =VLOOKUP(D36,'CUSTOS SICRO_SINAPI'!A:D,4,FALSE) -> 3970.8184 | N36: =TRUNC(I36*L36,2) -> 357373.65
C37: SICRO | D37: P9842 | E37: =VLOOKUP(D37,'CUSTOS SICRO_SINAPI'!A:D,2,FALSE) -> Faxineiro | F37: mês | G37: 1 | H37: 45 | I37: =G37*H37 -> 45 | J37: - | K37: - | L37: =VLOOKUP(D37,'CUSTOS SICRO_SINAPI'!A:D,4,FALSE) -> 3222.1806 | N37: =TRUNC(I37*L37,2) -> 144998.12
B38: 1.1.2.2 | E38: Canteiro Est. 35/OAE
C39: SICRO | D39: P9806 | E39: =VLOOKUP(D39,'CUSTOS SICRO_SINAPI'!A:D,2,FALSE) -> Auxiliar administrativo | F39: mês | G39: 1 | H39: 45 | I39: =G39*H39 -> 45 | J39: - | K39: - | L39: =VLOOKUP(D39,'CUSTOS SICRO_SINAPI'!A:D,4,FALSE) -> 3804.4425 | N39: =TRUNC(I39*L39,2) -> 171199.91
C40: SICRO | D40: P9896 | E40: =VLOOKUP(D40,'CUSTOS SICRO_SINAPI'!A:D,2,FALSE) -> Porteiro | F40: mês | G40: 2 | H40: 45 | I40: =G40*H40 -> 90 | J40: - | K40: - | L40: =VLOOKUP(D40,'CUSTOS SICRO_SINAPI'!A:D,4,FALSE) -> 3675.5744 | N40: =TRUNC(I40*L40,2) -> 330801.69
C41: SICRO | D41: P9827 | E41: =VLOOKUP(D41,'CUSTOS SICRO_SINAPI'!A:D,2,FALSE) -> Vigia | F41: mês | G41: 2 | H41: 45 | I41: =G41*H41 -> 90 | J41: - | K41: - | L41: =VLOOKUP(D41,'CUSTOS SICRO_SINAPI'!A:D,4,FALSE) -> 3970.8184 | N41: =TRUNC(I41*L41,2) -> 357373.65
...

Sheet Plan3
A5: CÓDIGO | B5: DESCRIÇÃO | C5: UNIDADE | D5: SALÁRIO | E5: ENCARGOS | F5: CUSTO UNITÁRIO
A6: P9801 | B6: Ajudante | C6: h | D6: 5.9926 | E6: 1.698815 | F6: 16.1729
A7: P9802 | B7: Ajudante especializado | C7: h | D7: 7.1911 | E7: 1.677143 | F7: 19.2516
A8: P9804 | B8: Apontador | C8: mês | D8: 1500.4 | E8: 1.284693 | F8: 3427.9533
A9: P9805 | B9: Armador | C9: h | D9: 7.1209 | E9: 1.697223 | F9: 19.2066
A10: P9806 | B10: Auxiliar administrativo | C10: mês | D10: 1601.2552 | E10: 1.161292 | F10: 3460.78
A11: P9807 | B11: Bombeiro hidráulico | C11: h | D11: 16.9968 | E11: 1.314578 | F11: 39.3404
A12: P9808 | B12: Carpinteiro | C12: h | D12: 6.9936 | E12: 1.585596 | F12: 18.0826
A13: P9809 | B13: Encarregado administrativo | C13: mês | D13: 2689.7932 | E13: 1.052167 | F13: 5519.9048
A14: P9810 | B14: Eletricista | C14: h | D14: 8.2737 | E14: 1.608485 | F14: 21.5818
A15: P9811 | B15: Encarregado especializado | C15: mês | D15: 3943.4344 | E15: 1.022415 | F15: 7975.2608
A16: P9812 | B16: Engenheiro | C16: mês | D16: 11574.434 | E16: 0.929552 | F16: 22333.472
A17: P9814 | B17: Operacional | C17: mês | D17: 1660.54 | E17: 1.058626 | F17: 3418.4308
... A103: P9956 | B103: Motorista de caminhão com periculosidade | C103: h | D103: 8.3465 | E103: 1.822264 | F103: 26.0599

Sheet Parcela Vinculada (M.O)
A1: EQUIPE DE PRODUÇÃO DE TERRAPLENAGEM
A2: Item | B2: Cód. SICRO | C2: Descrição dos Itens | D2: Unidade | E2: Quantidades | F2: Custo Unit. (R$) | G2: Custo Total (R$)
A3: 1. | C3: Equipe de Produção de Terraplenagem
A4: 1.1 | C4: Mão de Obra
A5: 1.1.1 | B5: P9884 | C5: Encarregado de terraplenagem | D5: mês | E5: 1 | F5: =3565.3852*I5 -> 7056.1647 | G5: =E5*F5 -> 7056.1647 | I5: 1.979075
A6: Subtotal Item 1.1 | G6: =G5 -> 7056.1647
A7: Veículos | G7: ='Parcela Vinculada (Veículos) '!K9 -> 2327.2392
A8: Equipe de Produção de Terraplenagem | G8: =G6+G7 -> 9383.4039
A10: EQUIPE DE PRODUÇÃO DE PAVIMENTAÇÃO
A11: Item | C11: Descrição dos Itens | D11: Unidade | E11: Quantidades | F11: Custo Unit. (R$) | G11: Custo Total (R$)
A12: 2. | C12: Equipe de Produção de Pavimentação
A13: 2.1 | C13: Mão de Obra
A14: 2.1.1 | B14: P9893 | C14: Encarregado de Pavimentação | D14: mês | E14: 1 | F14: =F5 -> 7056.1647 | G14: =E14*F14 -> 7056.1647 | I14: =I5 -> 1.979075
A15: Subtotal Item 2.1 | G15: =G14 -> 7056.1647
A16: Veículos | G16: ='Parcela Vinculada (Veículos) '!K13 -> 2327.2392
A17: EQUIPE DE PRODUÇÃO DE PAVIMENTAÇÃO | G17: =G15+G16 -> 9383.4039
A19: EQUIPE DE PRODUÇÃO DE TOPOGRAFIA
A20: Item | C20: Descrição dos Itens | D20: Unidade | E20: Quantidades | F20: Custo Unit. (R$) | G20: Custo Total (R$)
A21: 3. | C21: Equipe de Topografia
A22: 3.1 | C22: Mão de Obra
A23: 3.1.1 | B23: P9949 | C23: Topógrafo | D23: mês | E23: 1 | F23: =1793.4354*I23 -> 3711.6293 | G23: =E23*F23 -> 3711.6293 | I23: 2.069564
A24: 3.1.2 | B24: P9950 | C24: Auxiliar de Topografia | D24: mês | E24: 1 | F24: =1312.561*I24 -> 2757.7655 | G24: =E24*F24 -> 2757.7655 | I24: 2.101057
A25: Subtotal Item 3.1 | G25: =G23+G24 -> 6469.3948
A26: Veículos | G26: ='Parcela Vinculada (Veículos) '!K18 -> 10520.563
A27: Equipe de Produção de Topografia | G27: =G25+G26 -> 16989.958
A29: EQUIPE DE MEDICINA E SEGURANÇA DO TRABALHO
A30: Item | C30: Descrição dos Itens | D30: Unidade | E30: Quantidades | F30: Custo Unit. (R$) | G30: Custo Total (R$)
A31: 4. | C31: Setor de Medicina e Segurança do Trabalho
A32: 4.1 | C32: Mão de Obra
A33: 4.2 | B33: P9876 | C33: Técnico de segurança do trabalho | D33: mês | E33: 1 | F33: =2577.5745*I33 -> 5125.9477 | G33: =E33*F33 -> 5125.9477 | I33: 1.988671
A34: 4.3 | B34: P9864 | C34: Engenheiro de segurança do trabalho | D34: mês | F34: =10557.388*I34 -> 19347.438 | G34: =E34*F34 -> 0 | I34: 1.832597
A35: 4.4 | B35: P9851 | C35: Médico do trabalho | D35: mês | F35: =11304.5217*I35 -> 21260.504 | G35: =E35*F35 -> 0 | I35: 1.880708
A36: Subtotal Item 3.1 | G36: =G33+G34+G35 -> 5125.9477

Sheet Parcela Vinculada (Veículos) 
A1: PARCELA VINCULADA DA ADMINISTRAÇÃO DE OBRA LOCAL (VEÍCULOS)
A2: Item | C2: Descrição dos Itens | E2: Unidade | F2: Quantidade | G2: Utilização Prod. | H2: Utilização Improd.
B3: Código | I3: Custo Horário | J3: Custo Horário | K3: Custo
B4: SICRO | I4: Produtivo (R$) | J4: Improdutivo (R$) | K4: Total (R$)
A6: 1. | C6: Veículos
A7: 1.1 | C7: Equipe de Produção de Terraplenagem
A8: 1.1.1 | B8: E9093 | C8: Veículo leve - 53 kW | E8: mês | F8: 1 | G8: 44 | H8: 176 | I8: 40.6978 | J8: 3.0485 | K8: =F8*((G8*I8)+(H8*J8)) -> 2327.2392
A9: Subtotal Item 1.1 | K9: =K8 -> 2327.2392
A10: 2. | C10: Veículos
A11: 2.1 | C11: Equipe de Produção de Pavimentação
A12: 2.1.1 | B12: E9093 | C12: Veículo leve - 53 kW | E12: mês | F12: 1 | G12: 44 | H12: 176 | I12: 40.6978 | J12: 3.0485 | K12: =F12*((G12*I12)+(H12*J12)) -> 2327.2392
A13: Subtotal Item 2.1 | K13: =K12 -> 2327.2392
A14: 3. | C14: Veículos
A15: 3.1 | C15: Equipe de Topografia
A16: 3.1.1 | B16: E9093 | C16: Veículo leve - 53 kW | E16: mês | F16: 1 | G16: 44 | H16: 176 | I16: 40.6978 | J16: 3.0485 | K16: =F16*((G16*I16)+(H16*J16)) -> 2327.2392
A17: 3.1.2 | B17: E9125 | C17: Van furgão a diesel - 93 kW | E17: mês | F17: 1 | G17: 44 | H17: 176 | I17: 80.3519 | J17: 26.465 | K17: =F17*((G17*I17)+(H17*J17)) -> 8193.3236
A18: Subtotal Item 3.1 | K18: =K16+K17 -> 10520.563

Sheet Frentes de Serviços
E1: Contratação de empresa para elaboração de projeto executivo execução das obras civis das Estações nº35 e nº36, Via permanente, Subestações Retificadoras (SR63, SR64 e SR65) e implantação dos sistemas fixos referentes à expansão da Linha 1 do Metrô-DF no Trecho Samambaia
B2: EQUIPES DE ACOMPANHAMENTO DAS FRENTES DE SERVIÇO DE TERRAPLENAGEM
B3: Item | C3: Fonte | D3: Código | E3: Descrição dos Itens | F3: Unidade | G3: Quantidade | H3: Produção Horária (un/h) | I3: Efs
B4: 1. | E4: Frentes de Serviço para Terraplenagem | F4: equipe x mês
B5: 1.1 | C5: SICRO | D5: 5502978 | E5: =VLOOKUP(D5,'Curva ABC de Serviços'!A:J,3,FALSE) -> Compactação de aterros a 100% do Proctor normal | F5: =VLOOKUP(D5,'Curva ABC de Serviços'!A:J,5,FALSE) -> m³ | G5: =VLOOKUP(D5,'Curva ABC de Serviços'!A:J,6,FALSE) -> 44.491,84 | H5: 168.2 | I5: =G5/(H5*182.49) -> 1.4494903
B6: 1.2 | C6: SICRO | D6: 5503041 | E6: =VLOOKUP(D6,'Curva ABC de Serviços'!A:J,3,FALSE) -> Compactação de aterros a 100% do Proctor intermediário | F6: =VLOOKUP(D6,'Curva ABC de Serviços'!A:J,5,FALSE) -> m³ | G6: =VLOOKUP(D6,'Curva ABC de Serviços'!A:J,6,FALSE) -> 25.915,0 | H6: 76.89 | I6: =G6/(H6*182.49) -> 1.8468953
B7: Total de Equipes para Terraplenagem | I7: =SUM(I5:I6) -> 3.2963856
B9: EQUIPES DE ACOMPANHAMENTO DAS FRENTES DE SERVIÇO DO SISTEMA VIÁRIO/ VIA PERMANENTE (PAVIMENTAÇÃO)
B10: Item | C10: Fonte | D10: Código | E10: Descrição dos Itens | F10: Unidade | G10: Quantidades | H10: Produção Horária (un/h) | I10: Efs
B11: 2. | E11: Frentes de Serviço para Pavimentação | F11: equipe x mês
B12: 2.1 | C12: PRÓPRIA | D12: 1600436 ADPT | E12: =VLOOKUP(D12,'Curva ABC de Serviços'!A:J,3,FALSE) -> Demolição de meio fio de concreto | F12: =VLOOKUP(D12,'Curva ABC de Serviços'!A:J,5,FALSE) -> m | G12: =VLOOKUP(D12,'Curva ABC de Serviços'!A:J,6,FALSE) -> 4.383,84 | H12: 1.66 | I12: =G12/(H12*182.49) -> 14.4713
B13: 2.2 | C13: SICRO | D13: 4011209 | E13: =VLOOKUP(D13,'Curva ABC de Serviços'!A:J,3,FALSE) -> Regularização do subleito | F13: =VLOOKUP(D13,'Curva ABC de Serviços'!A:J,5,FALSE) -> m² | G13: =VLOOKUP(D13,'Curva ABC de Serviços'!A:J,6,FALSE) -> 105.002,28 | H13: 1121.33 | I13: =G13/(H13*182.49) -> 0.51312859
B14: 2.3 | C14: SICRO | D14: 4011276 | E14: =VLOOKUP(D14,'Curva ABC de Serviços'!A:J,3,FALSE) -> Base ou sub-base de brita graduada com brita comercial | F14: =VLOOKUP(D14,'Curva ABC de Serviços'!A:J,5,FALSE) -> m³ | G14: =VLOOKUP(D14,'Curva ABC de Serviços'!A:J,6,FALSE) -> 17.059,375 | H14: 113.18 | I14: =G14/(H14*182.49) -> 0.82595114
B15: 2.4 | C15: PRÓPRIA | D15: 4011300 ADPT | E15: =VLOOKUP(D15,'Curva ABC de Serviços'!A:J,3,FALSE) -> Base ou sub-base de solo melhorado com 3% de cal e mistura na pista | F15: =VLOOKUP(D15,'Curva ABC de Serviços'!A:J,5,FALSE) -> m³ | G15: =VLOOKUP(D15,'Curva ABC de Serviços'!A:J,6,FALSE) -> 4.185,13 | H15: 150.88 | I15: =G15/(H15*182.49) -> 0.15199812
B16: 2.5 | C16: SICRO | D16: 5503041 | E16: =VLOOKUP(D16,'Curva ABC de Serviços'!A:J,3,FALSE) -> Compactação de aterros a 100% do Proctor intermediário | F16: =VLOOKUP(D16,'Curva ABC de Serviços'!A:J,5,FALSE) -> m³ | G16: =VLOOKUP(D16,'Curva ABC de Serviços'!A:J,6,FALSE) -> 25.915,0 | H16: 76.89 | I16: =G16/(H16*182.49) -> 1.8468953
B17: 2.6 | C17: SICRO | D17: 4011351 | E17: =VLOOKUP(D17,'Curva ABC de Serviços'!A:J,3,FALSE) -> Imprimação com asfalto diluído | F17: =VLOOKUP(D17,'Curva ABC de Serviços'!A:J,5,FALSE) -> m² | G17: =VLOOKUP(D17,'Curva ABC de Serviços'!A:J,6,FALSE) -> 114.749,88 | H17: 1125 | I17: =G17/(H17*182.49) -> 0.55893415
B18: 2.7 | C18: SICRO | D18: 4011354 | E18: =VLOOKUP(D18,'Curva ABC de Serviços'!A:J,3,FALSE) -> Pintura de ligação - emulsão com polímero | F18: =VLOOKUP(D18,'Curva ABC de Serviços'!A:J,5,FALSE) -> m² | G18: =VLOOKUP(D18,'Curva ABC de Serviços'!A:J,6,FALSE) -> 52.873,29 | H18: 1500 | I18: =G18/(H18*182.49) -> 0.19315502
B19: 2.8 | C19: SICRO | D19: 1106057 | E19: =VLOOKUP(D19,'Curva ABC de Serviços'!A:J,3,FALSE) -> Concreto magro - confecção em betoneira e lançamento manual - areia e brita comerciais | F19: =VLOOKUP(D19,'Curva ABC de Serviços'!A:J,5,FALSE) -> m³ | G19: =VLOOKUP(D19,'Curva ABC de Serviços'!A:J,6,FALSE) -> 819,92 | H19: 3.92899 | I19: =G19/(H19*182.49) -> 1.1435403
B20: 2.9 | C20: SICRO | D20: 2003850 | E20: =VLOOKUP(D20,'Curva ABC de Serviços'!A:J,3,FALSE) -> Lastro de brita comercial compactado com soquete vibratório - espalhamento manual | F20: =VLOOKUP(D20,'Curva ABC de Serviços'!A:J,5,FALSE) -> m³ | G20: =VLOOKUP(D20,'Curva ABC de Serviços'!A:J,6,FALSE) -> 1.131,53 | H20: 3.57938 | I20: =G20/(H20*182.49) -> 1.7322844
B21: 2.10 | C21: SICRO | D21: 4011370 | E21: =VLOOKUP(D21,'Curva ABC de Serviços'!A:J,3,FALSE) -> Tratamento superficial duplo com emulsão - brita comercial | F21: =VLOOKUP(D21,'Curva ABC de Serviços'!A:J,5,FALSE) -> m² | G21: =VLOOKUP(D21,'Curva ABC de Serviços'!A:J,6,FALSE) -> 19.230,86 | H21: 361.93 | I21: =G21/(H21*182.49) -> 0.29116224
B22: 2.11 | C22: SICRO | D22: 4011463 | E22: =VLOOKUP(D22,'Curva ABC de Serviços'!A:J,3,FALSE) -> Concreto asfáltico - faixa C - areia e brita comerciais | F22: =VLOOKUP(D22,'Curva ABC de Serviços'!A:J,5,FALSE) -> t | G22: =VLOOKUP(D22,'Curva ABC de Serviços'!A:J,6,FALSE) -> 5.899,54 | H22: 99.6 | I22: =G22/(H22*182.49) -> 0.32457849
B23: 2.12 | C23: SICRO | D23: 4011533 | E23: =VLOOKUP(D23,'Curva ABC de Serviços'!A:J,3,FALSE) -> Pavimento de concreto com fôrmas deslizantes - areia e brita comerciais | F23: =VLOOKUP(D23,'Curva ABC de Serviços'!A:J,5,FALSE) -> m³ | G23: =VLOOKUP(D23,'Curva ABC de Serviços'!A:J,6,FALSE) -> 152,87 | H23: 124.5 | I23: =G23/(H23*182.49) -> 0.0067284316
B24: 2.13 | C24: SICRO | D24: 5915321 | E24: =VLOOKUP(D24,'Curva ABC de Serviços'!A:J,3,FALSE) -> Transporte com caminhão basculante de 14 m³ - rodovia pavimentada | F24: =VLOOKUP(D24,'Curva ABC de Serviços'!A:J,5,FALSE) -> tkm | G24: =VLOOKUP(D24,'Curva ABC de Serviços'!A:J,6,FALSE) -> 14.688.257,4865632 | H24: 522.9 | I24: =G24/(H24*182.49) -> 153.92621
B25: 2.14 | C25: SINAPI | D25: 94991 | E25: =VLOOKUP(D25,'Curva ABC de Serviços'!A:J,3,FALSE) -> EXECUÇÃO DE PASSEIO (CALÇADA) OU PISO DE CONCRETO COM CONCRETO MOLDADO IN LOCO, USINADO, ACABAMENTO CONVENCIONAL, NÃO ARMADO. AF_07/2016 | F25: =VLOOKUP(D25,'Curva ABC de Serviços'!A:J,5,FALSE) -> m³ | G25: =VLOOKUP(D25,'Curva ABC de Serviços'!A:J,6,FALSE) -> 974,26 | H25: 1 | I25: =G25/(H25*182.49) -> 5.3387035
B26: 2.15 | C26: SICRO | D26: 4011480 | E26: =VLOOKUP(D26,'Curva ABC de Serviços'!A:J,3,FALSE) -> Fresagem descontínua de revestimento asfáltico | F26: =VLOOKUP(D26,'Curva ABC de Serviços'!A:J,5,FALSE) -> m³ | G26: =VLOOKUP(D26,'Curva ABC de Serviços'!A:J,6,FALSE) -> 4,13 | H26: 49.2 | I26: =G26/(H26*182.49) -> 0.00045998734
B27: 2.16 | C27: SICRO | D27: 4915667 | E27: =VLOOKUP(D27,'Curva ABC de Serviços'!A:J,3,FALSE) -> Remoção mecanizada de revestimento asfáltico | F27: =VLOOKUP(D27,'Curva ABC de Serviços'!A:J,5,FALSE) -> m³ | G27: =VLOOKUP(D27,'Curva ABC de Serviços'!A:J,6,FALSE) -> 467,8 | H27: 76.5 | I27: =G27/(H27*182.49) -> 0.033508864
... B36: 2.25 | C36: SICRO | D36: 5216111 | E36: =VLOOKUP(D36,'Curva ABC de Serviços'!A:J,3,FALSE) -> Suporte para placa de sinalização em madeira de lei tratada 8 x 8 cm - fornecimento e implantação | F36: =VLOOKUP(D36,'Curva ABC de Serviços'!A:J,5,FALSE) -> un | G36: =VLOOKUP(D36,'Curva ABC de Serviços'!A:J,6,FALSE) -> 216,0 | H36: 4 | I36: =G36/(H36*182.49) -> 0.29590663
B37: 2.26 | C37: PRÓPRIA | D37: M1301002 | E37: =VLOOKUP(D37,'Curva ABC de Serviços'!A:J,3,FALSE) -> DELINEADOR / SINALIZADOR (CATADIÓPTRICO) PARA DEFENSA METÁLICA | F37: =VLOOKUP(D37,'Curva ABC de Serviços'!A:J,5,FALSE) -> UN | G37: =VLOOKUP(D37,'Curva ABC de Serviços'!A:J,6,FALSE) -> 18,0 | H37: 1 | I37: =G37/(H37*182.49) -> 0.098635542
B38: Total de Equipes para Pavimentação | I38: =SUM(I12:I37) -> 182.20597
B40: EQUIPES DE ACOMPANHAMENTO DAS FRENTES DE SERVIÇO DE DRENAGEM/EMISSÁRIO
B41: Item | C41: Fonte | D41: Código | E41: Descrição dos Itens | F41: Unidade | G41: Quantidades | H41: Efsdu | I41: Efs
B42: 3. | E42: Frentes de Serviço de Drenagem | F42: equipe x mês
B43: 3.1 | E43: =E100 -> Tabela 01 - Coeficientes para cálculo das equipes de acompanhamento por unidade de serviço para os dispositivos de drenagem lineares
B44: 3.1.1 | C44: SICRO | D44: 2003309 | E44: =VLOOKUP(D44,'Curva ABC de Serviços'!A:J,3,FALSE) -> Valeta de proteção de cortes com revestimento de concreto - VPC 04 - escavação mecânica - areia e brita comerciais | F44: =VLOOKUP(D44,'Curva ABC de Serviços'!A:J,5,FALSE) -> m | G44: =VLOOKUP(D44,'Curva ABC de Serviços'!A:J,6,FALSE) -> 1.021,5 | H44: 0.00028 | I44: =G44*H44 -> 0.28602
B45: 3.1.2 | C45: SICRO | D45: 2003399 | E45: =VLOOKUP(D45,'Curva ABC de Serviços'!A:J,3,FALSE) -> Descida d’água de cortes em degraus - DCD 02 - areia e brita comerciais | F45: =VLOOKUP(D45,'Curva ABC de Serviços'!A:J,5,FALSE) -> m | G45: =VLOOKUP(D45,'Curva ABC de Serviços'!A:J,6,FALSE) -> 23,0 | H45: 0.00028 | I45: =G45*H45 -> 0.00644
B46: 3.1.3 | C46: SINAPI | D46: 94273 | E46: =VLOOKUP(D46,'Curva ABC de Serviços'!A:J,3,FALSE) -> ASSENTAMENTO DE GUIA (MEIO-FIO) EM TRECHO RETO, CONFECCIONADA EM CONCRETO PRÉ-FABRICADO, DIMENSÕES 100X15X13X30 CM (COMPRIMENTO X BASE INFERIOR X BASE SUPERIOR X ALTURA), PARA VIAS URBANAS (USO VIÁRIO). AF_06/2016 | F46: =VLOOKUP(D46,'Curva ABC de Serviços'!A:J,5,FALSE) -> M | G46: =VLOOKUP(D46,'Curva ABC de Serviços'!A:J,6,FALSE) -> 10.644,75 | H46: 0.00021 | I46: =G46*H46 -> 2.2353975
B47: 3.1.4 | C47: SINAPI | D47: 94277 | E47: MEIO-FIO OU GUIA DE CONCRETO PRE-MOLDADO, COMP 80 CM, 25 X 08/08 CM (H X L1/L2) | F47: M | G47: 6710 | H47: 0.00021 | I47: =G47*H47 -> 1.4091
B49: 3.2 | E49: =E108 -> Tabela 02 - Coeficientes para cálculo das equipes de acompanhamento por unidade de serviço para os corpos de bueiros tubulares de concreto
B50: 3.2.1 | C50: SICRO | D50: 804017 | E50: =VLOOKUP(D50,'Curva ABC de Serviços'!A:J,3,FALSE) -> Corpo de BSTC D = 0,40 m PA3 - areia, brita e pedra de mão comerciais | F50: =VLOOKUP(D50,'Curva ABC de Serviços'!A:J,5,FALSE) -> m | G50: =VLOOKUP(D50,'Curva ABC de Serviços'!A:J,6,FALSE) -> 63,0 | H50: 0.00073 | I50: =G50*H50 -> 0.04599
B51: 3.2.2 | C51: SICRO | D51: 804021 | E51: =VLOOKUP(D51,'Curva ABC de Serviços'!A:J,3,FALSE) -> Corpo de BSTC D = 0,60 m PA1 - areia, brita e pedra de mão comerciais | F51: =VLOOKUP(D51,'Curva ABC de Serviços'!A:J,5,FALSE) -> m | G51: =VLOOKUP(D51,'Curva ABC de Serviços'!A:J,6,FALSE) -> 329,0 | H51: 0.00099 | I51: =G51*H51 -> 0.32571
...

Sheet Controle Tecnologico
E1: Contratação de empresa para elaboração de projeto executivo execução das obras civis das Estações nº35 e nº36, Via permanente, Subestações Retificadoras (SR63, SR64 e SR65) e implantação dos sistemas fixos referentes à expansão da Linha 1 do Metrô-DF no Trecho Samambaia
B4: EQUIPES DE LABORATÓRIO DE SOLOS PARA TERRAPLENAGEM
B5: Item | C5: Fonte | D5: Código | E5: Descrição dos Itens | F5: Unidade | G5: Quantidades | H5: QE | I5: Els
B6: 1. | E6: Equipes de Laboratório de Solos para Terraplenagem | F6: equipe x mês
B7: 1.1 | C7: SICRO | D7: 5502978 | E7: =VLOOKUP(D7,'Curva ABC de Serviços'!A:J,3,FALSE) -> Compactação de aterros a 100% do Proctor normal | F7: =VLOOKUP(D7,'Curva ABC de Serviços'!A:J,5,FALSE) -> m³ | G7: =VLOOKUP(D7,'Curva ABC de Serviços'!A:J,6,FALSE) -> 44.491,84 | H7: 169000 | I7: =G7/H7 -> 0.26326533
B8: 1.2 | C8: SICRO | D8: 5503041 | E8: =VLOOKUP(D8,'Curva ABC de Serviços'!A:J,3,FALSE) -> Compactação de aterros a 100% do Proctor intermediário | F8: =VLOOKUP(D8,'Curva ABC de Serviços'!A:J,5,FALSE) -> m³ | G8: =VLOOKUP(D8,'Curva ABC de Serviços'!A:J,6,FALSE) -> 25.915,0 | H8: 24200 | I8: =G8/H8 -> 1.0708678
B9: Total de equipes de laboratório de solos para terraplenagem | I9: =SUM(I7:I8) -> 1.3341331
B12: EQUIPES DE LABORATÓRIO DE SOLOS PARA PAVIMENTAÇÃO
B13: Item | C13: Fonte | D13: Código | E13: Descrição dos Itens | F13: Unidade | G13: Quantidades | H13: QE | I13: Els
B14: 1. | E14: Equipes de Laboratório de Solos para Pavimentação | F14: equipe x mês
B15: 1.1 | C15: SICRO | D15: 4011276 | E15: =VLOOKUP(D15,'Curva ABC de Serviços'!A:J,3,FALSE) -> Base ou sub-base de brita graduada com brita comercial | F15: =VLOOKUP(D15,'Curva ABC de Serviços'!A:J,5,FALSE) -> m³ | G15: =VLOOKUP(D15,'Curva ABC de Serviços'!A:J,6,FALSE) -> 17.059,375 | H15: 21900 | I15: =G15/H15 -> 0.77896689
B16: 1.2 | C16: PRÓPRIA | D16: 4011276 ADPT | E16: =VLOOKUP(D16,'Curva ABC de Serviços'!A:J,3,FALSE) -> Base ou sub-base de bica corrida comercial | F16: =VLOOKUP(D16,'Curva ABC de Serviços'!A:J,5,FALSE) -> m³ | G16: =VLOOKUP(D16,'Curva ABC de Serviços'!A:J,6,FALSE) -> 10.473,76 | H16: 21900 | I16: =G16/H16 -> 0.47825388
B17: 1.3 | C17: PRÓPRIA | D17: 4011347 ADPT | E17: =VLOOKUP(D17,'Curva ABC de Serviços'!A:J,3,FALSE) -> Base ou sub-base de solo melhorado com 3% de cal com recicladora | F17: =VLOOKUP(D17,'Curva ABC de Serviços'!A:J,5,FALSE) -> m³ | G17: =VLOOKUP(D17,'Curva ABC de Serviços'!A:J,6,FALSE) -> 9.205,1 | H17: 11800 | I17: =G17/H17 -> 0.78009322
B18: 1.4 | C18: PRÓPRIA | D18: 4011300 ADPT | E18: =VLOOKUP(D18,'Curva ABC de Serviços'!A:J,3,FALSE) -> Base ou sub-base de solo melhorado com 3% de cal e mistura na pista | F18: =VLOOKUP(D18,'Curva ABC de Serviços'!A:J,5,FALSE) -> m³ | G18: =VLOOKUP(D18,'Curva ABC de Serviços'!A:J,6,FALSE) -> 4.185,13 | H18: 11800 | I18: =G18/H18 -> 0.35467203
B19: Total de equipes de laboratório de solos para pavimentação | I19: =SUM(I15:I18) -> 2.391986
B21: EQUIPES DE LABORATÓRIO DE ASFALTOS
B22: Item | C22: Fonte | D22: Código | E22: Descrição dos Itens | F22: Unidade | G22: Quantidades | H22: QE | I22: Els
B23: 1. | E23: Equipes de Laboratório de Asfaltos | F23: equipe x mês
B24: 1.1 | C24: SICRO | D24: 4011463 | E24: =VLOOKUP(D24,'Curva ABC de Serviços'!A:J,3,FALSE) -> Concreto asfáltico - faixa C - areia e brita comerciais | F24: =VLOOKUP(D24,'Curva ABC de Serviços'!A:J,5,FALSE) -> t | G24: =VLOOKUP(D24,'Curva ABC de Serviços'!A:J,6,FALSE) -> 5.899,54 | H24: 9000 | I24: =G24/H24 -> 0.65550444
B25: 1.2 | C25: SINAPI | D25: 95995 | E25: =VLOOKUP(D25,'Curva ABC de Serviços'!A:J,3,FALSE) -> EXECUÇÃO DE PAVIMENTO COM APLICAÇÃO DE CONCRETO ASFÁLTICO, CAMADA DE ROLAMENTO - EXCLUSIVE CARGA E TRANSPORTE. AF_11/2019 | F25: =VLOOKUP(D25,'Curva ABC de Serviços'!A:J,5,FALSE) -> m³ | G25: =VLOOKUP(D25,'Curva ABC de Serviços'!A:J,6,FALSE) -> 6,135 | H25: 3846.1538 | I25: =G25/H25 -> 0.0015951
B26: 1.3 | C26: SINAPI | D26: 98557 | E26: =VLOOKUP(D26,'Curva ABC de Serviços'!A:J,3,FALSE) -> IMPERMEABILIZAÇÃO DE SUPERFÍCIE COM EMULSÃO ASFÁLTICA, 2 DEMÃOS AF_06/2018 | F26: =VLOOKUP(D26,'Curva ABC de Serviços'!A:J,5,FALSE) -> m² | G26: =VLOOKUP(D26,'Curva ABC de Serviços'!A:J,6,FALSE) -> 41,1 | H26: 123000 | I26: =G26/H26 -> 0.00033414634
B27: 1.4 | C27: PRÓPRIA | D27: 98546 ADPT1 | E27: =VLOOKUP(D27,'Curva ABC de Serviços'!A:J,3,FALSE) -> IMPERMEABILIZAÇÃO DE SUPERFÍCIE COM MANTA ASFÁLTICA, UMA CAMADA, INCLUSIVE APLICAÇÃO DE PRIMER ASFÁLTICO, TIPO III, E=4MM. | F27: =VLOOKUP(D27,'Curva ABC de Serviços'!A:J,5,FALSE) -> m² | G27: =VLOOKUP(D27,'Curva ABC de Serviços'!A:J,6,FALSE) -> 826,96 | H27: 123000 | I27: =G27/H27 -> 0.006723252
B28: 1.5 | C28: PRÓPRIA | D28: 98546 ADPT2 | E28: =VLOOKUP(D28,'Curva ABC de Serviços'!A:J,3,FALSE) -> IMPERMEABILIZAÇÃO DE SUPERFÍCIE COM MANTA ASFÁLTICA, UMA CAMADA, INCLUSIVE APLICAÇÃO DE PRIMER ASFÁLTICO, TIPO IV, E=4MM. | F28: =VLOOKUP(D28,'Curva ABC de Serviços'!A:J,5,FALSE) -> m² | G28: =VLOOKUP(D28,'Curva ABC de Serviços'!A:J,6,FALSE) -> 505,8 | H28: 123000 | I28: =G28/H28 -> 0.0041121951
B29: 1.6 | C29: SICRO | D29: 4011351 | E29: =VLOOKUP(D29,'Curva ABC de Serviços'!A:J,3,FALSE) -> Imprimação com asfalto diluído | F29: =VLOOKUP(D29,'Curva ABC de Serviços'!A:J,5,FALSE) -> m² | G29: =VLOOKUP(D29,'Curva ABC de Serviços'!A:J,6,FALSE) -> 114.749,88 | H29: 1610000 | I29: =G29/H29 -> 0.071273217
B30: Total de equipes de laboratório de asfaltos | I30: =SUM(I24:I28) -> 0.66826914
B32: EQUIPES DE LABORATÓRIO DE CONCRETO
B33: Item | C33: Fonte | D33: Código | E33: Descrição dos Itens | F33: Unidade | G33: Quantidades | H33: QE | I33: Els
B34: 1. | E34: Equipes de Laboratório de Concreto | F34: equipe x mês
B35: 1.1 | C35: SINAPI | D35: 96555 ADPT | E35: =VLOOKUP(D35,'Curva ABC de Serviços'!A:J,3,FALSE) -> CONCRETAGEM DE BLOCOS DE COROAMENTO E VIGAS BALDRAME, FCK 20 MPA, COM USO DE JERICA - LANÇAMENTO, ADENSAMENTO E ACABAMENTO | F35: =VLOOKUP(D35,'Curva ABC de Serviços'!A:J,5,FALSE) -> m³ | G35: =VLOOKUP(D35,'Curva ABC de Serviços'!A:J,6,FALSE) -> 2,36 | H35: 1700 | I35: =G35/H35 -> 0.0013882353
B36: 1.2 | C36: SINAPI | D36: 96557 ADPT | E36: =VLOOKUP(D36,'Curva ABC de Serviços'!A:J,3,FALSE) -> CONCRETAGEM DE BLOCOS DE COROAMENTO E VIGAS BALDRAMES, FCK 25 MPA, COM USO DE BOMBA - LANÇAMENTO, ADENSAMENTO E ACABAMENTO. | F36: =VLOOKUP(D36,'Curva ABC de Serviços'!A:J,5,FALSE) -> m³ | G36: =VLOOKUP(D36,'Curva ABC de Serviços'!A:J,6,FALSE) -> 417,7 | H36: 1700 | I36: =G36/H36 -> 0.24570588
B37: 1.3 | C37: SINAPI | D37: 96557 | E37: =VLOOKUP(D37,'Curva ABC de Serviços'!A:J,3,FALSE) -> CONCRETAGEM DE BLOCOS DE COROAMENTO E VIGAS BALDRAMES, FCK 30 MPA, COM USO DE BOMBA  LANÇAMENTO, ADENSAMENTO E ACABAMENTO. AF_06/2017 | F37: =VLOOKUP(D37,'Curva ABC de Serviços'!A:J,5,FALSE) -> m³ | G37: =VLOOKUP(D37,'Curva ABC de Serviços'!A:J,6,FALSE) -> 1.811,69 | H37: 1700 | I37: =G37/H37 -> 1.0657
B38: 1.4 | C38: SINAPI | D38: 102736 ADPT | E38: =VLOOKUP(D38,'Curva ABC de Serviços'!A:J,3,FALSE) -> CONCRETAGEM DE BOCA PARA BUEIRO, FCK = 25 MPA, COM USO DE BOMBA - LANÇAMENTO, ADENSAMENTO E ACABAMENTO. | F38: =VLOOKUP(D38,'Curva ABC de Serviços'!A:J,5,FALSE) -> m³ | G38: =VLOOKUP(D38,'Curva ABC de Serviços'!A:J,6,FALSE) -> 748,12 | H38: 1700 | I38: =G38/H38 -> 0.44007059
B39: 1.5 | C39: SINAPI | D39: 99439 | E39: =VLOOKUP(D39,'Curva ABC de Serviços'!A:J,3,FALSE) -> CONCRETAGEM DE EDIFICAÇÕES (PAREDES E LAJES) FEITAS COM SISTEMA DE FÔRMAS MANUSEÁVEIS, COM CONCRETO USINADO BOMBEÁVEL FCK 25 MPA - LANÇAMENTO, ADENSAMENTO E ACABAMENTO (EXCLUSIVE BOMBA LANÇA). AF_10/2021 | F39: =VLOOKUP(D39,'Curva ABC de Serviços'!A:J,5,FALSE) -> m³ | G39: =VLOOKUP(D39,'Curva ABC de Serviços'!A:J,6,FALSE) -> 24,39 | H39: 1700 | I39: =G39/H39 -> 0.014347059
B40: 1.6 | C40: SINAPI | D40: 103672 | E40: =VLOOKUP(D40,'Curva ABC de Serviços'!A:J,3,FALSE) -> CONCRETAGEM DE PILARES, FCK = 25 MPA, COM USO DE BOMBA - LANÇAMENTO, ADENSAMENTO E ACABAMENTO. AF_02/2022 | F40: =VLOOKUP(D40,'Curva ABC de Serviços'!A:J,5,FALSE) -> m³ | G40: =VLOOKUP(D40,'Curva ABC de Serviços'!A:J,6,FALSE) -> 1.962,3 | H40: 1700 | I40: =G40/H40 -> 1.1542941
B41: 1.7 | C41: SINAPI | D41: 103672 ADPT | E41: =VLOOKUP(D41,'Curva ABC de Serviços'!A:J,3,FALSE) -> CONCRETAGEM DE PILARES, FCK = 30 MPA, COM USO DE BOMBA - LANÇAMENTO, ADENSAMENTO E ACABAMENTO. | F41: =VLOOKUP(D41,'Curva ABC de Serviços'!A:J,5,FALSE) -> m³ | G41: =VLOOKUP(D41,'Curva ABC de Serviços'!A:J,6,FALSE) -> 1.033,71 | H41: 1700 | I41: =G41/H41 -> 0.60806471
B42: 1.8 | C42: SINAPI | D42: 97096 | E42: =VLOOKUP(D42,'Curva ABC de Serviços'!A:J,3,FALSE) -> CONCRETAGEM DE RADIER, PISO DE CONCRETO OU LAJE SOBRE SOLO, FCK 30 MPA - LANÇAMENTO, ADENSAMENTO E ACABAMENTO. AF_09/2021 | F42: =VLOOKUP(D42,'Curva ABC de Serviços'!A:J,5,FALSE) -> m³ | G42: =VLOOKUP(D42,'Curva ABC de Serviços'!A:J,6,FALSE) -> 742,24 | H42: 1700 | I42: =G42/H42 -> 0.43661176
B43: 1.9 | C43: SINAPI | D43: 103675 ADPT4 | E43: =VLOOKUP(D43,'Curva ABC de Serviços'!A:J,3,FALSE) -> CONCRETAGEM DE VIGAS E LAJES, FCK=20 MPA, PARA LAJES MACIÇAS OU NERVURADAS COM USO DE BOMBA - LANÇAMENTO, ADENSAMENTO E ACABAMENTO. | F43: =VLOOKUP(D43,'Curva ABC de Serviços'!A:J,5,FALSE) -> m³ | G43: =VLOOKUP(D43,'Curva ABC de Serviços'!A:J,6,FALSE) -> 538,338 | H43: 1700 | I43: =G43/H43 -> 0.31666941
B44: 1.10 | C44: SINAPI | D44: 103675 | E44: =VLOOKUP(D44,'Curva ABC de Serviços'!A:J,3,FALSE) -> CONCRETAGEM DE VIGAS E LAJES, FCK=25 MPA, PARA LAJES MACIÇAS OU NERVURADAS COM USO DE BOMBA - LANÇAMENTO, ADENSAMENTO E ACABAMENTO. AF_02/2022 | F44: =VLOOKUP(D44,'Curva ABC de Serviços'!A:J,5,FALSE) -> m³ | G44: =VLOOKUP(D44,'Curva ABC de Serviços'!A:J,6,FALSE) -> 226,25 | H44: 1700 | I44: =G44/H44 -> 0.13308824
B45: 1.11 | C45: SINAPI | D45: 103675 ADPT1 | E45: =VLOOKUP(D45,'Curva ABC de Serviços'!A:J,3,FALSE) -> CONCRETAGEM DE VIGAS E LAJES, FCK=30 MPA, PARA LAJES MACIÇAS OU NERVURADAS COM USO DE BOMBA - LANÇAMENTO, ADENSAMENTO E ACABAMENTO. | F45: =VLOOKUP(D45,'Curva ABC de Serviços'!A:J,5,FALSE) -> m³ | G45: =VLOOKUP(D45,'Curva ABC de Serviços'!A:J,6,FALSE) -> 3.294,37 | H45: 1700 | I45: =G45/H45 -> 1.9378647
B46: 1.12 | C46: SINAPI | D46: 103675 ADPT2 | E46: =VLOOKUP(D46,'Curva ABC de Serviços'!A:J,3,FALSE) -> CONCRETAGEM DE VIGAS E LAJES, FCK=35 MPA, PARA LAJES MACIÇAS OU NERVURADAS COM USO DE BOMBA - LANÇAMENTO, ADENSAMENTO E ACABAMENTO. | F46: =VLOOKUP(D46,'Curva ABC de Serviços'!A:J,5,FALSE) -> m³ | G46: =VLOOKUP(D46,'Curva ABC de Serviços'!A:J,6,FALSE) -> 941,78 | H46: 1700 | I46: =G46/H46 -> 0.55398824
...

Sheet Composição custo laboratórios
D1: Contratação de empresa para elaboração de projeto executivo execução das obras civis das Estações nº35 e nº36, Via permanente, Subestações Retificadoras (SR63, SR64 e SR65) e implantação dos sistemas fixos referentes à expansão da Linha 1 do Metrô-DF no Trecho Samambaia
B2: COMPOSIÇÃO DE CUSTO LABORATÓRIOS
B3: CUSTO DE LABORATÓRIO DE SOLOS
B4: Item | C4: Código | D4: Descrição dos Itens | E4: Unidade | F4: Quantidades | G4: Utilização Produtiva | H4: Utilização Improdutiva | I4: Custo Horário Produtivo (R$) | J4: Custo Horário Improdutivo (R$) | K4: Custo Unit. (R$) | L4: Custo Total (R$)
B5: 1. | D5: Laboratório de Solos (equipe x mês)
B6: 1.1 | D6: Mão de Obra
B7: 1.1.1 | C7: P9858 | D7: =VLOOKUP(C7,'CUSTOS SICRO_SINAPI'!A:D,2,FALSE) -> Laboratorista | E7: mês | F7: 1 | G7: - | H7: - | I7: - | J7: - | K7: =VLOOKUP(C7,'CUSTOS SICRO_SINAPI'!A:D,4,FALSE) -> 4789.4939 | L7: =F7*K7 -> 4789.4939
B8: 1.1.2 | C8: P9833 | D8: =VLOOKUP(C8,'CUSTOS SICRO_SINAPI'!A:D,2,FALSE) -> Auxiliar de laboratório | E8: mês | F8: 2 | G8: - | H8: - | I8: - | J8: - | K8: =VLOOKUP(C8,'CUSTOS SICRO_SINAPI'!A:D,4,FALSE) -> 3668.3171 | L8: =F8*K8 -> 7336.6342
B9: 2. | D9: Veículos
B10: 2.1 | C10: E9125 | D10: =VLOOKUP(C10,'CUSTOS SICRO_SINAPI'!A:D,2,FALSE) -> Van furgão - 93 kW | E10: mês | F10: 1 | G10: 44 | H10: 176 | I10: =VLOOKUP(C10,'CUSTOS SICRO_SINAPI'!A:E,4,FALSE) -> 72.779 | J10: =VLOOKUP(C10,'CUSTOS SICRO_SINAPI'!A:E,5,FALSE) -> 36.4787 | K10: =((I10*G10)+(J10*H10)) -> 9622.5272 | L10: =K10*F10 -> 9622.5272
B11: Total da Equipe do Laboratório de Solos | L11: =SUM(L10,L8,L7) -> 21748.655
B13: CUSTO DE LABORATÓRIO DE ASFALTO
B14: Item | C14: Código | D14: Descrição dos Itens | E14: Unidade | F14: Quantidades | G14: Utilização Produtiva | H14: Utilização Improdutiva | I14: Custo Horário Produtivo (R$) | J14: Custo Horário Improdutivo (R$) | K14: Custo Unit. (R$) | L14: Custo Total (R$)
B15: 2. | D15: Laboratório de Asfalto (equipe x mês)
B16: 2.1 | D16: Mão de Obra
B17: 2.1.1 | C17: P9858 | D17: =VLOOKUP(C17,'CUSTOS SICRO_SINAPI'!A:D,2,FALSE) -> Laboratorista | E17: mês | F17: 1 | G17: - | H17: - | I17: - | J17: - | K17: =VLOOKUP(C17,'CUSTOS SICRO_SINAPI'!A:D,4,FALSE) -> 4789.4939 | L17: =F17*K17 -> 4789.4939
B18: 2.1.2 | C18: P9833 | D18: =VLOOKUP(C18,'CUSTOS SICRO_SINAPI'!A:D,2,FALSE) -> Auxiliar de laboratório | E18: mês | F18: 2 | G18: - | H18: - | I18: - | J18: - | K18: =VLOOKUP(C18,'CUSTOS SICRO_SINAPI'!A:D,4,FALSE) -> 3668.3171 | L18: =F18*K18 -> 7336.6342
B19: 3. | D19: Veículos
B20: 3.1 | C20: E9125 | D20: =VLOOKUP(C20,'CUSTOS SICRO_SINAPI'!A:D,2,FALSE) -> Van furgão - 93 kW | E20: mês | F20: 1 | G20: 44 | H20: 176 | I20: =VLOOKUP(C20,'CUSTOS SICRO_SINAPI'!A:E,4,FALSE) -> 72.779 | J20: =VLOOKUP(C20,'CUSTOS SICRO_SINAPI'!A:E,5,FALSE) -> 36.4787 | K20: =((I20*G20)+(J20*H20)) -> 9622.5272 | L20: =K20*F20 -> 9622.5272
B21: Total da Equipe do Laboratório de Asfalto | L21: =SUM(L20,L18,L17) -> 21748.655
B23: CUSTO DE LABORATÓRIO DE CONCRETO
B24: Item | C24: Código | D24: Descrição dos Itens | E24: Unidade | F24: Quantidades | G24: Utilização Produtiva | H24: Utilização Improdutiva | K24: Custo Unit. (R$) | L24: Custo Total (R$)
B25: 2. | D25: Laboratório de Concreto (equipe x mês)
B26: 2.1 | D26: Mão de Obra
B27: 2.1.1 | C27: P9858 | D27: =VLOOKUP(C27,'CUSTOS SICRO_SINAPI'!A:D,2,FALSE) -> Laboratorista | E27: mês | F27: 1 | G27: - | H27: - | K27: =VLOOKUP(C27,'CUSTOS SICRO_SINAPI'!A:D,4,FALSE) -> 4789.4939 | L27: =F27*K27 -> 4789.4939
B28: 2.1.2 | C28: P9833 | D28: =VLOOKUP(C28,'CUSTOS SICRO_SINAPI'!A:D,2,FALSE) -> Auxiliar de laboratório | E28: mês | F28: 2 | G28: - | H28: - | K28: =VLOOKUP(C28,'CUSTOS SICRO_SINAPI'!A:D,4,FALSE) -> 3668.3171 | L28: =F28*K28 -> 7336.6342
B29: 3. | D29: Veículos
B30: 3.1 | C30: E9125 | D30: =VLOOKUP(C30,'CUSTOS SICRO_SINAPI'!A:D,2,FALSE) -> Van furgão - 93 kW | E30: mês | F30: 1 | G30: 44 | H30: 176 | I30: =VLOOKUP(C30,'CUSTOS SICRO_SINAPI'!A:E,4,FALSE) -> 72.779 | J30: =VLOOKUP(C30,'CUSTOS SICRO_SINAPI'!A:E,5,FALSE) -> 36.4787 | K30: =((I30*G30)+(J30*H30)) -> 9622.5272 | L30: =K30*F30 -> 9622.5272
B31: Total da Equipe do Laboratório de Concreto | L31: =SUM(L30,L28,L27) -> 21748.655
B33: Metodologia SICRO 2017 - Volume 08 Administração Local

Sheet Curva ABC de Serviços
A1: Código | B1: Banco | C1: Descrição | D1: Tipo | E1: Und | F1: Quant. | G1: Valor Unit | H1: Total | I1: Peso (%) | J1: Peso Acumulado (%) | K1: SEQ
A2: M1401131 | B2: Próprio | C2: Fornecimento do conjunto condutor de terceiro trilho, com capacidade nominal de 2900 A, completo, incluindo todos os componentes necessários para montagem do conjunto (Viga I, barras de alumínio, suportes, tirefondes, capas, espaçadores, garras, dentre outros). O conjunto condutor deverá atender as características técnicas indicadas na especificação técnica ET.4/EF.99/00.301. Quantitativo conforme Lista de Material LM.3/EF.99/00.302. | D2: SEDI - SERVIÇOS DIVERSOS | E2: m | F2: 8.567,0 | G2: 2.830,24 | H2: 24.246.666,08 | I2: 8,34 | J2: 8,34 | K2: 1
A3: M0106001 | B3: Próprio | C3: ADMINISTRAÇÃO LOCAL - SAMAMBAIA | D3: SERT - SERVIÇOS TÉCNICOS | E3: un | F3: 1,0 | G3: 17.614.579,90 | H3: 17.614.579,90 | I3: 6,06 | J3: 14,40 | K3: 2
A4: M1401077 | B4: Próprio | C4: Fornecimento de Conjunto de cubículos blindados de 1kVcc constituído em chapa de aço galvanizada por imersão de zinco a quente e estruturas metálicas com dispositivos de alívio de pressão, instalação abrigada, montagem vertical isolada da malha de terra da subestação. O conjunto de cubículos de 1 kVcc deverá atender as características técnicas conforme a especificação ET.4/EB.99/40.201. O fornecimento deve incluir os IEDs instalados nos compartimentos específicos dos cubículos 2, 3, 4 e 5, atendendo as características das especificações técnicas ET.4/EX.99/00.501 e ET.4/EX.99/00.502-2 e observando a indicação no diagrama DG.4/EX.99/00.502. | D4: SEDI - SERVIÇOS DIVERSOS | E4: un | F4: 3,0 | G4: 5.724.797,23 | H4: 17.174.391,69 | I4: 5,91 | J4: 20,31 | K4: 3
A5: 3009235 ADPT1 | B5: Próprio | C5: Fornecimento de Trilho TR57, comprimento de 12 m | D5: URBA - URBANIZAÇÃO | E5: t | F5: 785,22 | G5: 11.667,30 | H5: 9.161.397,30 | I5: 3,15 | J5: 23,46 | K5: 4
A6: 5915321 | B6: SICRO3 | C6: Transporte com caminhão basculante de 14 m³ - rodovia pavimentada | E6: tkm | F6: 14.688.257,4865632 | G6: 0,55 | H6: 8.078.541,61 | I6: 2,78 | J6: 26,24 | K6: 5
A7: M1401159 | B7: Próprio | C7: Montagem, comissionamento e testes do conjunto condutor do terceiro trilho com capacidade nominal de 2900 A. | D7: SEDI - SERVIÇOS DIVERSOS | E7: M | F7: 8.567,0 | G7: 675,65 | H7: 5.788.293,55 | I7: 1,99 | J7: 28,23 | K7: 6
A8: M1401146 | B8: Próprio | C8: Fornecimento de cabo elétrico isolado, singelo, potência em média tensão, 8,7/15 kV, cobre, tempera mole, redondo compactado, seção nominal 300 mm² temperatura de 90°C, classe de encordoamento 2, isolamento HEPR, blindagem isolação metálica em cobre; capa externa em poliolefínico, antichama, livre de halogênio e gases corrosivos. Quantitativo conforme Lista de Cabos LC.4/EE.99/00.103. | D8: SEDI - SERVIÇOS DIVERSOS | E8: m | F8: 8.340,0 | G8: 607,51 | H8: 5.066.633,40 | I8: 1,74 | J8: 29,97 | K8: 7
A9: M1401071 | B9: Próprio | C9: Fornecimento de Conjunto de cubículos de 15 kV para as SRs 64 e 65, constituído de 8 cubículos interligados pelo mesmo barramento e um cubículo isolado desse barramento. O conjunto de cubículos deve atender as características técnicas da especificação ET.4/EB.99/01.201. O fornecimento deve incluir os IEDs instalados nos compartimentos específicos dos cubículos, atendendo as características das especificações técnicas ET.4/EX.99/00.501 e ET.4/EX.99/00.502-2 e observando a indicação nos diagramas DG.4/EX.99/00.502, DG.4/EX.99/00.503. | D9: SEDI - SERVIÇOS DIVERSOS | E9: un | F9: 2,0 | G9: 2.252.624,06 | H9: 4.505.248,12 | I9: 1,55 | J9: 31,52 | K9: 8
A10: M1401144 | B10: Próprio | C10: Fornecimento de cabo de cobre, singelo, potência em média tensão, 8,7/15 kV, tempera mole, redondo compactado, seção nominal 120 mm² temperatura de 90°C, classe de encordoamento 2, isolamento HEPR, blindagem isolação metálica em cobre; capa externa em poliolefínico, antichama, livre de halogênio e gases corrosivos. Quantitativo conforme Lista de Cabos LC.4/EE.99/00.103. | D10: SEDI - SERVIÇOS DIVERSOS | E10: m | F10: 19.575,0 | G10: 225,33 | H10: 4.410.834,75 | I10: 1,52 | J10: 33,04 | K10: 9
A11: M1401085 | B11: Próprio | C11: Fornecimento de Cabo de cobre, unipolar singelo seção nominal 400 mm², isolação 0,6/1 kV em borracha HEPR, 90ºC , antichamas, livre de halogênio e gases corrosivos e cobertura em poliolefínica não halogenada na cor preta. Quantitativo conforme Lista de Cabos LC.4/EB.34/00.201, LC.4/EB.35/00.201 e LC.4/EB.36/00.201 | D11: SEDI - SERVIÇOS DIVERSOS | E11: m | F11: 9.300,0 | G11: 447,58 | H11: 4.162.494,00 | I11: 1,43 | J11: 34,47 | K11: 10
A12: 4011463 | B12: SICRO3 | C12: Concreto asfáltico - faixa C - areia e brita comerciais | E12: t | F12: 5.899,54 | G12: 585,81 | H12: 3.456.009,52 | I12: 1,19 | J12: 35,66 | K12: 11
A13: 3009004 | B13: SICRO3 | C13: Dormente de concreto monobloco protendido bitola larga - confecção | E13: un | F13: 8.618,44 | G13: 396,88 | H13: 3.420.486,46 | I13: 1,18 | J13: 36,84 | K13: 12
A14: M1401142 | B14: Próprio | C14: Fornecimento de Painel de Entrada de Energia (PEE/SAM) formado por 4 cubículos de 15 kV, instalação ao tempo, incluindo IEDs, conforme especificações técnicas ET.3/EE.99/00.101, ET.4/EX.99/00.501, ET.4/EX.99/00.502-2 e ET.4/EX.99/00.503. O fornecimento deverá abranger ainda o projeto de fabricação e testes de plataforma em fábrica. | D14: SEDI - SERVIÇOS DIVERSOS | E14: un | F14: 1,0 | G14: 3.326.447,58 | H14: 3.326.447,58 | I14: 1,14 | J14: 37,98 | K14: 13
A15: M1401072 | B15: Próprio | C15: Fornecimento de Conjunto de cubículos de 15 kV para a SR 63, constituído de 9 cubículos interligados pelo mesmo barramento e um cubículo isolado desse barramento. O conjunto de cubículos deve atender as características técnicas da especificação ET.4/EB.99/01.201. O fornecimento deve incluir os IEDs instalados nos compartimentos específicos dos cubículos, atendendo as características das especificações técnicas ET.4/EX.99/00.501 e ET.4/EX.99/00.502-2 e observando a indicação nos diagramas DG.4/EX.99/00.502, DG.4/EX.99/00.503 e DG.4/EX.99/00.506. | D15: SEDI - SERVIÇOS DIVERSOS | E15: un | F15: 1,0 | G15: 3.100.000,00 | H15: 3.100.000,00 | I15: 1,07 | J15: 39,05 | K15: 14
A16: 6817847 ADPT | B16: Próprio | C16: Corpo de BSCC - seção fechada de 2,2 x 2,2 m - pré-moldado - altura do aterro de 2,50 a 5,00 m - areia e brita comerciais | D16: URBA - URBANIZAÇÃO | E16: m | F16: 1.191,0 | G16: 2.467,75 | H16: 2.939.090,25 | I16: 1,01 | J16: 40,06 | K16: 15
A17: M1403001 | B17: Próprio | C17: FORNECIMENTO DE ESCADAS ROLANTES INCLUINDO: FERRAMENTAS E DISPOSITIVOS ESPECIAIS, DESENHO E DETALHES DOS SOBRESSALENTES, GUARDA DO EQUIPAMENTO ATÉ SUA INSTALAÇÃO, TRANSPORTE ATÉ BRASÍLIA, TRANSPORTE ATÉ O LOCAL DE INSTALAÇÃO, GARANTA POR NO MÍNIMO 12 MESES, CONFORME MD.3/AB.7G/00.001, ET.3/AB.7G/00.001 E ET.3/AB.99/00.001 | D17: SEDI - SERVIÇOS DIVERSOS | E17: un | F17: 4,0 | G17: 687.939,17 | H17: 2.751.756,68 | I17: 0,95 | J17: 41,01 | K17: 16
A18: M0206034 | B18: Próprio | C18: FORNECIMENTO, BENEFICIAMENTO (CORTE, MONTAGEM, PRÉ FIXAÇÃO, SOLDA,FURAÇÃO, JATEAMENTO E PINTURA ANTICORROSIVA) DAS VIGAS PERFIL TIPO 1 E TIPO 5 ESTRUTURAL DE AÇO SOLDADO VS 1200x200 - INCLUSIVE TRANSPORTE HORIZONTAL E VERTICAL, MONTAGEM E FIXAÇÃO POR MEIO DE LIGAÇÃO PARAFUSADA | D18: ASTU - ASSENTAMENTO DE TUBOS E PECAS | E18: Kg | F18: 127.527,0 | G18: 21,42 | H18: 2.731.628,34 | I18: 0,94 | J18: 41,95 | K18: 17
A19: M1401134 | B19: Próprio | C19: Fornecimento do Painel de Controle e Comunicação - QPC para as SRs 63, 64 e 65, conforme características técnicas especificadas nas ET.4/EX.99/00.501, ET.4/EX.99/00.502-2, ET.4/EX.99/00.503. Incluso no fornecimento os Dispositivos de Automação, a UCD (Unidade de Controle Digital), terminal microprocessador (IHM) para comando, controle e supervisão local do sistema e todos os componentes de rede como GPS, USOs (Unidade de Supervisão e Operação), Switches, DIOs, além de sistema de telesupervisão completo da SR (SCADA), Drives adicionais para SCADA central (IEC 61850) e central (SNMP), licença de software para oscilografia e banco de dados, bem como demais dispositivos indicados nas especificações técnicas mencionadas. O fornecimento deverá prever ainda testes de plataforma em fábrica. Deve ser observado o apresentado nos diagramas DG.4/EX.99/00.502 e DG.4/EX.99/00.504-2. | D19: SEDI - SERVIÇOS DIVERSOS | E19: un | F19: 3,0 | G19: 843.810,54 | H19: 2.531.431,62 | I19: 0,87 | J19: 42,82 | K19: 18
A20: M0202001 | B20: Próprio | C20: DISPOSIÇÃO FINAL DE RESÍDUOS DA CONSTRUÇÃO CIVIL SEGREGADOS | D20: SEDI - SERVIÇOS DIVERSOS | E20: m³ | F20: 313.753,7309633 | G20: 8,00 | H20: 2.510.029,84 | I20: 0,86 | J20: 43,68 | K20: 19
A21: M1401175 | B21: Próprio | C21: Montagem, comissionamento e testes da cablagem de Média Tensão 13,8 kV, conforme Projeto Básico. | D21: SEDI - SERVIÇOS DIVERSOS | E21: m | F21: 19.575,0 | G21: 126,55 | H21: 2.477.216,25 | I21: 0,85 | J21: 44,53 | K21: 20
A22: M1401075 | B22: Próprio | C22: Fornecimento de Retificador de Tração de 12 pulsos, potência de retificação nominal de 2000 kW,para operação conjunta com transformador de tração de potência de 2200 kVA. Tensão de entrada em corrente alternada definida pelo fornecedor em função da regulação do Grupo Retificador (Transformador/Retificado) tensão nominal de saída em corrente contínua 750 Vcc. O Retificador deverá atender as características técnicas conforme a especificação ET.4/EB.99/26.201. | D22: SEDI - SERVIÇOS DIVERSOS | E22: un | F22: 4,0 | G22: 601.170,13 | H22: 2.404.680,52 | I22: 0,83 | J22: 45,36 | K22: 21
A23: M1401073 | B23: Próprio | C23: Fornecimento de Transformador de Tração a seco com potência estimada de 2200 kVA para operação conjunta com retificador de 12 pulsos de 2000 kW, enrolamento primário em 13,8 kV e duplo enrolamento secundário delta/estrela defasados de 30º . A potência nominal, tensão secundária nominal e impedância do transformador a serem confirmadas pelo fornecedor considerando as características técnicas do grupo retificador. O transformador deverá atender as características técnicas conforme a especificação ET.4/EB.99/20.201. | D23: SEDI - SERVIÇOS DIVERSOS | E23: un | F23: 4,0 | G23: 586.530,82 | H23: 2.346.123,28 | I23: 0,81 | J23: 46,17 | K23: 22
A24: 0605578 ADPT2 | B24: Próprio | C24: Bueiro metálico sem interrupção de tráfego (Tunnel Liner) - D = 2,60 m - chapa com epóxi - E = 2,7 mm - escavado em material de 1ª categoria | D24: URBA - URBANIZAÇÃO | E24: m | F24: 170,32 | G24: 13.086,50 | H24: 2.228.892,68 | I24: 0,77 | J24: 46,93 | K24: 23
A25: 4805757 | B25: SICRO3 | C25: Escavação mecânica de vala em material de 1ª categoria | E25: m³ | F25: 355.341,8054571 | G25: 6,20 | H25: 2.203.119,19 | I25: 0,76 | J25: 47,69 | K25: 24
A26: 5605896 ADPT3 | B26: Próprio | C26: Grampo de aço CA-50 D = 25 mm para solo grampeado com capacidade de 158 kN - perfuração e instalação | D26: URBA - URBANIZAÇÃO | E26: m | F26: 54.390,0 | G26: 39,65 | H26: 2.156.563,50 | I26: 0,74 | J26: 48,43 | K26: 25
A27: 96539 | B27: SINAPI | C27: FABRICAÇÃO, MONTAGEM E DESMONTAGEM DE FÔRMA PARA VIGA BALDRAME, EM CHAPA DE MADEIRA COMPENSADA RESINADA, E=17 MM, 2 UTILIZAÇÕES. AF_06/2017 | D27: FUES - FUNDAÇÕES E ESTRUTURAS | E27: m² | F27: 15.882,54 | G27: 131,13 | H27: 2.082.677,47 | I27: 0,72 | J27: 49,15 | K27: 26
A28: M1401145 | B28: Próprio | C28: Fornecimento de cabo elétrico isolado, singelo, potência em média tensão, 8,7/15 kV, cobre, tempera mole, redondo compactado, seção nominal 240 mm² temperatura de 90°C, classe de encordoamento 2, isolamento HEPR, blindagem isolação metálica em cobre; capa externa em poliolefínico, antichama, livre de halogênio e gases corrosivos. Quantitativo conforme Lista de Cabos LC.4/EE.99/00.103. | D28: SEDI - SERVIÇOS DIVERSOS | E28: m | F28: 4.260,0 | G28: 471,81 | H28: 2.009.910,60 | I28: 0,69 | J28: 49,84 | K28: 27
A29: 97670 | B29: SINAPI | C29: ELETRODUTO FLEXÍVEL CORRUGADO, PEAD, DN 100 (4"), PARA REDE ENTERRADA DE DISTRIBUIÇÃO DE ENERGIA ELÉTRICA - FORNECIMENTO E INSTALAÇÃO. AF_12/2021 | D29: INEL - INSTALAÇÃO ELÉTRICA/ELETRIFICAÇÃO E ILUMINAÇÃO EXTERNA | E29: M | F29: 92.664,97 | G29: 21,52 | H29: 1.994.150,15 | I29: 0,69 | J29: 50,53 | K29: 28
A30: 0605842 ADPT | B30: Próprio | C30: Bueiro metálico sem interrupção de tráfego (Tunnel Liner) - D = 2,60 m - chapa com epóxi - E = 3,4mm - escavado em material de 1ª categoria | D30: URBA - URBANIZAÇÃO | E30: m | F30: 133,52 | G30: 14.924,83 | H30: 1.992.763,30 | I30: 0,69 | J30: 51,21 | K30: 29
A31: M0206035 | B31: Próprio | C31: FORNECIMENTO, BENEFICIAMENTO (CORTE, MONTAGEM, PRÉ FIXAÇÃO, SOLDA,FURAÇÃO, JATEAMENTO E PINTURA ANTICORROSIVA) DAS VIGAS PERFIL TIPO 2 ESTRUTURAL DE AÇO LAMINADO W 610x101 - INCLUSIVE TRANSPORTE HORIZONTAL E VERTICAL, MONTAGEM E FIXAÇÃO POR MEIO DE LIGAÇÃO PARAFUSADA | D31: ASTU - ASSENTAMENTO DE TUBOS E PECAS | E31: Kg | F31: 99.242,0 | G31: 19,18 | H31: 1.903.461,56 | I31: 0,65 | J31: 51,87 | K31: 30
A32: 4011276 | B32: SICRO3 | C32: Base ou sub-base de brita graduada com brita comercial | E32: m³ | F32: 17.059,375 | G32: 108,16 | H32: 1.845.142,00 | I32: 0,63 | J32: 52,50 | K32: 31
A33: 103675 ADPT1 | B33: Próprio | C33: CONCRETAGEM DE VIGAS E LAJES, FCK=30 MPA, PARA LAJES MACIÇAS OU NERVURADAS COM USO DE BOMBA - LANÇAMENTO, ADENSAMENTO E ACABAMENTO. | D33: SEDI - SERVIÇOS DIVERSOS | E33: m³ | F33: 3.294,37 | G33: 534,65 | H33: 1.761.334,92 | I33: 0,61 | J33: 53,11 | K33: 32
A34: 92749 | B34: SINAPI | C34: MURO DE GABIÃO, ENCHIMENTO COM PEDRA DE MÃO TIPO RACHÃO, COM SOLO REFORÇADO, PARA MUROS COM ALTURA MENOR OU IGUAL A 4 M FORNECIMENTO E EXECUÇÃO. AF_12/2015 | D34: DROP - DRENAGEM/OBRAS DE CONTENÇÃO / POÇOS DE VISITA E CAIXAS | E34: m³ | F34: 1.655,36734 | G34: 1.021,86 | H34: 1.691.553,67 | I34: 0,58 | J34: 53,69 | K34: 33
A35: M1401109 | B35: Próprio | C35: Montagem, comissionamento e testes da cablagem de 750 Vcc (400 mm²), conforme Projeto Básico (A montagem da cablagem de 750 Vcc deve considerar a interligação com o terceiro trilho e via). | D35: SEDI - SERVIÇOS DIVERSOS | E35: m | F35: 8.400,0 | G35: 200,00 | H35: 1.680.000,00 | I35: 0,58 | J35: 54,27 | K35: 34
A36: 5605896 ADPT4 | B36: Próprio | C36: Grampo de aço CA-50 D = 25 mm para solo grampeado com capacidade de 158 kN - Fornecimento | D36: URBA - URBANIZAÇÃO | E36: m | F36: 54.390,0 | G36: 30,55 | H36: 1.661.614,50 | I36: 0,57 | J36: 54,84 | K36: 35
A37: 0605571 ADPT | B37: Próprio | C37: Bueiro metálico sem interrupção de tráfego (Tunnel Liner) - D = 1,20 m - chapa com epóxi - E = 2,2 mm - escavado em material de 1ª categoria | D37: URBA - URBANIZAÇÃO | E37: m | F37: 336,0 | G37: 4.899,10 | H37: 1.646.097,60 | I37: 0,57 | J37: 55,40 | K37: 36
A38: M1401076 | B38: Próprio | C38: Fornecimento de Retificador de Tração de 12 pulsos, potência de retificação nominal de 2750 kW, para operação conjunta com transformador de tração de potência nominal de 3025 kVA. Tensão de entrada em corrente alternada definida pelo fornecedor em função da regulação do Grupo Retificador (Transformador/Retificado) tensão nominal de saída em corrente contínua 750 Vcc. O Retificador deverá atender as características técnicas conforme a especificação ET.4/EB.99/26.201. . | D38: SEDI - SERVIÇOS DIVERSOS | E38: un | F38: 2,0 | G38: 790.815,76 | H38: 1.581.631,52 | I38: 0,54 | J38: 55,95 | K38: 37
A39: 804053 | B39: SICRO3 | C39: Corpo de BSTC D = 1,50 m PA1 - areia, brita e pedra de mão comerciais | E39: m | F39: 1.084,5 | G39: 1.417,69 | H39: 1.537.484,80 | I39: 0,53 | J39: 56,48 | K39: 38
A40: 92756 | B40: SINAPI | C40: PROTEÇÃO SUPERFICIAL DE CANAL EM GABIÃO TIPO COLCHÃO, ALTURA DE 23 CENTÍMETROS, ENCHIMENTO COM PEDRA DE MÃO TIPO RACHÃO - FORNECIMENTO E EXECUÇÃO. AF_12/2015 | D40: DROP - DRENAGEM/OBRAS DE CONTENÇÃO / POÇOS DE VISITA E CAIXAS | E40: m² | F40: 5.146,88 | G40: 290,88 | H40: 1.497.124,45 | I40: 0,52 | J40: 56,99 | K40: 39
...

Sheet CUSTOS SICRO_SINAPI
B1: MENSALISTAS SINAPI 04/2022 - NÃO DESONERADO
A2: COD. | B2: DESCRIÇÃO | C2: UND. | D2: CUSTO
A3: 93558 | B3: motorista de caminhao com encargos complementares | C3: MES | D3: =VLOOKUP(A3,'SINAPI ND 0422'!A:D,4,FALSE) -> 3.725,59
A4: 93559 | B4: desenhista detalhista com encargos complementares | C4: MES | D4: =VLOOKUP(A4,'SINAPI ND 0422'!A:D,4,FALSE) -> 3.319,11
A5: 93560 | B5: desenhista copista com encargos complementares | C5: MES | D5: =VLOOKUP(A5,'SINAPI ND 0422'!A:D,4,FALSE) -> 1.536,43
A6: 93561 | B6: desenhista projetista com encargos complementares | C6: MES | D6: =VLOOKUP(A6,'SINAPI ND 0422'!A:D,4,FALSE) -> 2.629,41
A7: 93562 | B7: auxiliar de desenhista com encargos complementares | C7: MES | D7: =VLOOKUP(A7,'SINAPI ND 0422'!A:D,4,FALSE) -> 2.119,57
A8: 93563 | B8: almoxarife com encargos complementares | C8: MES | D8: =VLOOKUP(A8,'SINAPI ND 0422'!A:D,4,FALSE) -> 5.061,64
A9: 93564 | B9: apontador ou apropriador com encargos complementares | C9: MES | D9: =VLOOKUP(A9,'SINAPI ND 0422'!A:D,4,FALSE) -> 4.878,46
A10: 93565 | B10: Engenheiro Civil de Obra Júnior | C10: MES | D10: =VLOOKUP(A10,'SINAPI ND 0422'!A:D,4,FALSE) -> 16.332,05
A11: 93566 | B11: auxiliar de escritorio com encargos complementares | C11: MES | D11: =VLOOKUP(A11,'SINAPI ND 0422'!A:D,4,FALSE) -> 3.840,43
A12: 93567 | B12: engenheiro civil de obra pleno com encargos complementares | C12: MES | D12: =VLOOKUP(A12,'SINAPI ND 0422'!A:D,4,FALSE) -> 18.549,21
A13: 93568 | B13: engenheiro civil de obra senior com encargos complementares | C13: MES | D13: =VLOOKUP(A13,'SINAPI ND 0422'!A:D,4,FALSE) -> 25.250,01
A14: 93569 | B14: arquiteto junior com encargos complementares | C14: MES | D14: =VLOOKUP(A14,'SINAPI ND 0422'!A:D,4,FALSE) -> 12.067,63
... A19: 94296 | B19: topografo com encargos complementares | C19: MES | D19: =VLOOKUP(A19,'SINAPI ND 0422'!A:D,4,FALSE) -> 3.490,25
B21: SICRO -DF 04/2022- Sem desoneração
A22: P9803 | B22: Almoxarife | C22: mês | D22: =VLOOKUP(A22,'SICRO MO ND 0422'!A:G,6,FALSE) -> 4228.7868
A23: P9804 | B23: Apontador | C23: mês | D23: =VLOOKUP(A23,'SICRO MO ND 0422'!A:G,6,FALSE) -> 4051.144
A24: P9806 | B24: Auxiliar administrativo | C24: mês | D24: =VLOOKUP(A24,'SICRO MO ND 0422'!A:G,6,FALSE) -> 3804.4425
A25: P9809 | B25: Encarregado administrativo | C25: mês | D25: =VLOOKUP(A25,'SICRO MO ND 0422'!A:G,6,FALSE) -> 7182.9449
A26: P9811 | B26: Encarregado especializado | C26: mês | D26: =VLOOKUP(A26,'SICRO MO ND 0422'!A:G,6,FALSE) -> 6885.8442
A27: P9812 | B27: Engenheiro | C27: mês | D27: =VLOOKUP(A27,'SICRO MO ND 0422'!A:G,6,FALSE) -> 21625.217
A28: P9814 | B28: Operacional | C28: mês | D28: =VLOOKUP(A28,'SICRO MO ND 0422'!A:G,6,FALSE) -> 3360.6835
A29: P9816 | B29: Encarregado de mergulho | C29: mês | D29: =VLOOKUP(A29,'SICRO MO ND 0422'!A:G,6,FALSE) -> 7076.0062
