Workbook

Sheet Fisico-financeiro
B1: CONTRATAÇÃO DE EMPRESA ESPECIALIZADA PARA A REALIZAÇÃO DAS OBRAS CIVIS E DE SISTEMAS DO TRECHO SAMAMBAIA DA EXPANSÃO DA LINHA 1 DO METRÔ-DF CRONOGRAMA FÍSICO FINANCEIRO | I1: REV03
A2: Obra | B2: Expansão do Metrô-DF | C2: Local | D2: Samambaia DF
B3: CUSTO GLOBAL | C3: =SUM(C7:C332) -> 3.4377897e+08 | L3: 2023 | M3: =SUM(J4:N4) -> 4753283.2 | X3: 2024 | Y3: =SUM(O4:Z4) -> 80941875 | AJ3: 2025 | AK3: =SUM(AA4:AL4) -> 1.0833806e+08 | AV3: 2026 | AW3: =SUM(AM4:AX4) -> 53358434 | BH3: 2027 | BI3: =SUM(AY4:BJ4) -> 73180874 | BS3: 2028 | BT3: =SUM(BK4:BU4) -> 23206452
K4: =SUM(K8+K10+K12+K14+K16+K18+K20+K22+K24+K26+K28+K30+K32+K34+K36+K38+K40+K42+K44+K46+K48+K50+K52+K54+K56+K58+K60+K62+K64+K66+K68+K70+K72+K74+K76+K78+K80+K82+K84+K86+K88+K90+K92+K94+K96+K98+K100+K102+K104+K106+K108+K110+K112+K114+K116+K118+K120+K122+K124+K126+K128+K130+K132+K134+K136+K138+K140+K142+K144+K146+K148+K150+K152+K154+K156+K158+K160+K162+K164+K166+K168+K170+K172+K174+K176+K178+K180+K182+K184+K186+K188+K190+K192+K194+K196+K198+K200+K202+K204+K206+K208+K210+K212+K214+K216+K218+K220+K222+K224+K226+K228+K230+K232+K234+K236+K238+K240+K242+K244+K246+K248+K250+K252+K254+K256+K258+K260+K262+K264+K266+K268+K270+K272+K274+K276+K278+K280+K282+K284+K286+K288+K290+K292+K294+K296+K298+K300+K302+K304+K306+K308+K310+K312+K314+K316+K318+K320+K322+K324+K326+K328+K330+K332) -> 464756.69 | L4: =SUM(L8+L10+L12+L14+L16+L18+L20+L22+L24+L26+L28+L30+L32+L34+L36+L38+L40+L42+L44+L46+L48+L50+L52+L54+L56+L58+L60+L62+L64+L66+L68+L70+L72+L74+L76+L78+L80+L82+L84+L86+L88+L90+L92+L94+L96+L98+L100+L102+L104+L106+L108+L110+L112+L114+L116+L118+L120+L122+L124+L126+L128+L130+L132+L134+L136+L138+L140+L142+L144+L146+L148+L150+L152+L154+L156+L158+L160+L162+L164+L166+L168+L170+L172+L174+L176+L178+L180+L182+L184+L186+L188+L190+L192+L194+L196+L198+L200+L202+L204+L206+L208+L210+L212+L214+L216+L218+L220+L222+L224+L226+L228+L230+L232+L234+L236+L238+L240+L242+L244+L246+L248+L250+L252+L254+L256+L258+L260+L262+L264+L266+L268+L270+L272+L274+L276+L278+L280+L282+L284+L286+L288+L290+L292+L294+L296+L298+L300+L302+L304+L306+L308+L310+L312+L314+L316+L318+L320+L322+L324+L326+L328+L330+L332) -> 2810783.4 | M4: =SUM(M8+M10+M12+M14+M16+M18+M20+M22+M24+M26+M28+M30+M32+M34+M36+M38+M40+M42+M44+M46+M48+M50+M52+M54+M56+M58+M60+M62+M64+M66+M68+M70+M72+M74+M76+M78+M80+M82+M84+M86+M88+M90+M92+M94+M96+M98+M100+M102+M104+M106+M108+M110+M112+M114+M116+M118+M120+M122+M124+M126+M128+M130+M132+M134+M136+M138+M140+M142+M144+M146+M148+M150+M152+M154+M156+M158+M160+M162+M164+M166+M168+M170+M172+M174+M176+M178+M180+M182+M184+M186+M188+M190+M192+M194+M196+M198+M200+M202+M204+M206+M208+M210+M212+M214+M216+M218+M220+M222+M224+M226+M228+M230+M232+M234+M236+M238+M240+M242+M244+M246+M248+M250+M252+M254+M256+M258+M260+M262+M264+M266+M268+M270+M272+M274+M276+M278+M280+M282+M284+M286+M288+M290+M292+M294+M296+M298+M300+M302+M304+M306+M308+M310+M312+M314+M316+M318+M320+M322+M324+M326+M328+M330+M332) -> 692524.3 | N4: =SUM(N8+N10+N12+N14+N16+N18+N20+N22+N24+N26+N28+N30+N32+N34+N36+N38+N40+N42+N44+N46+N48+N50+N52+N54+N56+N58+N60+N62+N64+N66+N68+N70+N72+N74+N76+N78+N80+N82+N84+N86+N88+N90+N92+N94+N96+N98+N100+N102+N104+N106+N108+N110+N112+N114+N116+N118+N120+N122+N124+N126+N128+N130+N132+N134+N136+N138+N140+N142+N144+N146+N148+N150+N152+N154+N156+N158+N160+N162+N164+N166+N168+N170+N172+N174+N176+N178+N180+N182+N184+N186+N188+N190+N192+N194+N196+N198+N200+N202+N204+N206+N208+N210+N212+N214+N216+N218+N220+N222+N224+N226+N228+N230+N232+N234+N236+N238+N240+N242+N244+N246+N248+N250+N252+N254+N256+N258+N260+N262+N264+N266+N268+N270+N272+N274+N276+N278+N280+N282+N284+N286+N288+N290+N292+N294+N296+N298+N300+N302+N304+N306+N308+N310+N312+N314+N316+N318+N320+N322+N324+N326+N328+N330+N332) -> 785218.87 | O4: =SUM(O8+O10+O12+O14+O16+O18+O20+O22+O24+O26+O28+O30+O32+O34+O36+O38+O40+O42+O44+O46+O48+O50+O52+O54+O56+O58+O60+O62+O64+O66+O68+O70+O72+O74+O76+O78+O80+O82+O84+O86+O88+O90+O92+O94+O96+O98+O100+O102+O104+O106+O108+O110+O112+O114+O116+O118+O120+O122+O124+O126+O128+O130+O132+O134+O136+O138+O140+O142+O144+O146+O148+O150+O152+O154+O156+O158+O160+O162+O164+O166+O168+O170+O172+O174+O176+O178+O180+O182+O184+O186+O188+O190+O192+O194+O196+O198+O200+O202+O204+O206+O208+O210+O212+O214+O216+O218+O220+O222+O224+O226+O228+O230+O232+O234+O236+O238+O240+O242+O244+O246+O248+O250+O252+O254+O256+O258+O260+O262+O264+O266+O268+O270+O272+O274+O276+O278+O280+O282+O284+O286+O288+O290+O292+O294+O296+O298+O300+O302+O304+O306+O308+O310+O312+O314+O316+O318+O320+O322+O324+O326+O328+O330+O332) -> 1241018.5 | P4: =SUM(P8+P10+P12+P14+P16+P18+P20+P22+P24+P26+P28+P30+P32+P34+P36+P38+P40+P42+P44+P46+P48+P50+P52+P54+P56+P58+P60+P62+P64+P66+P68+P70+P72+P74+P76+P78+P80+P82+P84+P86+P88+P90+P92+P94+P96+P98+P100+P102+P104+P106+P108+P110+P112+P114+P116+P118+P120+P122+P124+P126+P128+P130+P132+P134+P136+P138+P140+P142+P144+P146+P148+P150+P152+P154+P156+P158+P160+P162+P164+P166+P168+P170+P172+P174+P176+P178+P180+P182+P184+P186+P188+P190+P192+P194+P196+P198+P200+P202+P204+P206+P208+P210+P212+P214+P216+P218+P220+P222+P224+P226+P228+P230+P232+P234+P236+P238+P240+P242+P244+P246+P248+P250+P252+P254+P256+P258+P260+P262+P264+P266+P268+P270+P272+P274+P276+P278+P280+P282+P284+P286+P288+P290+P292+P294+P296+P298+P300+P302+P304+P306+P308+P310+P312+P314+P316+P318+P320+P322+P324+P326+P328+P330+P332) -> 1258484.3 | Q4: =SUM(Q8+Q10+Q12+Q14+Q16+Q18+Q20+Q22+Q24+Q26+Q28+Q30+Q32+Q34+Q36+Q38+Q40+Q42+Q44+Q46+Q48+Q50+Q52+Q54+Q56+Q58+Q60+Q62+Q64+Q66+Q68+Q70+Q72+Q74+Q76+Q78+Q80+Q82+Q84+Q86+Q88+Q90+Q92+Q94+Q96+Q98+Q100+Q102+Q104+Q106+Q108+Q110+Q112+Q114+Q116+Q118+Q120+Q122+Q124+Q126+Q128+Q130+Q132+Q134+Q136+Q138+Q140+Q142+Q144+Q146+Q148+Q150+Q152+Q154+Q156+Q158+Q160+Q162+Q164+Q166+Q168+Q170+Q172+Q174+Q176+Q178+Q180+Q182+Q184+Q186+Q188+Q190+Q192+Q194+Q196+Q198+Q200+Q202+Q204+Q206+Q208+Q210+Q212+Q214+Q216+Q218+Q220+Q222+Q224+Q226+Q228+Q230+Q232+Q234+Q236+Q238+Q240+Q242+Q244+Q246+Q248+Q250+Q252+Q254+Q256+Q258+Q260+Q262+Q264+Q266+Q268+Q270+Q272+Q274+Q276+Q278+Q280+Q282+Q284+Q286+Q288+Q290+Q292+Q294+Q296+Q298+Q300+Q302+Q304+Q306+Q308+Q310+Q312+Q314+Q316+Q318+Q320+Q322+Q324+Q326+Q328+Q330+Q332) -> 1274627.7 | R4: =SUM(R8+R10+R12+R14+R16+R18+R20+R22+R24+R26+R28+R30+R32+R34+R36+R38+R40+R42+R44+R46+R48+R50+R52+R54+R56+R58+R60+R62+R64+R66+R68+R70+R72+R74+R76+R78+R80+R82+R84+R86+R88+R90+R92+R94+R96+R98+R100+R102+R104+R106+R108+R110+R112+R114+R116+R118+R120+R122+R124+R126+R128+R130+R132+R134+R136+R138+R140+R142+R144+R146+R148+R150+R152+R154+R156+R158+R160+R162+R164+R166+R168+R170+R172+R174+R176+R178+R180+R182+R184+R186+R188+R190+R192+R194+R196+R198+R200+R202+R204+R206+R208+R210+R212+R214+R216+R218+R220+R222+R224+R226+R228+R230+R232+R234+R236+R238+R240+R242+R244+R246+R248+R250+R252+R254+R256+R258+R260+R262+R264+R266+R268+R270+R272+R274+R276+R278+R280+R282+R284+R286+R288+R290+R292+R294+R296+R298+R300+R302+R304+R306+R308+R310+R312+R314+R316+R318+R320+R322+R324+R326+R328+R330+R332) -> 1307370.3 | ... BU4: =SUM(BU8+BU10+BU12+BU14+BU16+BU18+BU20+BU22+BU24+BU26+BU28+BU30+BU32+BU34+BU36+BU38+BU40+BU42+BU44+BU46+BU48+BU50+BU52+BU54+BU56+BU58+BU60+BU62+BU64+BU66+BU68+BU70+BU72+BU74+BU76+BU78+BU80+BU82+BU84+BU86+BU88+BU90+BU92+BU94+BU96+BU98+BU100+BU102+BU104+BU106+BU108+BU110+BU112+BU114+BU116+BU118+BU120+BU122+BU124+BU126+BU128+BU130+BU132+BU134+BU136+BU138+BU140+BU142+BU144+BU146+BU148+BU150+BU152+BU154+BU156+BU158+BU160+BU162+BU164+BU166+BU168+BU170+BU172+BU174+BU176+BU178+BU180+BU182+BU184+BU186+BU188+BU190+BU192+BU194+BU196+BU198+BU200+BU202+BU204+BU206+BU208+BU210+BU212+BU214+BU216+BU218+BU220+BU222+BU224+BU226+BU228+BU230+BU232+BU234+BU236+BU238+BU240+BU242+BU244+BU246+BU248+BU250+BU252+BU254+BU256+BU258+BU260+BU262+BU264+BU266+BU268+BU270+BU272+BU274+BU276+BU278+BU280+BU282+BU284+BU286+BU288+BU290+BU292+BU294+BU296+BU298+BU300+BU302+BU304+BU306+BU308+BU310+BU312+BU314+BU316+BU318+BU320+BU322+BU324+BU326+BU328+BU330+BU332) -> 1081664.6
A5: Item | B5: Fase / Tarefa / Atividade | C5: Custo | D5: Mês de início | E5: Meses após início | F5: Duração | G5: Duração | H5: Data de término
C6: R$ | F6: (meses) | G6: (dias) | J6: =EOMONTH(K6,-1) -> 45169 | K6: =EOMONTH(MIN(D:D),0) -> 45199 | L6: =EOMONTH(K6,1) -> 45230 | M6: =EOMONTH(L6,1) -> 45260 | N6: =EOMONTH(M6,1) -> 45291 | O6: =EOMONTH(N6,1) -> 45322 | P6: =EOMONTH(O6,1) -> 45351 | Q6: =EOMONTH(P6,1) -> 45382 | R6: =EOMONTH(Q6,1) -> 45412 | S6: =EOMONTH(R6,1) -> 45443 | ... BU6: =EOMONTH(BT6,1) -> 47087
A7: 1. | B7: SERVIÇOS TÉCNICOS PROFISSIONAIS | D7: 45170 | F7: 50 | G7: =IF(F7<>"",H7-D7,"") -> 1551 | H7: =IFERROR(EOMONTH(D7,F7),"") -> 46721 | I7: Físico | J7: 0 | K7: =IFERROR(IF(AND($D7<=K$6,SUM($I7:J7)<>1),1/$F7,0),0) -> 0.02 | L7: =IFERROR(IF(AND($D7<=L$6,SUM($I7:K7)<>1),1/$F7,0),0) -> 0.02 | M7: =IFERROR(IF(AND($D7<=M$6,SUM($I7:L7)<>1),1/$F7,0),0) -> 0.02 | N7: =IFERROR(IF(AND($D7<=N$6,SUM($I7:M7)<>1),1/$F7,0),0) -> 0.02 | O7: =IFERROR(IF(AND($D7<=O$6,SUM($I7:N7)<>1),1/$F7,0),0) -> 0.02 | P7: =IFERROR(IF(AND($D7<=P$6,SUM($I7:O7)<>1),1/$F7,0),0) -> 0.02 | Q7: =IFERROR(IF(AND($D7<=Q$6,SUM($I7:P7)<>1),1/$F7,0),0) -> 0.02 | R7: =IFERROR(IF(AND($D7<=R$6,SUM($I7:Q7)<>1),1/$F7,0),0) -> 0.02 | ... BU7: =IFERROR(IF(AND($D7<=BU$6,SUM($I7:BT7)<>1),1/$F7,0),0) -> 0
I8: Financeiro | J8: =J7*$C7 -> 0 | K8: =K7*$C7 -> 0 | L8: =L7*$C7 -> 0 | M8: =M7*$C7 -> 0 | N8: =N7*$C7 -> 0 | O8: =O7*$C7 -> 0 | P8: =P7*$C7 -> 0 | Q8: =Q7*$C7 -> 0 | ... BU8: =BU7*$C7 -> 0
A9: 1.1 | B9: SERVIÇOS TÉCNICOS | D9: =EDATE(D$7,E9) -> 45170 | E9: 0 | F9: 19 | G9: =IF(F9<>"",H9-D9,"") -> 607 | H9: =IFERROR(EOMONTH(D9,F9),"") -> 45777 | I9: Físico | J9: 0 | K9: =IFERROR(IF(AND($D9<=K$6,SUM($I9:J9)<>1),1/$F9,0),0) -> 0.052631579 | L9: =IFERROR(IF(AND($D9<=L$6,SUM($I9:K9)<>1),1/$F9,0),0) -> 0.052631579 | M9: =IFERROR(IF(AND($D9<=M$6,SUM($I9:L9)<>1),1/$F9,0),0) -> 0.052631579 | N9: =IFERROR(IF(AND($D9<=N$6,SUM($I9:M9)<>1),1/$F9,0),0) -> 0.052631579 | O9: =IFERROR(IF(AND($D9<=O$6,SUM($I9:N9)<>1),1/$F9,0),0) -> 0.052631579 | P9: =IFERROR(IF(AND($D9<=P$6,SUM($I9:O9)<>1),1/$F9,0),0) -> 0.052631579 | Q9: =IFERROR(IF(AND($D9<=Q$6,SUM($I9:P9)<>1),1/$F9,0),0) -> 0.052631579 | R9: =IFERROR(IF(AND($D9<=R$6,SUM($I9:Q9)<>1),1/$F9,0),0) -> 0.052631579 | ... BU9: =IFERROR(IF(AND($D9<=BU$6,SUM($I9:BT9)<>1),1/$F9,0),0) -> 0
I10: Financeiro | J10: =J9*$C9 -> 0 | K10: =K9*$C9 -> 0 | L10: =L9*$C9 -> 0 | M10: =M9*$C9 -> 0 | N10: =N9*$C9 -> 0 | O10: =O9*$C9 -> 0 | P10: =P9*$C9 -> 0 | Q10: =Q9*$C9 -> 0 | ... BU10: =BU9*$C9 -> 0
A11: 1.1.1 | B11: SERVIÇOS TÉCNICOS | C11: =VLOOKUP(A11,'Resumo Eventograma'!A:E,5,FALSE) -> 481394.2 | D11: =EDATE(D$7,E11) -> 45170 | E11: 0 | F11: 19 | G11: =IF(F11<>"",H11-D11,"") -> 607 | H11: =IFERROR(EOMONTH(D11,F11),"") -> 45777 | I11: Físico | J11: 0 | K11: =IFERROR(IF(AND($D11<=K$6,SUM($I11:J11)<>1),1/$F11,0),0) -> 0.052631579 | L11: =IFERROR(IF(AND($D11<=L$6,SUM($I11:K11)<>1),1/$F11,0),0) -> 0.052631579 | M11: =IFERROR(IF(AND($D11<=M$6,SUM($I11:L11)<>1),1/$F11,0),0) -> 0.052631579 | N11: =IFERROR(IF(AND($D11<=N$6,SUM($I11:M11)<>1),1/$F11,0),0) -> 0.052631579 | O11: =IFERROR(IF(AND($D11<=O$6,SUM($I11:N11)<>1),1/$F11,0),0) -> 0.052631579 | P11: =IFERROR(IF(AND($D11<=P$6,SUM($I11:O11)<>1),1/$F11,0),0) -> 0.052631579 | Q11: =IFERROR(IF(AND($D11<=Q$6,SUM($I11:P11)<>1),1/$F11,0),0) -> 0.052631579 | R11: =IFERROR(IF(AND($D11<=R$6,SUM($I11:Q11)<>1),1/$F11,0),0) -> 0.052631579 | ... BU11: =IFERROR(IF(AND($D11<=BU$6,SUM($I11:BT11)<>1),1/$F11,0),0) -> 0
I12: Financeiro | J12: =J11*$C11 -> 0 | K12: =K11*$C11 -> 25336.537 | L12: =L11*$C11 -> 25336.537 | M12: =M11*$C11 -> 25336.537 | N12: =N11*$C11 -> 25336.537 | O12: =O11*$C11 -> 25336.537 | P12: =P11*$C11 -> 25336.537 | Q12: =Q11*$C11 -> 25336.537 | ... BU12: =BU11*$C11 -> 0
A13: 1.2 | B13: PROJETOS EXECUTIVOS OBRAS CIVIS | D13: =EDATE(D$7,E13) -> 45170 | E13: 0 | F13: 13 | G13: =IF(F13<>"",H13-D13,"") -> 426 | H13: =IFERROR(EOMONTH(D13,F13),"") -> 45596 | I13: Físico | J13: 0 | K13: =IFERROR(IF(AND($D13<=K$6,SUM($I13:J13)<>1),1/$F13,0),0) -> 0.076923077 | L13: =IFERROR(IF(AND($D13<=L$6,SUM($I13:K13)<>1),1/$F13,0),0) -> 0.076923077 | M13: =IFERROR(IF(AND($D13<=M$6,SUM($I13:L13)<>1),1/$F13,0),0) -> 0.076923077 | N13: =IFERROR(IF(AND($D13<=N$6,SUM($I13:M13)<>1),1/$F13,0),0) -> 0.076923077 | O13: =IFERROR(IF(AND($D13<=O$6,SUM($I13:N13)<>1),1/$F13,0),0) -> 0.076923077 | P13: =IFERROR(IF(AND($D13<=P$6,SUM($I13:O13)<>1),1/$F13,0),0) -> 0.076923077 | Q13: =IFERROR(IF(AND($D13<=Q$6,SUM($I13:P13)<>1),1/$F13,0),0) -> 0.076923077 | R13: =IFERROR(IF(AND($D13<=R$6,SUM($I13:Q13)<>1),1/$F13,0),0) -> 0.076923077 | ... BU13: =IFERROR(IF(AND($D13<=BU$6,SUM($I13:BT13)<>1),1/$F13,0),0) -> 0
I14: Financeiro | J14: =J13*$C13 -> 0 | K14: =K13*$C13 -> 0 | L14: =L13*$C13 -> 0 | M14: =M13*$C13 -> 0 | N14: =N13*$C13 -> 0 | O14: =O13*$C13 -> 0 | P14: =P13*$C13 -> 0 | Q14: =Q13*$C13 -> 0 | ... BU14: =BU13*$C13 -> 0
A15: 1.2.1 | B15: PROJETO EXECUTIVO ESTAÇÃO 35 | C15: =VLOOKUP(A15,'Resumo Eventograma'!A:E,5,FALSE) -> 360830.76 | D15: =EDATE(D$7,E15) -> 45261 | E15: 3 | F15: 9 | G15: =IF(F15<>"",H15-D15,"") -> 304 | H15: =IFERROR(EOMONTH(D15,F15),"") -> 45565 | I15: Físico | J15: 0 | K15: =IFERROR(IF(AND($D15<=K$6,SUM($I15:J15)<>1),1/$F15,0),0) -> 0 | L15: =IFERROR(IF(AND($D15<=L$6,SUM($I15:K15)<>1),1/$F15,0),0) -> 0 | M15: =IFERROR(IF(AND($D15<=M$6,SUM($I15:L15)<>1),1/$F15,0),0) -> 0 | N15: =IFERROR(IF(AND($D15<=N$6,SUM($I15:M15)<>1),1/$F15,0),0) -> 0.11111111 | O15: =IFERROR(IF(AND($D15<=O$6,SUM($I15:N15)<>1),1/$F15,0),0) -> 0.11111111 | P15: =IFERROR(IF(AND($D15<=P$6,SUM($I15:O15)<>1),1/$F15,0),0) -> 0.11111111 | Q15: =IFERROR(IF(AND($D15<=Q$6,SUM($I15:P15)<>1),1/$F15,0),0) -> 0.11111111 | R15: =IFERROR(IF(AND($D15<=R$6,SUM($I15:Q15)<>1),1/$F15,0),0) -> 0.11111111 | ... BU15: =IFERROR(IF(AND($D15<=BU$6,SUM($I15:BT15)<>1),1/$F15,0),0) -> 0
I16: Financeiro | J16: =J15*$C15 -> 0 | K16: =K15*$C15 -> 0 | L16: =L15*$C15 -> 0 | M16: =M15*$C15 -> 0 | N16: =N15*$C15 -> 40092.307 | O16: =O15*$C15 -> 40092.307 | P16: =P15*$C15 -> 40092.307 | Q16: =Q15*$C15 -> 40092.307 | ... BU16: =BU15*$C15 -> 0
A17: 1.2.2 | B17: PROJETO EXECUTIVO ESTAÇÃO 36 | C17: =VLOOKUP(A17,'Resumo Eventograma'!A:E,5,FALSE) -> 192650.92 | D17: =EDATE(D$7,E17) -> 45292 | E17: 4 | F17: 11 | G17: =IF(F17<>"",H17-D17,"") -> 365 | H17: =IFERROR(EOMONTH(D17,F17),"") -> 45657 | I17: Físico | J17: 0 | K17: =IFERROR(IF(AND($D17<=K$6,SUM($I17:J17)<>1),1/$F17,0),0) -> 0 | L17: =IFERROR(IF(AND($D17<=L$6,SUM($I17:K17)<>1),1/$F17,0),0) -> 0 | M17: =IFERROR(IF(AND($D17<=M$6,SUM($I17:L17)<>1),1/$F17,0),0) -> 0 | N17: =IFERROR(IF(AND($D17<=N$6,SUM($I17:M17)<>1),1/$F17,0),0) -> 0 | O17: =IFERROR(IF(AND($D17<=O$6,SUM($I17:N17)<>1),1/$F17,0),0) -> 0.090909091 | P17: =IFERROR(IF(AND($D17<=P$6,SUM($I17:O17)<>1),1/$F17,0),0) -> 0.090909091 | Q17: =IFERROR(IF(AND($D17<=Q$6,SUM($I17:P17)<>1),1/$F17,0),0) -> 0.090909091 | R17: =IFERROR(IF(AND($D17<=R$6,SUM($I17:Q17)<>1),1/$F17,0),0) -> 0.090909091 | ... BU17: =IFERROR(IF(AND($D17<=BU$6,SUM($I17:BT17)<>1),1/$F17,0),0) -> 0
I18: Financeiro | J18: =J17*$C17 -> 0 | K18: =K17*$C17 -> 0 | L18: =L17*$C17 -> 0 | M18: =M17*$C17 -> 0 | N18: =N17*$C17 -> 0 | O18: =O17*$C17 -> 17513.72 | P18: =P17*$C17 -> 17513.72 | Q18: =Q17*$C17 -> 17513.72 | ... BU18: =BU17*$C17 -> 0
A19: 1.2.3 | B19: PROJETO EXECUTIVO VIA PERMANENTE | C19: =VLOOKUP(A19,'Resumo Eventograma'!A:E,5,FALSE) -> 349919.84 | D19: =EDATE(D$7,E19) -> 45292 | E19: 4 | F19: 11 | G19: =IF(F19<>"",H19-D19,"") -> 365 | H19: =IFERROR(EOMONTH(D19,F19),"") -> 45657 | I19: Físico | J19: 0 | K19: =IFERROR(IF(AND($D19<=K$6,SUM($I19:J19)<>1),1/$F19,0),0) -> 0 | L19: =IFERROR(IF(AND($D19<=L$6,SUM($I19:K19)<>1),1/$F19,0),0) -> 0 | M19: =IFERROR(IF(AND($D19<=M$6,SUM($I19:L19)<>1),1/$F19,0),0) -> 0 | N19: =IFERROR(IF(AND($D19<=N$6,SUM($I19:M19)<>1),1/$F19,0),0) -> 0 | O19: =IFERROR(IF(AND($D19<=O$6,SUM($I19:N19)<>1),1/$F19,0),0) -> 0.090909091 | P19: =IFERROR(IF(AND($D19<=P$6,SUM($I19:O19)<>1),1/$F19,0),0) -> 0.090909091 | Q19: =IFERROR(IF(AND($D19<=Q$6,SUM($I19:P19)<>1),1/$F19,0),0) -> 0.090909091 | R19: =IFERROR(IF(AND($D19<=R$6,SUM($I19:Q19)<>1),1/$F19,0),0) -> 0.090909091 | ... BU19: =IFERROR(IF(AND($D19<=BU$6,SUM($I19:BT19)<>1),1/$F19,0),0) -> 0
I20: Financeiro | J20: =J19*$C19 -> 0 | K20: =K19*$C19 -> 0 | L20: =L19*$C19 -> 0 | M20: =M19*$C19 -> 0 | N20: =N19*$C19 -> 0 | O20: =O19*$C19 -> 31810.895 | P20: =P19*$C19 -> 31810.895 | Q20: =Q19*$C19 -> 31810.895 | ... BU20: =BU19*$C19 -> 0
A21: 1.2.4 | B21: PROJETO EXECUTIVO SISTEMA VIÁRIO | C21: =VLOOKUP(A21,'Resumo Eventograma'!A:E,5,FALSE) -> 315613.59 | D21: =EDATE(D$7,E21) -> 45261 | E21: 3 | F21: 6 | G21: =IF(F21<>"",H21-D21,"") -> 212 | H21: =IFERROR(EOMONTH(D21,F21),"") -> 45473 | I21: Físico | J21: 0 | K21: =IFERROR(IF(AND($D21<=K$6,SUM($I21:J21)<>1),1/$F21,0),0) -> 0 | L21: =IFERROR(IF(AND($D21<=L$6,SUM($I21:K21)<>1),1/$F21,0),0) -> 0 | M21: =IFERROR(IF(AND($D21<=M$6,SUM($I21:L21)<>1),1/$F21,0),0) -> 0 | N21: =IFERROR(IF(AND($D21<=N$6,SUM($I21:M21)<>1),1/$F21,0),0) -> 0.16666667 | O21: =IFERROR(IF(AND($D21<=O$6,SUM($I21:N21)<>1),1/$F21,0),0) -> 0.16666667 | P21: =IFERROR(IF(AND($D21<=P$6,SUM($I21:O21)<>1),1/$F21,0),0) -> 0.16666667 | Q21: =IFERROR(IF(AND($D21<=Q$6,SUM($I21:P21)<>1),1/$F21,0),0) -> 0.16666667 | R21: =IFERROR(IF(AND($D21<=R$6,SUM($I21:Q21)<>1),1/$F21,0),0) -> 0.16666667 | ... BU21: =IFERROR(IF(AND($D21<=BU$6,SUM($I21:BT21)<>1),1/$F21,0),0) -> 0
I22: Financeiro | J22: =J21*$C21 -> 0 | K22: =K21*$C21 -> 0 | L22: =L21*$C21 -> 0 | M22: =M21*$C21 -> 0 | N22: =N21*$C21 -> 52602.265 | O22: =O21*$C21 -> 52602.265 | P22: =P21*$C21 -> 52602.265 | Q22: =Q21*$C21 -> 52602.265 | ... BU22: =BU21*$C21 -> 0
A23: 1.2.5 | B23: PROJETO EXECUTIVO VIADUTOS | C23: =VLOOKUP(A23,'Resumo Eventograma'!A:E,5,FALSE) -> 275872.8 | D23: =EDATE(D$7,E23) -> 45292 | E23: 4 | F23: 4 | G23: =IF(F23<>"",H23-D23,"") -> 151 | H23: =IFERROR(EOMONTH(D23,F23),"") -> 45443 | I23: Físico | J23: 0 | K23: =IFERROR(IF(AND($D23<=K$6,SUM($I23:J23)<>1),1/$F23,0),0) -> 0 | L23: =IFERROR(IF(AND($D23<=L$6,SUM($I23:K23)<>1),1/$F23,0),0) -> 0 | M23: =IFERROR(IF(AND($D23<=M$6,SUM($I23:L23)<>1),1/$F23,0),0) -> 0 | N23: =IFERROR(IF(AND($D23<=N$6,SUM($I23:M23)<>1),1/$F23,0),0) -> 0 | O23: =IFERROR(IF(AND($D23<=O$6,SUM($I23:N23)<>1),1/$F23,0),0) -> 0.25 | P23: =IFERROR(IF(AND($D23<=P$6,SUM($I23:O23)<>1),1/$F23,0),0) -> 0.25 | Q23: =IFERROR(IF(AND($D23<=Q$6,SUM($I23:P23)<>1),1/$F23,0),0) -> 0.25 | R23: =IFERROR(IF(AND($D23<=R$6,SUM($I23:Q23)<>1),1/$F23,0),0) -> 0.25 | ... BU23: =IFERROR(IF(AND($D23<=BU$6,SUM($I23:BT23)<>1),1/$F23,0),0) -> 0
I24: Financeiro | J24: =J23*$C23 -> 0 | K24: =K23*$C23 -> 0 | L24: =L23*$C23 -> 0 | M24: =M23*$C23 -> 0 | N24: =N23*$C23 -> 0 | O24: =O23*$C23 -> 68968.2 | P24: =P23*$C23 -> 68968.2 | Q24: =Q23*$C23 -> 68968.2 | ... BU24: =BU23*$C23 -> 0
A25: 1.2.6 | B25: PROJETO EXECUTIVO COMPLEMENTAR | C25: =VLOOKUP(A25,'Resumo Eventograma'!A:E,5,FALSE) -> 286944.62 | D25: =EDATE(D$7,E25) -> 45200 | E25: 1 | F25: 6 | G25: =IF(F25<>"",H25-D25,"") -> 212 | H25: =IFERROR(EOMONTH(D25,F25),"") -> 45412 | I25: Físico | J25: 0 | K25: =IFERROR(IF(AND($D25<=K$6,SUM($I25:J25)<>1),1/$F25,0),0) -> 0 | L25: =IFERROR(IF(AND($D25<=L$6,SUM($I25:K25)<>1),1/$F25,0),0) -> 0.16666667 | M25: =IFERROR(IF(AND($D25<=M$6,SUM($I25:L25)<>1),1/$F25,0),0) -> 0.16666667 | N25: =IFERROR(IF(AND($D25<=N$6,SUM($I25:M25)<>1),1/$F25,0),0) -> 0.16666667 | O25: =IFERROR(IF(AND($D25<=O$6,SUM($I25:N25)<>1),1/$F25,0),0) -> 0.16666667 | P25: =IFERROR(IF(AND($D25<=P$6,SUM($I25:O25)<>1),1/$F25,0),0) -> 0.16666667 | Q25: =IFERROR(IF(AND($D25<=Q$6,SUM($I25:P25)<>1),1/$F25,0),0) -> 0.16666667 | R25: =IFERROR(IF(AND($D25<=R$6,SUM($I25:Q25)<>1),1/$F25,0),0) -> 0 | ... BU25: =IFERROR(IF(AND($D25<=BU$6,SUM($I25:BT25)<>1),1/$F25,0),0) -> 0
I26: Financeiro | J26: =J25*$C25 -> 0 | K26: =K25*$C25 -> 0 | L26: =L25*$C25 -> 47824.103 | M26: =M25*$C25 -> 47824.103 | N26: =N25*$C25 -> 47824.103 | O26: =O25*$C25 -> 47824.103 | P26: =P25*$C25 -> 47824.103 | Q26: =Q25*$C25 -> 47824.103 | ... BU26: =BU25*$C25 -> 0
A27: 1.2.7 | B27: PROJETO EXECUTIVO EMISSÁRIO | C27: =VLOOKUP(A27,'Resumo Eventograma'!A:E,5,FALSE) -> 193463.32 | D27: =EDATE(D$7,E27) -> 45292 | E27: 4 | F27: 4 | G27: =IF(F27<>"",H27-D27,"") -> 151 | H27: =IFERROR(EOMONTH(D27,F27),"") -> 45443 | I27: Físico | J27: 0 | K27: =IFERROR(IF(AND($D27<=K$6,SUM($I27:J27)<>1),1/$F27,0),0) -> 0 | L27: =IFERROR(IF(AND($D27<=L$6,SUM($I27:K27)<>1),1/$F27,0),0) -> 0 | M27: =IFERROR(IF(AND($D27<=M$6,SUM($I27:L27)<>1),1/$F27,0),0) -> 0 | N27: =IFERROR(IF(AND($D27<=N$6,SUM($I27:M27)<>1),1/$F27,0),0) -> 0 | O27: =IFERROR(IF(AND($D27<=O$6,SUM($I27:N27)<>1),1/$F27,0),0) -> 0.25 | P27: =IFERROR(IF(AND($D27<=P$6,SUM($I27:O27)<>1),1/$F27,0),0) -> 0.25 | Q27: =IFERROR(IF(AND($D27<=Q$6,SUM($I27:P27)<>1),1/$F27,0),0) -> 0.25 | R27: =IFERROR(IF(AND($D27<=R$6,SUM($I27:Q27)<>1),1/$F27,0),0) -> 0.25 | ... BU27: =IFERROR(IF(AND($D27<=BU$6,SUM($I27:BT27)<>1),1/$F27,0),0) -> 0
I28: Financeiro | J28: =J27*$C27 -> 0 | K28: =K27*$C27 -> 0 | L28: =L27*$C27 -> 0 | M28: =M27*$C27 -> 0 | N28: =N27*$C27 -> 0 | O28: =O27*$C27 -> 48365.83 | P28: =P27*$C27 -> 48365.83 | Q28: =Q27*$C27 -> 48365.83 | ... BU28: =BU27*$C27 -> 0
A29: 1.3 | B29: PROJETOS EXECUTIVOS SISTEMAS FIXOS | D29: =EDATE(D$7,E29) -> 45292 | E29: 4 | F29: 8 | G29: =IF(F29<>"",H29-D29,"") -> 273 | H29: =IFERROR(EOMONTH(D29,F29),"") -> 45565 | I29: Físico | J29: 0 | K29: =IFERROR(IF(AND($D29<=K$6,SUM($I29:J29)<>1),1/$F29,0),0) -> 0 | L29: =IFERROR(IF(AND($D29<=L$6,SUM($I29:K29)<>1),1/$F29,0),0) -> 0 | M29: =IFERROR(IF(AND($D29<=M$6,SUM($I29:L29)<>1),1/$F29,0),0) -> 0 | N29: =IFERROR(IF(AND($D29<=N$6,SUM($I29:M29)<>1),1/$F29,0),0) -> 0 | O29: =IFERROR(IF(AND($D29<=O$6,SUM($I29:N29)<>1),1/$F29,0),0) -> 0.125 | P29: =IFERROR(IF(AND($D29<=P$6,SUM($I29:O29)<>1),1/$F29,0),0) -> 0.125 | Q29: =IFERROR(IF(AND($D29<=Q$6,SUM($I29:P29)<>1),1/$F29,0),0) -> 0.125 | R29: =IFERROR(IF(AND($D29<=R$6,SUM($I29:Q29)<>1),1/$F29,0),0) -> 0.125 | ... BU29: =IFERROR(IF(AND($D29<=BU$6,SUM($I29:BT29)<>1),1/$F29,0),0) -> 0
I30: Financeiro | J30: =J29*$C29 -> 0 | K30: =K29*$C29 -> 0 | L30: =L29*$C29 -> 0 | M30: =M29*$C29 -> 0 | N30: =N29*$C29 -> 0 | O30: =O29*$C29 -> 0 | P30: =P29*$C29 -> 0 | Q30: =Q29*$C29 -> 0 | ... BU30: =BU29*$C29 -> 0
A31: 1.3.1 | B31: PROJETO EXECUTIVO ENERGIA | C31: =VLOOKUP(A31,'Resumo Eventograma'!A:E,5,FALSE) -> 2016548.8 | D31: =EDATE(D$7,E31) -> 45292 | E31: 4 | F31: 8 | G31: =IF(F31<>"",H31-D31,"") -> 273 | H31: =IFERROR(EOMONTH(D31,F31),"") -> 45565 | I31: Físico | J31: 0 | K31: =IFERROR(IF(AND($D31<=K$6,SUM($I31:J31)<>1),1/$F31,0),0) -> 0 | L31: =IFERROR(IF(AND($D31<=L$6,SUM($I31:K31)<>1),1/$F31,0),0) -> 0 | M31: =IFERROR(IF(AND($D31<=M$6,SUM($I31:L31)<>1),1/$F31,0),0) -> 0 | N31: =IFERROR(IF(AND($D31<=N$6,SUM($I31:M31)<>1),1/$F31,0),0) -> 0 | O31: =IFERROR(IF(AND($D31<=O$6,SUM($I31:N31)<>1),1/$F31,0),0) -> 0.125 | P31: =IFERROR(IF(AND($D31<=P$6,SUM($I31:O31)<>1),1/$F31,0),0) -> 0.125 | Q31: =IFERROR(IF(AND($D31<=Q$6,SUM($I31:P31)<>1),1/$F31,0),0) -> 0.125 | R31: =IFERROR(IF(AND($D31<=R$6,SUM($I31:Q31)<>1),1/$F31,0),0) -> 0.125 | ... BU31: =IFERROR(IF(AND($D31<=BU$6,SUM($I31:BT31)<>1),1/$F31,0),0) -> 0
I32: Financeiro | J32: =J31*$C31 -> 0 | K32: =K31*$C31 -> 0 | L32: =L31*$C31 -> 0 | M32: =M31*$C31 -> 0 | N32: =N31*$C31 -> 0 | O32: =O31*$C31 -> 252068.6 | P32: =P31*$C31 -> 252068.6 | Q32: =Q31*$C31 -> 252068.6 | ... BU32: =BU31*$C31 -> 0
A33: 1.3.2 | B33: PROJETO EXECUTIVO TELECOM | C33: =VLOOKUP(A33,'Resumo Eventograma'!A:E,5,FALSE) -> 91471.69 | D33: =EDATE(D$7,E33) -> 45292 | E33: 4 | F33: 4 | G33: =IF(F33<>"",H33-D33,"") -> 151 | H33: =IFERROR(EOMONTH(D33,F33),"") -> 45443 | I33: Físico | J33: 0 | K33: =IFERROR(IF(AND($D33<=K$6,SUM($I33:J33)<>1),1/$F33,0),0) -> 0 | L33: =IFERROR(IF(AND($D33<=L$6,SUM($I33:K33)<>1),1/$F33,0),0) -> 0 | M33: =IFERROR(IF(AND($D33<=M$6,SUM($I33:L33)<>1),1/$F33,0),0) -> 0 | N33: =IFERROR(IF(AND($D33<=N$6,SUM($I33:M33)<>1),1/$F33,0),0) -> 0 | O33: =IFERROR(IF(AND($D33<=O$6,SUM($I33:N33)<>1),1/$F33,0),0) -> 0.25 | P33: =IFERROR(IF(AND($D33<=P$6,SUM($I33:O33)<>1),1/$F33,0),0) -> 0.25 | Q33: =IFERROR(IF(AND($D33<=Q$6,SUM($I33:P33)<>1),1/$F33,0),0) -> 0.25 | R33: =IFERROR(IF(AND($D33<=R$6,SUM($I33:Q33)<>1),1/$F33,0),0) -> 0.25 | ... BU33: =IFERROR(IF(AND($D33<=BU$6,SUM($I33:BT33)<>1),1/$F33,0),0) -> 0
I34: Financeiro | J34: =J33*$C33 -> 0 | K34: =K33*$C33 -> 0 | L34: =L33*$C33 -> 0 | M34: =M33*$C33 -> 0 | N34: =N33*$C33 -> 0 | O34: =O33*$C33 -> 22867.923 | P34: =P33*$C33 -> 22867.923 | Q34: =Q33*$C33 -> 22867.923 | ... BU34: =BU33*$C33 -> 0
A35: 1.3.3 | B35: PROJETO EXECUTIVO SISTEMAS MECÂNICOS | C35: =VLOOKUP(A35,'Resumo Eventograma'!A:E,5,FALSE) -> 49088.51 | D35: =EDATE(D$7,E35) -> 45292 | E35: 4 | F35: 5 | G35: =IF(F35<>"",H35-D35,"") -> 181 | H35: =IFERROR(EOMONTH(D35,F35),"") -> 45473 | I35: Físico | J35: 0 | K35: =IFERROR(IF(AND($D35<=K$6,SUM($I35:J35)<>1),1/$F35,0),0) -> 0 | L35: =IFERROR(IF(AND($D35<=L$6,SUM($I35:K35)<>1),1/$F35,0),0) -> 0 | M35: =IFERROR(IF(AND($D35<=M$6,SUM($I35:L35)<>1),1/$F35,0),0) -> 0 | N35: =IFERROR(IF(AND($D35<=N$6,SUM($I35:M35)<>1),1/$F35,0),0) -> 0 | O35: =IFERROR(IF(AND($D35<=O$6,SUM($I35:N35)<>1),1/$F35,0),0) -> 0.2 | P35: =IFERROR(IF(AND($D35<=P$6,SUM($I35:O35)<>1),1/$F35,0),0) -> 0.2 | Q35: =IFERROR(IF(AND($D35<=Q$6,SUM($I35:P35)<>1),1/$F35,0),0) -> 0.2 | R35: =IFERROR(IF(AND($D35<=R$6,SUM($I35:Q35)<>1),1/$F35,0),0) -> 0.2 | ... BU35: =IFERROR(IF(AND($D35<=BU$6,SUM($I35:BT35)<>1),1/$F35,0),0) -> 0
I36: Financeiro | J36: =J35*$C35 -> 0 | K36: =K35*$C35 -> 0 | L36: =L35*$C35 -> 0 | M36: =M35*$C35 -> 0 | N36: =N35*$C35 -> 0 | O36: =O35*$C35 -> 9817.702 | P36: =P35*$C35 -> 9817.702 | Q36: =Q35*$C35 -> 9817.702 | ... BU36: =BU35*$C35 -> 0
A37: 1.4 | B37: PROJETOS AS BUILT OBRAS CIVIS | D37: =EDATE(D$7,E37) -> 45292 | E37: 4 | F37: 43 | G37: =IF(F37<>"",H37-D37,"") -> 1338 | H37: =IFERROR(EOMONTH(D37,F37),"") -> 46630 | I37: Físico | J37: 0 | K37: =IFERROR(IF(AND($D37<=K$6,SUM($I37:J37)<>1),1/$F37,0),0) -> 0 | L37: =IFERROR(IF(AND($D37<=L$6,SUM($I37:K37)<>1),1/$F37,0),0) -> 0 | M37: =IFERROR(IF(AND($D37<=M$6,SUM($I37:L37)<>1),1/$F37,0),0) -> 0 | N37: =IFERROR(IF(AND($D37<=N$6,SUM($I37:M37)<>1),1/$F37,0),0) -> 0 | O37: =IFERROR(IF(AND($D37<=O$6,SUM($I37:N37)<>1),1/$F37,0),0) -> 0.023255814 | P37: =IFERROR(IF(AND($D37<=P$6,SUM($I37:O37)<>1),1/$F37,0),0) -> 0.023255814 | Q37: =IFERROR(IF(AND($D37<=Q$6,SUM($I37:P37)<>1),1/$F37,0),0) -> 0.023255814 | R37: =IFERROR(IF(AND($D37<=R$6,SUM($I37:Q37)<>1),1/$F37,0),0) -> 0.023255814 | ... BU37: =IFERROR(IF(AND($D37<=BU$6,SUM($I37:BT37)<>1),1/$F37,0),0) -> 0
I38: Financeiro | J38: =J37*$C37 -> 0 | K38: =K37*$C37 -> 0 | L38: =L37*$C37 -> 0 | M38: =M37*$C37 -> 0 | N38: =N37*$C37 -> 0 | O38: =O37*$C37 -> 0 | P38: =P37*$C37 -> 0 | Q38: =Q37*$C37 -> 0 | ... BU38: =BU37*$C37 -> 0
A39: 1.4.1 | B39: PROJETOS AS BUILT | C39: =VLOOKUP(A39,'Resumo Eventograma'!A:E,5,FALSE) -> 179485.7 | D39: =EDATE(D$7,E39) -> 45292 | E39: 4 | F39: 43 | G39: =IF(F39<>"",H39-D39,"") -> 1338 | H39: =IFERROR(EOMONTH(D39,F39),"") -> 46630 | I39: Físico | J39: 0 | K39: =IFERROR(IF(AND($D39<=K$6,SUM($I39:J39)<>1),1/$F39,0),0) -> 0 | L39: =IFERROR(IF(AND($D39<=L$6,SUM($I39:K39)<>1),1/$F39,0),0) -> 0 | M39: =IFERROR(IF(AND($D39<=M$6,SUM($I39:L39)<>1),1/$F39,0),0) -> 0 | N39: =IFERROR(IF(AND($D39<=N$6,SUM($I39:M39)<>1),1/$F39,0),0) -> 0 | O39: =IFERROR(IF(AND($D39<=O$6,SUM($I39:N39)<>1),1/$F39,0),0) -> 0.023255814 | P39: =IFERROR(IF(AND($D39<=P$6,SUM($I39:O39)<>1),1/$F39,0),0) -> 0.023255814 | Q39: =IFERROR(IF(AND($D39<=Q$6,SUM($I39:P39)<>1),1/$F39,0),0) -> 0.023255814 | R39: =IFERROR(IF(AND($D39<=R$6,SUM($I39:Q39)<>1),1/$F39,0),0) -> 0.023255814 | ... BU39: =IFERROR(IF(AND($D39<=BU$6,SUM($I39:BT39)<>1),1/$F39,0),0) -> 0
I40: Financeiro | J40: =J39*$C39 -> 0 | K40: =K39*$C39 -> 0 | L40: =L39*$C39 -> 0 | M40: =M39*$C39 -> 0 | N40: =N39*$C39 -> 0 | O40: =O39*$C39 -> 4174.086 | P40: =P39*$C39 -> 4174.086 | Q40: =Q39*$C39 -> 4174.086 | ... BU40: =BU39*$C39 -> 0
...

Sheet Resumo Eventograma
A1: 1 | B1: SERVIÇOS TÉCNICOS PROFISSIONAIS | E1: 5026461.3
A2: 1.1 | B2: SERVIÇOS TÉCNICOS | E2: 481394.2
A3: 1.1.1 | B3: SERVIÇOS TÉCNICOS INICIAIS | E3: 481394.2
A4: 1.2 | B4: PROJETOS EXECUTIVOS OBRAS CIVIS | E4: 1975295.9
A5: 1.2.1 | B5: PROJETO EXECUTIVO ESTAÇÃO 35 | E5: 360830.76
A6: 1.2.2 | B6: PROJETO EXECUTIVO ESTAÇÃO 36 | E6: 192650.92
A7: 1.2.3 | B7: PROJETO EXECUTIVO VIA PERMANENTE | E7: 349919.84
A8: 1.2.4 | B8: PROJETO EXECUTIVO SISTEMA VIÁRIO | E8: 315613.59
A9: 1.2.5 | B9: PROJETO EXECUTIVO VIADUTOS | E9: 275872.8
A10: 1.2.6 | B10: PROJETO EXECUTIVO COMPLEMENTAR | E10: 286944.62
A11: 1.2.7 | B11: PROJETO EXECUTIVO EMISSÁRIO | E11: 193463.32
A12: 1.3 | B12: PROJETOS EXECUTIVOS SISTEMAS FIXOS | E12: 2157109
A13: 1.3.1 | B13: PROJETO EXECUTIVO ENERGIA | E13: 2016548.8
A14: 1.3.2 | B14: PROJETO EXECUTIVO TELECOM | E14: 91471.69
A15: 1.3.3 | B15: PROJETO EXECUTIVO SISTEMAS MECÂNICOS | E15: 49088.51
A16: 1.4 | B16: PROJETOS AS BUILT OBRAS CIVIS | E16: 179485.7
A17: 1.4.1 | B17: PROJETOS AS BUILT | E17: 179485.7
A18: 1.5 | B18: PROJETOS AS BUILT SISTEMAS | E18: 233176.59
A19: 1.5.1 | B19: PROJETO AS BUILT ENERGIA | E19: 201654.84
A20: 1.5.2 | B20: PROJETO AS BUILT TELECOM | E20: 9147.14
A21: 1.5.3 | B21: PROJETO AS BUILT SISTEMAS MECÂNICOS | E21: 4908.84
A22: 1.5.4 | B22: RELATÓRIO FINAL AMBIENTAL | E22: 17465.77
A23: 2 | B23: SERVIÇOS GERAIS | E23: 26599227
A24: 2.1 | B24: ADMINISTRAÇÃO LOCAL | E24: 21531588
A25: 2.1.1 | B25: ADMINISTRAÇÃO LOCAL | E25: 21531588
A26: 2.2 | B26: SERVIÇOS AUXILIARES | E26: 3966446.6
A27: 2.2.1 | B27: CANTEIRO DE OBRA | E27: 2018343.7
A28: 2.2.2 | B28: SERVIÇOS COMPLEMETARES | E28: 1948102.9
A29: 2.3 | B29: SERVIÇOS AMBIENTAIS | E29: 1101193.2
A30: 2.3.1 | B30: ESTABILIZAÇÃO DOS ACESSOS | E30: 931036.96
A31: 2.3.2 | B31: PROTEÇÃO DE PERÍMETRO | E31: 138464.76
A32: 2.3.3 | B32: DRENAGEM TEMPORÁRIA | E32: 31691.45
A33: 3 | B33: OBRAS CIVIS | E33: 1.7123927e+08
A34: 3.1 | B34: ESTAÇÃO 35 | E34: 18572534
A35: 3.1.1 | B35: SERVIÇOS PRELIMINARES | E35: 439653.07
A36: 3.1.2 | B36: FUNDAÇÕES E ESTRUTURAS | E36: 12169934
A37: 3.1.3 | B37: ARQUITETURA E ELEMENTOS DE URBANISMO | E37: 4160474.2
A38: 3.1.4 | B38: INSTALAÇÕES HIDRÁULICAS E SANITÁRIAS | E38: 222622.55
A39: 3.1.5 | B39: INSTALAÇÕES ELÉTRICAS | E39: 982738.9
A40: 3.1.6 | B40: INSTALAÇÕES MECÂNICAS E DE UTILIDADES | E40: 473819.73
...
