Workbook

Sheet Fisico-financeiro
B1: CONTRATAÇÃO DE EMPRESA ESPECIALIZADA PARA A REALIZAÇÃO DAS OBRAS CIVIS E DE SISTEMAS DO TRECHO SAMAMBAIA DA EXPANSÃO DA LINHA 1 DO METRÔ-DF CRONOGRAMA FÍSICO FINANCEIRO | I1: REV03
A2: Obra | B2: Expansão do Metrô-DF | C2: Local | D2: Samambaia DF
B3: CUSTO GLOBAL | C3: =SUM(C7:C332) -> 3.4377897e+08 | L3: 2023 | M3: =SUM(J4:N4) -> 4753283.2 | X3: 2024 | Y3: =SUM(O4:Z4) -> 80941875 | AJ3: 2025 | AK3: =SUM(AA4:AL4) -> 1.0833806e+08 | AV3: 2026 | AW3: =SUM(AM4:AX4) -> 53358434 | BH3: 2027 | BI3: =SUM(AY4:BJ4) -> 73180874 | BS3: 2028 | BT3: =SUM(BK4:BU4) -> 23206452
K4: =SUM(K8+K10+K12+K14+K16+K18+K20+K22+K24+K26+K28+K30+K32+K34+K36+K38+K40+K42+K44+K46+K48+K50+K52+K54+K56+K58+K60+K62+K64+K66+K68+K70+K72+K74+K76+K78+K80+K82+K84+K86+K88+K90+K92+K94+K96+K98+K100+K102+K104+K106+K108+K110+K112+K114+K116+K118+K120+K122+K124+K126+K128+K130+K132+K134+K136+K138+K140+K142+K144+K146+K148+K150+K152+K154+K156+K158+K160+K162+K164+K166+K168+K170+K172+K174+K176+K178+K180+K182+K184+K186+K188+K190+K192+K194+K196+K198+K200+K202+K204+K206+K208+K210+K212+K214+K216+K218+K220+K222+K224+K226+K228+K230+K232+K234+K236+K238+K240+K242+K244+K246+K248+K250+K252+K254+K256+K258+K260+K262+K264+K266+K268+K270+K272+K274+K276+K278+K280+K282+K284+K286+K288+K290+K292+K294+K296+K298+K300+K302+K304+K306+K308+K310+K312+K314+K316+K318+K320+K322+K324+K326+K328+K330+K332) -> 464756.69 | L4: =SUM(L8+L10+L12+L14+L16+L18+L20+L22+L24+L26+L28+L30+L32+L34+L36+L38+L40+L42+L44+L46+L48+L50+L52+L54+L56+L58+L60+L62+L64+L66+L68+L70+L72+L74+L76+L78+L80+L82+L84+L86+L88+L90+L92+L94+L96+L98+L100+L102+L104+L106+L108+L110+L112+L114+L116+L118+L120+L122+L124+L126+L128+L130+L132+L134+L136+L138+L140+L142+L144+L146+L148+L150+L152+L154+L156+L158+L160+L162+L164+L166+L168+L170+L172+L174+L176+L178+L180+L182+L184+L186+L188+L190+L192+L194+L196+L198+L200+L202+L204+L206+L208+L210+L212+L214+L216+L218+L220+L222+L224+L226+L228+L230+L232+L234+L236+L238+L240+L242+L244+L246+L248+L250+L252+L254+L256+L258+L260+L262+L264+L266+L268+L270+L272+L274+L276+L278+L280+L282+L284+L286+L288+L290+L292+L294+L296+L298+L300+L302+L304+L306+L308+L310+L312+L314+L316+L318+L320+L322+L324+L326+L328+L330+L332) -> 2810783.4 | M4: =SUM(M8+M10+M12+M14+M16+M18+M20+M22+M24+M26+M28+M30+M32+M34+M36+M38+M40+M42+M44+M46+M48+M50+M52+M54+M56+M58+M60+M62+M64+M66+M68+M70+M72+M74+M76+M78+M80+M82+M84+M86+M88+M90+M92+M94+M96+M98+M100+M102+M104+M106+M108+M110+M112+M114+M116+M118+M120+M122+M124+M126+M128+M130+M132+M134+M136+M138+M140+M142+M144+M146+M148+M150+M152+M154+M156+M158+M160+M162+M164+M166+M168+M170+M172+M174+M176+M178+M180+M182+M184+M186+M188+M190+M192+M194+M196+M198+M200+M202+M204+M206+M208+M210+M212+M214+M216+M218+M220+M222+M224+M226+M228+M230+M232+M234+M236+M238+M240+M242+M244+M246+M248+M250+M252+M254+M256+M258+M260+M262+M264+M266+M268+M270+M272+M274+M276+M278+M280+M282+M284+M286+M288+M290+M292+M294+M296+M298+M300+M302+M304+M306+M308+M310+M312+M314+M316+M318+M320+M322+M324+M326+M328+M330+M332) -> 692524.3 | N4: =SUM(N8+N10+N12+N14+N16+N18+N20+N22+N24+N26+N28+N30+N32+N34+N36+N38+N40+N42+N44+N46+N48+N50+N52+N54+N56+N58+N60+N62+N64+N66+N68+N70+N72+N74+N76+N78+N80+N82+N84+N86+N88+N90+N92+N94+N96+N98+N100+N102+N104+N106+N108+N110+N112+N114+N116+N118+N120+N122+N124+N126+N128+N130+N132+N134+N136+N138+N140+N142+N144+N146+N148+N150+N152+N154+N156+N158+N160+N162+N164+N166+N168+N170+N172+N174+N176+N178+N180+N182+N184+N186+N188+N190+N192+N194+N196+N198+N200+N202+N204+N206+N208+N210+N212+N214+N216+N218+N220+N222+N224+N226+N228+N230+N232+N234+N236+N238+N240+N242+N244+N246+N248+N250+N252+N254+N256+N258+N260+N262+N264+N266+N268+N270+N272+N274+N276+N278+N280+N282+N284+N286+N288+N290+N292+N294+N296+N298+N300+N302+N304+N306+N308+N310+N312+N314+N316+N318+N320+N322+N324+N326+N328+N330+N332) -> 785218.87 | O4: =SUM(O8+O10+O12+O14+O16+O18+O20+O22+O24+O26+O28+O30+O32+O34+O36+O38+O40+O42+O44+O46+O48+O50+O52+O54+O56+O58+O60+O62+O64+O66+O68+O70+O72+O74+O76+O78+O80+O82+O84+O86+O88+O90+O92+O94+O96+O98+O100+O102+O104+O106+O108+O110+O112+O114+O116+O118+O120+O122+O124+O126+O128+O130+O132+O134+O136+O138+O140+O142+O144+O146+O148+O150+O152+O154+O156+O158+O160+O162+O164+O166+O168+O170+O172+O174+O176+O178+O180+O182+O184+O186+O188+O190+O192+O194+O196+O198+O200+O202+O204+O206+O208+O210+O212+O214+O216+O218+O220+O222+O224+O226+O228+O230+O232+O234+O236+O238+O240+O242+O244+O246+O248+O250+O252+O254+O256+O258+O260+O262+O264+O266+O268+O270+O272+O274+O276+O278+O280+O282+O284+O286+O288+O290+O292+O294+O296+O298+O300+O302+O304+O306+O308+O310+O312+O314+O316+O318+O320+O322+O324+O326+O328+O330+O332) -> 1241018.5 | P4: =SUM(P8+P10+P12+P14+P16+P18+P20+P22+P24+P26+P28+P30+P32+P34+P36+P38+P40+P42+P44+P46+P48+P50+P52+P54+P56+P58+P60+P62+P64+P66+P68+P70+P72+P74+P76+P78+P80+P82+P84+P86+P88+P90+P92+P94+P96+P98+P100+P102+P104+P106+P108+P110+P112+P114+P116+P118+P120+P122+P124+P126+P128+P130+P132+P134+P136+P138+P140+P142+P144+P146+P148+P150+P152+P154+P156+P158+P160+P162+P164+P166+P168+P170+P172+P174+P176+P178+P180+P182+P184+P186+P188+P190+P192+P194+P196+P198+P200+P202+P204+P206+P208+P210+P212+P214+P216+P218+P220+P222+P224+P226+P228+P230+P232+P234+P236+P238+P240+P242+P244+P246+P248+P250+P252+P254+P256+P258+P260+P262+P264+P266+P268+P270+P272+P274+P276+P278+P280+P282+P284+P286+P288+P290+P292+P294+P296+P298+P300+P302+P304+P306+P308+P310+P312+P314+P316+P318+P320+P322+P324+P326+P328+P330+P332) -> 1258484.3 | Q4: =SUM(Q8+Q10+Q12+Q14+Q16+Q18+Q20+Q22+Q24+Q26+Q28+Q30+Q32+Q34+Q36+Q38+Q40+Q42+Q44+Q46+Q48+Q50+Q52+Q54+Q56+Q58+Q60+Q62+Q64+Q66+Q68+Q70+Q72+Q74+Q76+Q78+Q80+Q82+Q84+Q86+Q88+Q90+Q92+Q94+Q96+Q98+Q100+Q102+Q104+Q106+Q108+Q110+Q112+Q114+Q116+Q118+Q120+Q122+Q124+Q126+Q128+Q130+Q132+Q134+Q136+Q138+Q140+Q142+Q144+Q146+Q148+Q150+Q152+Q154+Q156+Q158+Q160+Q162+Q164+Q166+Q168+Q170+Q172+Q174+Q176+Q178+Q180+Q182+Q184+Q186+Q188+Q190+Q192+Q194+Q196+Q198+Q200+Q202+Q204+Q206+Q208+Q210+Q212+Q214+Q216+Q218+Q220+Q222+Q224+Q226+Q228+Q230+Q232+Q234+Q236+Q238+Q240+Q242+Q244+Q246+Q248+Q250+Q252+Q254+Q256+Q258+Q260+Q262+Q264+Q266+Q268+Q270+Q272+Q274+Q276+Q278+Q280+Q282+Q284+Q286+Q288+Q290+Q292+Q294+Q296+Q298+Q300+Q302+Q304+Q306+Q308+Q310+Q312+Q314+Q316+Q318+Q320+Q322+Q324+Q326+Q328+Q330+Q332) -> 1274627.7 | R4: =SUM(R8+R10+R12+R14+R16+R18+R20+R22+R24+R26+R28+R30+R32+R34+R36+R38+R40+R42+R44+R46+R48+R50+R52+R54+R56+R58+R60+R62+R64+R66+R68+R70+R72+R74+R76+R78+R80+R82+R84+R86+R88+R90+R92+R94+R96+R98+R100+R102+R104+R106+R108+R110+R112+R114+R116+R118+R120+R122+R124+R126+R128+R130+R132+R134+R136+R138+R140+R142+R144+R146+R148+R150+R152+R154+R156+R158+R160+R162+R164+R166+R168+R170+R172+R174+R176+R178+R180+R182+R184+R186+R188+R190+R192+R194+R196+R198+R200+R202+R204+R206+R208+R210+R212+R214+R216+R218+R220+R222+R224+R226+R228+R230+R232+R234+R236+R238+R240+R242+R244+R246+R248+R250+R252+R254+R256+R258+R260+R262+R264+R266+R268+R270+R272+R274+R276+R278+R280+R282+R284+R286+R288+R290+R292+R294+R296+R298+R300+R302+R304+R306+R308+R310+R312+R314+R316+R318+R320+R322+R324+R326+R328+R330+R332) -> 1307370.3 | ... BU4: =SUM(BU8+BU10+BU12+BU14+BU16+BU18+BU20+BU22+BU24+BU26+BU28+BU30+BU32+BU34+BU36+BU38+BU40+BU42+BU44+BU46+BU48+BU50+BU52+BU54+BU56+BU58+BU60+BU62+BU64+BU66+BU68+BU70+BU72+BU74+BU76+BU78+BU80+BU82+BU84+BU86+BU88+BU90+BU92+BU94+BU96+BU98+BU100+BU102+BU104+BU106+BU108+BU110+BU112+BU114+BU116+BU118+BU120+BU122+BU124+BU126+BU128+BU130+BU132+BU134+BU136+BU138+BU140+BU142+BU144+BU146+BU148+BU150+BU152+BU154+BU156+BU158+BU160+BU162+BU164+BU166+BU168+BU170+BU172+BU174+BU176+BU178+BU180+BU182+BU184+BU186+BU188+BU190+BU192+BU194+BU196+BU198+BU200+BU202+BU204+BU206+BU208+BU210+BU212+BU214+BU216+BU218+BU220+BU222+BU224+BU226+BU228+BU230+BU232+BU234+BU236+BU238+BU240+BU242+BU244+BU246+BU248+BU250+BU252+BU254+BU256+BU258+BU260+BU262+BU264+BU266+BU268+BU270+BU272+BU274+BU276+BU278+BU280+BU282+BU284+BU286+BU288+BU290+BU292+BU294+BU296+BU298+BU300+BU302+BU304+BU306+BU308+BU310+BU312+BU314+BU316+BU318+BU320+BU322+BU324+BU326+BU328+BU330+BU332) -> 1081664.6
A5: Item | B5: Fase / Tarefa / Atividade | C5: Custo | D5: Mês de início | E5: Meses após início | F5: Duração | G5: Duração | H5: Data de término
C6: R$ | F6: (meses) | G6: (dias) | J6: =EOMONTH(K6,-1) -> 45169 | K6: =EOMONTH(MIN(D:D),0) -> 45199 | L6: =EOMONTH(K6,1) -> 45230 | M6: =EOMONTH(L6,1) -> 45260 | N6: =EOMONTH(M6,1) -> 45291 | O6: =EOMONTH(N6,1) -> 45322 | P6: =EOMONTH(O6,1) -> 45351 | Q6: =EOMONTH(P6,1) -> 45382 | R6: =EOMONTH(Q6,1) -> 45412 | S6: =EOMONTH(R6,1) -> 45443 | ... BU6: =EOMONTH(BT6,1) -> 47087
A7: 1. | B7: SERVIÇOS TÉCNICOS PROFISSIONAIS | D7: 45170 | F7: 50 | G7: =IF(F7<>"",H7-D7,"") -> 1551 | H7: =IFERROR(EOMONTH(D7,F7),"") -> 46721 | I7: Físico | J7: 0 | K7: =IFERROR(IF(AND($D7<=K$6,SUM($I7:J7)<>1),1/$F7,0),0) -> 0.02 | L7: =IFERROR(IF(AND($D7<=L$6,SUM($I7:K7)<>1),1/$F7,0),0) -> 0.02 | M7: =IFERROR(IF(AND($D7<=M$6,SUM($I7:L7)<>1),1/$F7,0),0) -> 0.02 | N7: =IFERROR(IF(AND($D7<=N$6,SUM($I7:M7)<>1),1/$F7,0),0) -> 0.02 | O7: =IFERROR(IF(AND($D7<=O$6,SUM($I7:N7)<>1),1/$F7,0),0) -> 0.02 | P7: =IFERROR(IF(AND($D7<=P$6,SUM($I7:O7)<>1),1/$F7,0),0) -> 0.02 | Q7: =IFERROR(IF(AND($D7<=Q$6,SUM($I7:P7)<>1),1/$F7,0),0) -> 0.02 | R7: =IFERROR(IF(AND($D7<=R$6,SUM($I7:Q7)<>1),1/$F7,0),0) -> 0.02 | ... BU7: =IFERROR(IF(AND($D7<=BU$6,SUM($I7:BT7)<>1),1/$F7,0),0) -> 0
I8: Financeiro | J8: =J7*$C7 -> 0 | K8: =K7*$C7 -> 0 | L8: =L7*$C7 -> 0 | M8: =M7*$C7 -> 0 | N8: =N7*$C7 -> 0 | O8: =O7*$C7 -> 0 | P8: =P7*$C7 -> 0 | Q8: =Q7*$C7 -> 0 | ... BU8: =BU7*$C7 -> 0
A9: 1.1 | B9: SERVIÇOS TÉCNICOS | D9: =EDATE(D$7,E9) -> 45170 | E9: 0 | F9: 19 | G9: =IF(F9<>"",H9-D9,"") -> 607 | H9: =IFERROR(EOMONTH(D9,F9),"") -> 45777 | I9: Físico | J9: 0 | K9: =IFERROR(IF(AND($D9<=K$6,SUM($I9:J9)<>1),1/$F9,0),0) -> 0.052631579 | L9: =IFERROR(IF(AND($D9<=L$6,SUM($I9:K9)<>1),1/$F9,0),0) -> 0.052631579 | M9: =IFERROR(IF(AND($D9<=M$6,SUM($I9:L9)<>1),1/$F9,0),0) -> 0.052631579 | N9: =IFERROR(IF(AND($D9<=N$6,SUM($I9:M9)<>1),1/$F9,0),0) -> 0.052631579 | O9: =IFERROR(IF(AND($D9<=O$6,SUM($I9:N9)<>1),1/$F9,0),0) -> 0.052631579 | P9: =IFERROR(IF(AND($D9<=P$6,SUM($I9:O9)<>1),1/$F9,0),0) -> 0.052631579 | Q9: =IFERROR(IF(AND($D9<=Q$6,SUM($I9:P9)<>1),1/$F9,0),0) -> 0.052631579 | R9: =IFERROR(IF(AND($D9<=R$6,SUM($I9:Q9)<>1),1/$F9,0),0) -> 0.052631579 | ... BU9: =IFERROR(IF(AND($D9<=BU$6,SUM($I9:BT9)<>1),1/$F9,0),0) -> 0
I10: Financeiro | J10: =J9*$C9 -> 0 | K10: =K9*$C9 -> 0 | L10: =L9*$C9 -> 0 | M10: =M9*$C9 -> 0 | N10: =N9*$C9 -> 0 | O10: =O9*$C9 -> 0 | P10: =P9*$C9 -> 0 | Q10: =Q9*$C9 -> 0 | ... BU10: =BU9*$C9 -> 0
A11: 1.1.1 | B11: SERVIÇOS TÉCNICOS | C11: =VLOOKUP(A11,'Resumo Eventograma'!A:E,5,FALSE) -> 481394.2 | D11: =EDATE(D$7,E11) -> 45170 | E11: 0 | F11: 19 | G11: =IF(F11<>"",H11-D11,"") -> 607 | H11: =IFERROR(EOMONTH(D11,F11),"") -> 45777 | I11: Físico | J11: 0 | K11: =IFERROR(IF(AND($D11<=K$6,SUM($I11:J11)<>1),1/$F11,0),0) -> 0.052631579 | L11: =IFERROR(IF(AND($D11<=L$6,SUM($I11:K11)<>1),1/$F11,0),0) -> 0.052631579 | M11: =IFERROR(IF(AND($D11<=M$6,SUM($I11:L11)<>1),1/$F11,0),0) -> 0.052631579 | N11: =IFERROR(IF(AND($D11<=N$6,SUM($I11:M11)<>1),1/$F11,0),0) -> 0.052631579 | O11: =IFERROR(IF(AND($D11<=O$6,SUM($I11:N11)<>1),1/$F11,0),0) -> 0.052631579 | P11: =IFERROR(IF(AND($D11<=P$6,SUM($I11:O11)<>1),1/$F11,0),0) -> 0.052631579 | Q11: =IFERROR(IF(AND($D11<=Q$6,SUM($I11:P11)<>1),1/$F11,0),0) -> 0.052631579 | R11: =IFERROR(IF(AND($D11<=R$6,SUM($I11:Q11)<>1),1/$F11,0),0) -> 0.052631579 | ... BU11: =IFERROR(IF(AND($D11<=BU$6,SUM($I11:BT11)<>1),1/$F11,0),0) -> 0
I12: Financeiro | J12: =J11*$C11 -> 0 | K12: =K11*$C11 -> 25336.537 | L12: =L11*$C11 -> 25336.537 | M12: =M11*$C11 -> 25336.537 | N12: =N11*$C11 -> 25336.537 | O12: =O11*$C11 -> 25336.537 | P12: =P11*$C11 -> 25336.537 | Q12: =Q11*$C11 -> 25336.537 | ... BU12: =BU11*$C11 -> 0
A13: 1.2 | B13: PROJETOS EXECUTIVOS OBRAS CIVIS | D13: =EDATE(D$7,E13) -> 45170 | E13: 0 | F13: 13 | G13: =IF(F13<>"",H13-D13,"") -> 426 | H13: =IFERROR(EOMONTH(D13,F13),"") -> 45596 | I13: Físico | J13: 0 | K13: =IFERROR(IF(AND($D13<=K$6,SUM($I13:J13)<>1),1/$F13,0),0) -> 0.076923077 | L13: =IFERROR(IF(AND($D13<=L$6,SUM($I13:K13)<>1),1/$F13,0),0) -> 0.076923077 | M13: =IFERROR(IF(AND($D13<=M$6,SUM($I13:L13)<>1),1/$F13,0),0) -> 0.076923077 | N13: =IFERROR(IF(AND($D13<=N$6,SUM($I13:M13)<>1),1/$F13,0),0) -> 0.076923077 | O13: =IFERROR(IF(AND($D13<=O$6,SUM($I13:N13)<>1),1/$F13,0),0) -> 0.076923077 | P13: =IFERROR(IF(AND($D13<=P$6,SUM($I13:O13)<>1),1/$F13,0),0) -> 0.076923077 | Q13: =IFERROR(IF(AND($D13<=Q$6,SUM($I13:P13)<>1),1/$F13,0),0) -> 0.076923077 | R13: =IFERROR(IF(AND($D13<=R$6,SUM($I13:Q13)<>1),1/$F13,0),0) -> 0.076923077 | ... BU13: =IFERROR(IF(AND($D13<=BU$6,SUM($I13:BT13)<>1),1/$F13,0),0) -> 0
I14: Financeiro | J14: =J13*$C13 -> 0 | K14: =K13*$C13 -> 0 | L14: =L13*$C13 -> 0 | M14: =M13*$C13 -> 0 | N14: =N13*$C13 -> 0 | O14: =O13*$C13 -> 0 | P14: =P13*$C13 -> 0 | Q14: =Q13*$C13 -> 0 | ... BU14: =BU13*$C13 -> 0
A15: 1.2.1 | B15: PROJETO EXECUTIVO ESTAÇÃO 35 | C15: =VLOOKUP(A15,'Resumo Eventograma'!A:E,5,FALSE) -> 360830.76 | D15: =EDATE(D$7,E15) -> 45261 | E15: 3 | F15: 9 | G15: =IF(F15<>"",H15-D15,"") -> 304 | H15: =IFERROR(EOMONTH(D15,F15),"") -> 45565 | I15: Físico | J15: 0 | K15: =IFERROR(IF(AND($D15<=K$6,SUM($I15:J15)<>1),1/$F15,0),0) -> 0 | L15: =IFERROR(IF(AND($D15<=L$6,SUM($I15:K15)<>1),1/$F15,0),0) -> 0 | M15: =IFERROR(IF(AND($D15<=M$6,SUM($I15:L15)<>1),1/$F15,0),0) -> 0 | N15: =IFERROR(IF(AND($D15<=N$6,SUM($I15:M15)<>1),1/$F15,0),0) -> 0.11111111 | O15: =IFERROR(IF(AND($D15<=O$6,SUM($I15:N15)<>1),1/$F15,0),0) -> 0.11111111 | P15: =IFERROR(IF(AND($D15<=P$6,SUM($I15:O15)<>1),1/$F15,0),0) -> 0.11111111 | Q15: =IFERROR(IF(AND($D15<=Q$6,SUM($I15:P15)<>1),1/$F15,0),0) -> 0.11111111 | R15: =IFERROR(IF(AND($D15<=R$6,SUM($I15:Q15)<>1),1/$F15,0),0) -> 0.11111111 | ... BU15: =IFERROR(IF(AND($D15<=BU$6,SUM($I15:BT15)<>1),1/$F15,0),0) -> 0
I16: Financeiro | J16: =J15*$C15 -> 0 | K16: =K15*$C15 -> 0 | L16: =L15*$C15 -> 0 | M16: =M15*$C15 -> 0 | N16: =N15*$C15 -> 40092.307 | O16: =O15*$C15 -> 40092.307 | P16: =P15*$C15 -> 40092.307 | Q16: =Q15*$C15 -> 40092.307 | ... BU16: =BU15*$C15 -> 0
A17: 1.2.2 | B17: PROJETO EXECUTIVO ESTAÇÃO 36 | C17: =VLOOKUP(A17,'Resumo Eventograma'!A:E,5,FALSE) -> 192650.92 | D17: =EDATE(D$7,E17) -> 45292 | E17: 4 | F17: 11 | G17: =IF(F17<>"",H17-D17,"") -> 365 | H17: =IFERROR(EOMONTH(D17,F17),"") -> 45657 | I17: Físico | J17: 0 | K17: =IFERROR(IF(AND($D17<=K$6,SUM($I17:J17)<>1),1/$F17,0),0) -> 0 | L17: =IFERROR(IF(AND($D17<=L$6,SUM($I17:K17)<>1),1/$F17,0),0) -> 0 | M17: =IFERROR(IF(AND($D17<=M$6,SUM($I17:L17)<>1),1/$F17,0),0) -> 0 | N17: =IFERROR(IF(AND($D17<=N$6,SUM($I17:M17)<>1),1/$F17,0),0) -> 0 | O17: =IFERROR(IF(AND($D17<=O$6,SUM($I17:N17)<>1),1/$F17,0),0) -> 0.090909091 | P17: =IFERROR(IF(AND($D17<=P$6,SUM($I17:O17)<>1),1/$F17,0),0) -> 0.090909091 | Q17: =IFERROR(IF(AND($D17<=Q$6,SUM($I17:P17)<>1),1/$F17,0),0) -> 0.090909091 | R17: =IFERROR(IF(AND($D17<=R$6,SUM($I17:Q17)<>1),1/$F17,0),0) -> 0.090909091 | ... BU17: =IFERROR(IF(AND($D17<=BU$6,SUM($I17:BT17)<>1),1/$F17,0),0) -> 0
I18: Financeiro | J18: =J17*$C17 -> 0 | K18: =K17*$C17 -> 0 | L18: =L17*$C17 -> 0 | M18: =M17*$C17 -> 0 | N18: =N17*$C17 -> 0 | O18: =O17*$C17 -> 17513.72 | P18: =P17*$C17 -> 17513.72 | Q18: =Q17*$C17 -> 17513.72 | ... BU18: =BU17*$C17 -> 0
A19: 1.2.3 | B19: PROJETO EXECUTIVO VIA PERMANENTE | C19: =VLOOKUP(A19,'Resumo Eventograma'!A:E,5,FALSE) -> 349919.84 | D19: =EDATE(D$7,E19) -> 45292 | E19: 4 | F19: 11 | G19: =IF(F19<>"",H19-D19,"") -> 365 | H19: =IFERROR(EOMONTH(D19,F19),"") -> 45657 | I19: Físico | J19: 0 | K19: =IFERROR(IF(AND($D19<=K$6,SUM($I19:J19)<>1),1/$F19,0),0) -> 0 | L19: =IFERROR(IF(AND($D19<=L$6,SUM($I19:K19)<>1),1/$F19,0),0) -> 0 | M19: =IFERROR(IF(AND($D19<=M$6,SUM($I19:L19)<>1),1/$F19,0),0) -> 0 | N19: =IFERROR(IF(AND($D19<=N$6,SUM($I19:M19)<>1),1/$F19,0),0) -> 0 | O19: =IFERROR(IF(AND($D19<=O$6,SUM($I19:N19)<>1),1/$F19,0),0) -> 0.090909091 | P19: =IFERROR(IF(AND($D19<=P$6,SUM($I19:O19)<>1),1/$F19,0),0) -> 0.090909091 | Q19: =IFERROR(IF(AND($D19<=Q$6,SUM($I19:P19)<>1),1/$F19,0),0) -> 0.090909091 | R19: =IFERROR(IF(AND($D19<=R$6,SUM($I19:Q19)<>1),1/$F19,0),0) -> 0.090909091 | ... BU19: =IFERROR(IF(AND($D19<=BU$6,SUM($I19:BT19)<>1),1/$F19,0),0) -> 0
I20: Financeiro | J20: =J19*$C19 -> 0 | K20: =K19*$C19 -> 0 | L20: =L19*$C19 -> 0 | M20: =M19*$C19 -> 0 | N20: =N19*$C19 -> 0 | O20: =O19*$C19 -> 31810.895 | P20: =P19*$C19 -> 31810.895 | Q20: =Q19*$C19 -> 31810.895 | ... BU20: =BU19*$C19 -> 0
A21: 1.2.4 | B21: PROJETO EXECUTIVO SISTEMA VIÁRIO | C21: =VLOOKUP(A21,'Resumo Eventograma'!A:E,5,FALSE) -> 315613.59 | D21: =EDATE(D$7,E21) -> 45261 | E21: 3 | F21: 6 | G21: =IF(F21<>"",H21-D21,"") -> 212 | H21: =IFERROR(EOMONTH(D21,F21),"") -> 45473 | I21: Físico | J21: 0 | K21: =IFERROR(IF(AND($D21<=K$6,SUM($I21:J21)<>1),1/$F21,0),0) -> 0 | L21: =IFERROR(IF(AND($D21<=L$6,SUM($I21:K21)<>1),1/$F21,0),0) -> 0 | M21: =IFERROR(IF(AND($D21<=M$6,SUM($I21:L21)<>1),1/$F21,0),0) -> 0 | N21: =IFERROR(IF(AND($D21<=N$6,SUM($I21:M21)<>1),1/$F21,0),0) -> 0.16666667 | O21: =IFERROR(IF(AND($D21<=O$6,SUM($I21:N21)<>1),1/$F21,0),0) -> 0.16666667 | P21: =IFERROR(IF(AND($D21<=P$6,SUM($I21:O21)<>1),1/$F21,0),0) -> 0.16666667 | Q21: =IFERROR(IF(AND($D21<=Q$6,SUM($I21:P21)<>1),1/$F21,0),0) -> 0.16666667 | R21: =IFERROR(IF(AND($D21<=R$6,SUM($I21:Q21)<>1),1/$F21,0),0) -> 0.16666667 | ... BU21: =IFERROR(IF(AND($D21<=BU$6,SUM($I21:BT21)<>1),1/$F21,0),0) -> 0
I22: Financeiro | J22: =J21*$C21 -> 0 | K22: =K21*$C21 -> 0 | L22: =L21*$C21 -> 0 | M22: =M21*$C21 -> 0 | N22: =N21*$C21 -> 52602.265 | O22: =O21*$C21 -> 52602.265 | P22: =P21*$C21 -> 52602.265 | Q22: =Q21*$C21 -> 52602.265 | ... BU22: =BU21*$C21 -> 0
A23: 1.2.5 | B23: PROJETO EXECUTIVO VIADUTOS | C23: =VLOOKUP(A23,'Resumo Eventograma'!A:E,5,FALSE) -> 275872.8 | D23: =EDATE(D$7,E23) -> 45292 | E23: 4 | F23: 4 | G23: =IF(F23<>"",H23-D23,"") -> 151 | H23: =IFERROR(EOMONTH(D23,F23),"") -> 45443 | I23: Físico | J23: 0 | K23: =IFERROR(IF(AND($D23<=K$6,SUM($I23:J23)<>1),1/$F23,0),0) -> 0 | L23: =IFERROR(IF(AND($D23<=L$6,SUM($I23:K23)<>1),1/$F23,0),0) -> 0 | M23: =IFERROR(IF(AND($D23<=M$6,SUM($I23:L23)<>1),1/$F23,0),0) -> 0 | N23: =IFERROR(IF(AND($D23<=N$6,SUM($I23:M23)<>1),1/$F23,0),0) -> 0 | O23: =IFERROR(IF(AND($D23<=O$6,SUM($I23:N23)<>1),1/$F23,0),0) -> 0.25 | P23: =IFERROR(IF(AND($D23<=P$6,SUM($I23:O23)<>1),1/$F23,0),0) -> 0.25 | Q23: =IFERROR(IF(AND($D23<=Q$6,SUM($I23:P23)<>1),1/$F23,0),0) -> 0.25 | R23: =IFERROR(IF(AND($D23<=R$6,SUM($I23:Q23)<>1),1/$F23,0),0) -> 0.25 | ... BU23: =IFERROR(IF(AND($D23<=BU$6,SUM($I23:BT23)<>1),1/$F23,0),0) -> 0
I24: Financeiro | J24: =J23*$C23 -> 0 | K24: =K23*$C23 -> 0 | L24: =L23*$C23 -> 0 | M24: =M23*$C23 -> 0 | N24: =N23*$C23 -> 0 | O24: =O23*$C23 -> 68968.2 | P24: =P23*$C23 -> 68968.2 | Q24: =Q23*$C23 -> 68968.2 | ... BU24: =BU23*$C23 -> 0
A25: 1.2.6 | B25: PROJETO EXECUTIVO COMPLEMENTAR | C25: =VLOOKUP(A25,'Resumo Eventograma'!A:E,5,FALSE) -> 286944.62 | D25: =EDATE(D$7,E25) -> 45200 | E25: 1 | F25: 6 | G25: =IF(F25<>"",H25-D25,"") -> 212 | H25: =IFERROR(EOMONTH(D25,F25),"") -> 45412 | I25: Físico | J25: 0 | K25: =IFERROR(IF(AND($D25<=K$6,SUM($I25:J25)<>1),1/$F25,0),0) -> 0 | L25: =IFERROR(IF(AND($D25<=L$6,SUM($I25:K25)<>1),1/$F25,0),0) -> 0.16666667 | M25: =IFERROR(IF(AND($D25<=M$6,SUM($I25:L25)<>1),1/$F25,0),0) -> 0.16666667 | N25: =IFERROR(IF(AND($D25<=N$6,SUM($I25:M25)<>1),1/$F25,0),0) -> 0.16666667 | O25: =IFERROR(IF(AND($D25<=O$6,SUM($I25:N25)<>1),1/$F25,0),0) -> 0.16666667 | P25: =IFERROR(IF(AND($D25<=P$6,SUM($I25:O25)<>1),1/$F25,0),0) -> 0.16666667 | Q25: =IFERROR(IF(AND($D25<=Q$6,SUM($I25:P25)<>1),1/$F25,0),0) -> 0.16666667 | R25: =IFERROR(IF(AND($D25<=R$6,SUM($I25:Q25)<>1),1/$F25,0),0) -> 0 | ... BU25: =IFERROR(IF(AND($D25<=BU$6,SUM($I25:BT25)<>1),1/$F25,0),0) -> 0
I26: Financeiro | J26: =J25*$C25 -> 0 | K26: =K25*$C25 -> 0 | L26: =L25*$C25 -> 47824.103 | M26: =M25*$C25 -> 47824.103 | N26: =N25*$C25 -> 47824.103 | O26: =O25*$C25 -> 47824.103 | P26: =P25*$C25 -> 47824.103 | Q26: =Q25*$C25 -> 47824.103 | ... BU26: =BU25*$C25 -> 0
A27: 1.2.7 | B27: PROJETO EXECUTIVO EMISSÁRIO | C27: =VLOOKUP(A27,'Resumo Eventograma'!A:E,5,FALSE) -> 193463.32 | D27: =EDATE(D$7,E27) -> 45292 | E27: 4 | F27: 4 | G27: =IF(F27<>"",H27-D27,"") -> 151 | H27: =IFERROR(EOMONTH(D27,F27),"") -> 45443 | I27: Físico | J27: 0 | K27: =IFERROR(IF(AND($D27<=K$6,SUM($I27:J27)<>1),1/$F27,0),0) -> 0 | L27: =IFERROR(IF(AND($D27<=L$6,SUM($I27:K27)<>1),1/$F27,0),0) -> 0 | M27: =IFERROR(IF(AND($D27<=M$6,SUM($I27:L27)<>1),1/$F27,0),0) -> 0 | N27: =IFERROR(IF(AND($D27<=N$6,SUM($I27:M27)<>1),1/$F27,0),0) -> 0 | O27: =IFERROR(IF(AND($D27<=O$6,SUM($I27:N27)<>1),1/$F27,0),0) -> 0.25 | P27: =IFERROR(IF(AND($D27<=P$6,SUM($I27:O27)<>1),1/$F27,0),0) -> 0.25 | Q27: =IFERROR(IF(AND($D27<=Q$6,SUM($I27:P27)<>1),1/$F27,0),0) -> 0.25 | R27: =IFERROR(IF(AND($D27<=R$6,SUM($I27:Q27)<>1),1/$F27,0),0) -> 0.25 | ... BU27: =IFERROR(IF(AND($D27<=BU$6,SUM($I27:BT27)<>1),1/$F27,0),0) -> 0
I28: Financeiro | J28: =J27*$C27 -> 0 | K28: =K27*$C27 -> 0 | L28: =L27*$C27 -> 0 | M28: =M27*$C27 -> 0 | N28: =N27*$C27 -> 0 | O28: =O27*$C27 -> 48365.83 | P28: =P27*$C27 -> 48365.83 | Q28: =Q27*$C27 -> 48365.83 | ... BU28: =BU27*$C27 -> 0
A29: 1.3 | B29: PROJETOS EXECUTIVOS SISTEMAS FIXOS | D29: =EDATE(D$7,E29) -> 45292 | E29: 4 | F29: 8 | G29: =IF(F29<>"",H29-D29,"") -> 273 | H29: =IFERROR(EOMONTH(D29,F29),"") -> 45565 | I29: Físico | J29: 0 | K29: =IFERROR(IF(AND($D29<=K$6,SUM($I29:J29)<>1),1/$F29,0),0) -> 0 | L29: =IFERROR(IF(AND($D29<=L$6,SUM($I29:K29)<>1),1/$F29,0),0) -> 0 | M29: =IFERROR(IF(AND($D29<=M$6,SUM($I29:L29)<>1),1/$F29,0),0) -> 0 | N29: =IFERROR(IF(AND($D29<=N$6,SUM($I29:M29)<>1),1/$F29,0),0) -> 0 | O29: =IFERROR(IF(AND($D29<=O$6,SUM($I29:N29)<>1),1/$F29,0),0) -> 0.125 | P29: =IFERROR(IF(AND($D29<=P$6,SUM($I29:O29)<>1),1/$F29,0),0) -> 0.125 | Q29: =IFERROR(IF(AND($D29<=Q$6,SUM($I29:P29)<>1),1/$F29,0),0) -> 0.125 | R29: =IFERROR(IF(AND($D29<=R$6,SUM($I29:Q29)<>1),1/$F29,0),0) -> 0.125 | ... BU29: =IFERROR(IF(AND($D29<=BU$6,SUM($I29:BT29)<>1),1/$F29,0),0) -> 0
I30: Financeiro | J30: =J29*$C29 -> 0 | K30: =K29*$C29 -> 0 | L30: =L29*$C29 -> 0 | M30: =M29*$C29 -> 0 | N30: =N29*$C29 -> 0 | O30: =O29*$C29 -> 0 | P30: =P29*$C29 -> 0 | Q30: =Q29*$C29 -> 0 | ... BU30: =BU29*$C29 -> 0
A31: 1.3.1 | B31: PROJETO EXECUTIVO ENERGIA | C31: =VLOOKUP(A31,'Resumo Eventograma'!A:E,5,FALSE) -> 2016548.8 | D31: =EDATE(D$7,E31) -> 45292 | E31: 4 | F31: 8 | G31: =IF(F31<>"",H31-D31,"") -> 273 | H31: =IFERROR(EOMONTH(D31,F31),"") -> 45565 | I31: Físico | J31: 0 | K31: =IFERROR(IF(AND($D31<=K$6,SUM($I31:J31)<>1),1/$F31,0),0) -> 0 | L31: =IFERROR(IF(AND($D31<=L$6,SUM($I31:K31)<>1),1/$F31,0),0) -> 0 | M31: =IFERROR(IF(AND($D31<=M$6,SUM($I31:L31)<>1),1/$F31,0),0) -> 0 | N31: =IFERROR(IF(AND($D31<=N$6,SUM($I31:M31)<>1),1/$F31,0),0) -> 0 | O31: =IFERROR(IF(AND($D31<=O$6,SUM($I31:N31)<>1),1/$F31,0),0) -> 0.125 | P31: =IFERROR(IF(AND($D31<=P$6,SUM($I31:O31)<>1),1/$F31,0),0) -> 0.125 | Q31: =IFERROR(IF(AND($D31<=Q$6,SUM($I31:P31)<>1),1/$F31,0),0) -> 0.125 | R31: =IFERROR(IF(AND($D31<=R$6,SUM($I31:Q31)<>1),1/$F31,0),0) -> 0.125 | ... BU31: =IFERROR(IF(AND($D31<=BU$6,SUM($I31:BT31)<>1),1/$F31,0),0) -> 0
I32: Financeiro | J32: =J31*$C31 -> 0 | K32: =K31*$C31 -> 0 | L32: =L31*$C31 -> 0 | M32: =M31*$C31 -> 0 | N32: =N31*$C31 -> 0 | O32: =O31*$C31 -> 252068.6 | P32: =P31*$C31 -> 252068.6 | Q32: =Q31*$C31 -> 252068.6 | ... BU32: =BU31*$C31 -> 0
A33: 1.3.2 | B33: PROJETO EXECUTIVO TELECOM | C33: =VLOOKUP(A33,'Resumo Eventograma'!A:E,5,FALSE) -> 91471.69 | D33: =EDATE(D$7,E33) -> 45292 | E33: 4 | F33: 4 | G33: =IF(F33<>"",H33-D33,"") -> 151 | H33: =IFERROR(EOMONTH(D33,F33),"") -> 45443 | I33: Físico | J33: 0 | K33: =IFERROR(IF(AND($D33<=K$6,SUM($I33:J33)<>1),1/$F33,0),0) -> 0 | L33: =IFERROR(IF(AND($D33<=L$6,SUM($I33:K33)<>1),1/$F33,0),0) -> 0 | M33: =IFERROR(IF(AND($D33<=M$6,SUM($I33:L33)<>1),1/$F33,0),0) -> 0 | N33: =IFERROR(IF(AND($D33<=N$6,SUM($I33:M33)<>1),1/$F33,0),0) -> 0 | O33: =IFERROR(IF(AND($D33<=O$6,SUM($I33:N33)<>1),1/$F33,0),0) -> 0.25 | P33: =IFERROR(IF(AND($D33<=P$6,SUM($I33:O33)<>1),1/$F33,0),0) -> 0.25 | Q33: =IFERROR(IF(AND($D33<=Q$6,SUM($I33:P33)<>1),1/$F33,0),0) -> 0.25 | R33: =IFERROR(IF(AND($D33<=R$6,SUM($I33:Q33)<>1),1/$F33,0),0) -> 0.25 | ... BU33: =IFERROR(IF(AND($D33<=BU$6,SUM($I33:BT33)<>1),1/$F33,0),0) -> 0
I34: Financeiro | J34: =J33*$C33 -> 0 | K34: =K33*$C33 -> 0 | L34: =L33*$C33 -> 0 | M34: =M33*$C33 -> 0 | N34: =N33*$C33 -> 0 | O34: =O33*$C33 -> 22867.923 | P34: =P33*$C33 -> 22867.923 | Q34: =Q33*$C33 -> 22867.923 | ... BU34: =BU33*$C33 -> 0
A35: 1.3.3 | B35: PROJETO EXECUTIVO SISTEMAS MECÂNICOS | C35: =VLOOKUP(A35,'Resumo Eventograma'!A:E,5,FALSE) -> 49088.51 | D35: =EDATE(D$7,E35) -> 45292 | E35: 4 | F35: 5 | G35: =IF(F35<>"",H35-D35,"") -> 181 | H35: =IFERROR(EOMONTH(D35,F35),"") -> 45473 | I35: Físico | J35: 0 | K35: =IFERROR(IF(AND($D35<=K$6,SUM($I35:J35)<>1),1/$F35,0),0) -> 0 | L35: =IFERROR(IF(AND($D35<=L$6,SUM($I35:K35)<>1),1/$F35,0),0) -> 0 | M35: =IFERROR(IF(AND($D35<=M$6,SUM($I35:L35)<>1),1/$F35,0),0) -> 0 | N35: =IFERROR(IF(AND($D35<=N$6,SUM($I35:M35)<>1),1/$F35,0),0) -> 0 | O35: =IFERROR(IF(AND($D35<=O$6,SUM($I35:N35)<>1),1/$F35,0),0) -> 0.2 | P35: =IFERROR(IF(AND($D35<=P$6,SUM($I35:O35)<>1),1/$F35,0),0) -> 0.2 | Q35: =IFERROR(IF(AND($D35<=Q$6,SUM($I35:P35)<>1),1/$F35,0),0) -> 0.2 | R35: =IFERROR(IF(AND($D35<=R$6,SUM($I35:Q35)<>1),1/$F35,0),0) -> 0.2 | ... BU35: =IFERROR(IF(AND($D35<=BU$6,SUM($I35:BT35)<>1),1/$F35,0),0) -> 0
I36: Financeiro | J36: =J35*$C35 -> 0 | K36: =K35*$C35 -> 0 | L36: =L35*$C35 -> 0 | M36: =M35*$C35 -> 0 | N36: =N35*$C35 -> 0 | O36: =O35*$C35 -> 9817.702 | P36: =P35*$C35 -> 9817.702 | Q36: =Q35*$C35 -> 9817.702 | ... BU36: =BU35*$C35 -> 0
A37: 1.4 | B37: PROJETOS AS BUILT OBRAS CIVIS | D37: =EDATE(D$7,E37) -> 45292 | E37: 4 | F37: 43 | G37: =IF(F37<>"",H37-D37,"") -> 1338 | H37: =IFERROR(EOMONTH(D37,F37),"") -> 46630 | I37: Físico | J37: 0 | K37: =IFERROR(IF(AND($D37<=K$6,SUM($I37:J37)<>1),1/$F37,0),0) -> 0 | L37: =IFERROR(IF(AND($D37<=L$6,SUM($I37:K37)<>1),1/$F37,0),0) -> 0 | M37: =IFERROR(IF(AND($D37<=M$6,SUM($I37:L37)<>1),1/$F37,0),0) -> 0 | N37: =IFERROR(IF(AND($D37<=N$6,SUM($I37:M37)<>1),1/$F37,0),0) -> 0 | O37: =IFERROR(IF(AND($D37<=O$6,SUM($I37:N37)<>1),1/$F37,0),0) -> 0.023255814 | P37: =IFERROR(IF(AND($D37<=P$6,SUM($I37:O37)<>1),1/$F37,0),0) -> 0.023255814 | Q37: =IFERROR(IF(AND($D37<=Q$6,SUM($I37:P37)<>1),1/$F37,0),0) -> 0.023255814 | R37: =IFERROR(IF(AND($D37<=R$6,SUM($I37:Q37)<>1),1/$F37,0),0) -> 0.023255814 | ... BU37: =IFERROR(IF(AND($D37<=BU$6,SUM($I37:BT37)<>1),1/$F37,0),0) -> 0
I38: Financeiro | J38: =J37*$C37 -> 0 | K38: =K37*$C37 -> 0 | L38: =L37*$C37 -> 0 | M38: =M37*$C37 -> 0 | N38: =N37*$C37 -> 0 | O38: =O37*$C37 -> 0 | P38: =P37*$C37 -> 0 | Q38: =Q37*$C37 -> 0 | ... BU38: =BU37*$C37 -> 0
A39: 1.4.1 | B39: PROJETOS AS BUILT | C39: =VLOOKUP(A39,'Resumo Eventograma'!A:E,5,FALSE) -> 179485.7 | D39: =EDATE(D$7,E39) -> 45292 | E39: 4 | F39: 43 | G39: =IF(F39<>"",H39-D39,"") -> 1338 | H39: =IFERROR(EOMONTH(D39,F39),"") -> 46630 | I39: Físico | J39: 0 | K39: =IFERROR(IF(AND($D39<=K$6,SUM($I39:J39)<>1),1/$F39,0),0) -> 0 | L39: =IFERROR(IF(AND($D39<=L$6,SUM($I39:K39)<>1),1/$F39,0),0) -> 0 | M39: =IFERROR(IF(AND($D39<=M$6,SUM($I39:L39)<>1),1/$F39,0),0) -> 0 | N39: =IFERROR(IF(AND($D39<=N$6,SUM($I39:M39)<>1),1/$F39,0),0) -> 0 | O39: =IFERROR(IF(AND($D39<=O$6,SUM($I39:N39)<>1),1/$F39,0),0) -> 0.023255814 | P39: =IFERROR(IF(AND($D39<=P$6,SUM($I39:O39)<>1),1/$F39,0),0) -> 0.023255814 | Q39: =IFERROR(IF(AND($D39<=Q$6,SUM($I39:P39)<>1),1/$F39,0),0) -> 0.023255814 | R39: =IFERROR(IF(AND($D39<=R$6,SUM($I39:Q39)<>1),1/$F39,0),0) -> 0.023255814 | ... BU39: =IFERROR(IF(AND($D39<=BU$6,SUM($I39:BT39)<>1),1/$F39,0),0) -> 0
I40: Financeiro | J40: =J39*$C39 -> 0 | K40: =K39*$C39 -> 0 | L40: =L39*$C39 -> 0 | M40: =M39*$C39 -> 0 | N40: =N39*$C39 -> 0 | O40: =O39*$C39 -> 4174.086 | P40: =P39*$C39 -> 4174.086 | Q40: =Q39*$C39 -> 4174.086 | ... BU40: =BU39*$C39 -> 0
A41: 1.5 | B41: PROJETOS AS BUILT SISTEMAS | D41: =EDATE(D$7,E41) -> 45292 | E41: 4 | F41: 43 | G41: =IF(F41<>"",H41-D41,"") -> 1338 | H41: =IFERROR(EOMONTH(D41,F41),"") -> 46630 | I41: Físico | J41: 0 | K41: =IFERROR(IF(AND($D41<=K$6,SUM($I41:J41)<>1),1/$F41,0),0) -> 0 | L41: =IFERROR(IF(AND($D41<=L$6,SUM($I41:K41)<>1),1/$F41,0),0) -> 0 | M41: =IFERROR(IF(AND($D41<=M$6,SUM($I41:L41)<>1),1/$F41,0),0) -> 0 | N41: =IFERROR(IF(AND($D41<=N$6,SUM($I41:M41)<>1),1/$F41,0),0) -> 0 | O41: =IFERROR(IF(AND($D41<=O$6,SUM($I41:N41)<>1),1/$F41,0),0) -> 0.023255814 | P41: =IFERROR(IF(AND($D41<=P$6,SUM($I41:O41)<>1),1/$F41,0),0) -> 0.023255814 | Q41: =IFERROR(IF(AND($D41<=Q$6,SUM($I41:P41)<>1),1/$F41,0),0) -> 0.023255814 | R41: =IFERROR(IF(AND($D41<=R$6,SUM($I41:Q41)<>1),1/$F41,0),0) -> 0.023255814 | ... BU41: =IFERROR(IF(AND($D41<=BU$6,SUM($I41:BT41)<>1),1/$F41,0),0) -> 0
I42: Financeiro | J42: =J41*$C41 -> 0 | K42: =K41*$C41 -> 0 | L42: =L41*$C41 -> 0 | M42: =M41*$C41 -> 0 | N42: =N41*$C41 -> 0 | O42: =O41*$C41 -> 0 | P42: =P41*$C41 -> 0 | Q42: =Q41*$C41 -> 0 | ... BU42: =BU41*$C41 -> 0
A43: 1.5.1 | B43: PROJETO AS BUILT ENERGIA | C43: =VLOOKUP(A43,'Resumo Eventograma'!A:E,5,FALSE) -> 201654.84 | D43: =EDATE(D$7,E43) -> 45352 | E43: 6 | F43: 6 | G43: =IF(F43<>"",H43-D43,"") -> 213 | H43: =IFERROR(EOMONTH(D43,F43),"") -> 45565 | I43: Físico | J43: 0 | K43: =IFERROR(IF(AND($D43<=K$6,SUM($I43:J43)<>1),1/$F43,0),0) -> 0 | L43: =IFERROR(IF(AND($D43<=L$6,SUM($I43:K43)<>1),1/$F43,0),0) -> 0 | M43: =IFERROR(IF(AND($D43<=M$6,SUM($I43:L43)<>1),1/$F43,0),0) -> 0 | N43: =IFERROR(IF(AND($D43<=N$6,SUM($I43:M43)<>1),1/$F43,0),0) -> 0 | O43: =IFERROR(IF(AND($D43<=O$6,SUM($I43:N43)<>1),1/$F43,0),0) -> 0 | P43: =IFERROR(IF(AND($D43<=P$6,SUM($I43:O43)<>1),1/$F43,0),0) -> 0 | Q43: =IFERROR(IF(AND($D43<=Q$6,SUM($I43:P43)<>1),1/$F43,0),0) -> 0.16666667 | R43: =IFERROR(IF(AND($D43<=R$6,SUM($I43:Q43)<>1),1/$F43,0),0) -> 0.16666667 | ... BU43: =IFERROR(IF(AND($D43<=BU$6,SUM($I43:BT43)<>1),1/$F43,0),0) -> 0
I44: Financeiro | J44: =J43*$C43 -> 0 | K44: =K43*$C43 -> 0 | L44: =L43*$C43 -> 0 | M44: =M43*$C43 -> 0 | N44: =N43*$C43 -> 0 | O44: =O43*$C43 -> 0 | P44: =P43*$C43 -> 0 | Q44: =Q43*$C43 -> 33609.14 | ... BU44: =BU43*$C43 -> 0
A45: 1.5.2 | B45: PROJETO AS BUILT TELECOM | C45: =VLOOKUP(A45,'Resumo Eventograma'!A:E,5,FALSE) -> 9147.14 | D45: =EDATE(D$7,E45) -> 45292 | E45: 4 | F45: 43 | G45: =IF(F45<>"",H45-D45,"") -> 1338 | H45: =IFERROR(EOMONTH(D45,F45),"") -> 46630 | I45: Físico | J45: 0 | K45: =IFERROR(IF(AND($D45<=K$6,SUM($I45:J45)<>1),1/$F45,0),0) -> 0 | L45: =IFERROR(IF(AND($D45<=L$6,SUM($I45:K45)<>1),1/$F45,0),0) -> 0 | M45: =IFERROR(IF(AND($D45<=M$6,SUM($I45:L45)<>1),1/$F45,0),0) -> 0 | N45: =IFERROR(IF(AND($D45<=N$6,SUM($I45:M45)<>1),1/$F45,0),0) -> 0 | O45: =IFERROR(IF(AND($D45<=O$6,SUM($I45:N45)<>1),1/$F45,0),0) -> 0.023255814 | P45: =IFERROR(IF(AND($D45<=P$6,SUM($I45:O45)<>1),1/$F45,0),0) -> 0.023255814 | Q45: =IFERROR(IF(AND($D45<=Q$6,SUM($I45:P45)<>1),1/$F45,0),0) -> 0.023255814 | R45: =IFERROR(IF(AND($D45<=R$6,SUM($I45:Q45)<>1),1/$F45,0),0) -> 0.023255814 | ... BU45: =IFERROR(IF(AND($D45<=BU$6,SUM($I45:BT45)<>1),1/$F45,0),0) -> 0
I46: Financeiro | J46: =J45*$C45 -> 0 | K46: =K45*$C45 -> 0 | L46: =L45*$C45 -> 0 | M46: =M45*$C45 -> 0 | N46: =N45*$C45 -> 0 | O46: =O45*$C45 -> 212.72419 | P46: =P45*$C45 -> 212.72419 | Q46: =Q45*$C45 -> 212.72419 | ... BU46: =BU45*$C45 -> 0
A47: 1.5.3 | B47: PROJETO AS BUILT SISTEMAS MECÂNICOS | C47: =VLOOKUP(A47,'Resumo Eventograma'!A:E,5,FALSE) -> 4908.84 | D47: =EDATE(D$7,E47) -> 45474 | E47: 10 | F47: 3 | G47: =IF(F47<>"",H47-D47,"") -> 122 | H47: =IFERROR(EOMONTH(D47,F47),"") -> 45596 | I47: Físico | J47: 0 | K47: =IFERROR(IF(AND($D47<=K$6,SUM($I47:J47)<>1),1/$F47,0),0) -> 0 | L47: =IFERROR(IF(AND($D47<=L$6,SUM($I47:K47)<>1),1/$F47,0),0) -> 0 | M47: =IFERROR(IF(AND($D47<=M$6,SUM($I47:L47)<>1),1/$F47,0),0) -> 0 | N47: =IFERROR(IF(AND($D47<=N$6,SUM($I47:M47)<>1),1/$F47,0),0) -> 0 | O47: =IFERROR(IF(AND($D47<=O$6,SUM($I47:N47)<>1),1/$F47,0),0) -> 0 | P47: =IFERROR(IF(AND($D47<=P$6,SUM($I47:O47)<>1),1/$F47,0),0) -> 0 | Q47: =IFERROR(IF(AND($D47<=Q$6,SUM($I47:P47)<>1),1/$F47,0),0) -> 0 | R47: =IFERROR(IF(AND($D47<=R$6,SUM($I47:Q47)<>1),1/$F47,0),0) -> 0 | ... BU47: =IFERROR(IF(AND($D47<=BU$6,SUM($I47:BT47)<>1),1/$F47,0),0) -> 0
I48: Financeiro | J48: =J47*$C47 -> 0 | K48: =K47*$C47 -> 0 | L48: =L47*$C47 -> 0 | M48: =M47*$C47 -> 0 | N48: =N47*$C47 -> 0 | O48: =O47*$C47 -> 0 | P48: =P47*$C47 -> 0 | Q48: =Q47*$C47 -> 0 | ... BU48: =BU47*$C47 -> 0
A49: 1.5.4 | B49: RELATÓRIO FINAL AMBIENTAL | C49: =VLOOKUP(A49,'Resumo Eventograma'!A:E,5,FALSE) -> 17465.77 | D49: =EDATE(D$7,E49) -> 45323 | E49: 5 | F49: 1 | G49: =IF(F49<>"",H49-D49,"") -> 59 | H49: =IFERROR(EOMONTH(D49,F49),"") -> 45382 | I49: Físico | J49: 0 | K49: =IFERROR(IF(AND($D49<=K$6,SUM($I49:J49)<>1),1/$F49,0),0) -> 0 | L49: =IFERROR(IF(AND($D49<=L$6,SUM($I49:K49)<>1),1/$F49,0),0) -> 0 | M49: =IFERROR(IF(AND($D49<=M$6,SUM($I49:L49)<>1),1/$F49,0),0) -> 0 | N49: =IFERROR(IF(AND($D49<=N$6,SUM($I49:M49)<>1),1/$F49,0),0) -> 0 | O49: =IFERROR(IF(AND($D49<=O$6,SUM($I49:N49)<>1),1/$F49,0),0) -> 0 | P49: =IFERROR(IF(AND($D49<=P$6,SUM($I49:O49)<>1),1/$F49,0),0) -> 1 | Q49: =IFERROR(IF(AND($D49<=Q$6,SUM($I49:P49)<>1),1/$F49,0),0) -> 0 | R49: =IFERROR(IF(AND($D49<=R$6,SUM($I49:Q49)<>1),1/$F49,0),0) -> 0 | ... BU49: =IFERROR(IF(AND($D49<=BU$6,SUM($I49:BT49)<>1),1/$F49,0),0) -> 0
I50: Financeiro | J50: =J49*$C49 -> 0 | K50: =K49*$C49 -> 0 | L50: =L49*$C49 -> 0 | M50: =M49*$C49 -> 0 | N50: =N49*$C49 -> 0 | O50: =O49*$C49 -> 0 | P50: =P49*$C49 -> 17465.77 | Q50: =Q49*$C49 -> 0 | ... BU50: =BU49*$C49 -> 0
A51: 2. | B51: SERVIÇOS GERAIS | D51: =EDATE(D$7,E51) -> 45170 | E51: 0 | F51: 49 | G51: =IF(F51<>"",H51-D51,"") -> 1521 | H51: =IFERROR(EOMONTH(D51,F51),"") -> 46691 | I51: Físico | J51: 0 | K51: =IFERROR(IF(AND($D51<=K$6,SUM($I51:J51)<>1),1/$F51,0),0) -> 0.020408163 | L51: =IFERROR(IF(AND($D51<=L$6,SUM($I51:K51)<>1),1/$F51,0),0) -> 0.020408163 | M51: =IFERROR(IF(AND($D51<=M$6,SUM($I51:L51)<>1),1/$F51,0),0) -> 0.020408163 | N51: =IFERROR(IF(AND($D51<=N$6,SUM($I51:M51)<>1),1/$F51,0),0) -> 0.020408163 | O51: =IFERROR(IF(AND($D51<=O$6,SUM($I51:N51)<>1),1/$F51,0),0) -> 0.020408163 | P51: =IFERROR(IF(AND($D51<=P$6,SUM($I51:O51)<>1),1/$F51,0),0) -> 0.020408163 | Q51: =IFERROR(IF(AND($D51<=Q$6,SUM($I51:P51)<>1),1/$F51,0),0) -> 0.020408163 | R51: =IFERROR(IF(AND($D51<=R$6,SUM($I51:Q51)<>1),1/$F51,0),0) -> 0.020408163 | ... BU51: =IFERROR(IF(AND($D51<=BU$6,SUM($I51:BT51)<>1),1/$F51,0),0) -> 0
I52: Financeiro | J52: =J51*$C51 -> 0 | K52: =K51*$C51 -> 0 | L52: =L51*$C51 -> 0 | M52: =M51*$C51 -> 0 | N52: =N51*$C51 -> 0 | O52: =O51*$C51 -> 0 | P52: =P51*$C51 -> 0 | Q52: =Q51*$C51 -> 0 | ... BU52: =BU51*$C51 -> 0
A53: 2.1 | B53: ADMINISTRAÇÃO LOCAL | D53: =EDATE(D$7,E53) -> 45170 | E53: 0 | F53: 49 | G53: =IF(F53<>"",H53-D53,"") -> 1521 | H53: =IFERROR(EOMONTH(D53,F53),"") -> 46691 | I53: Físico | J53: 0 | K53: =IFERROR(IF(AND($D53<=K$6,SUM($I53:J53)<>1),1/$F53,0),0) -> 0.020408163 | L53: =IFERROR(IF(AND($D53<=L$6,SUM($I53:K53)<>1),1/$F53,0),0) -> 0.020408163 | M53: =IFERROR(IF(AND($D53<=M$6,SUM($I53:L53)<>1),1/$F53,0),0) -> 0.020408163 | N53: =IFERROR(IF(AND($D53<=N$6,SUM($I53:M53)<>1),1/$F53,0),0) -> 0.020408163 | O53: =IFERROR(IF(AND($D53<=O$6,SUM($I53:N53)<>1),1/$F53,0),0) -> 0.020408163 | P53: =IFERROR(IF(AND($D53<=P$6,SUM($I53:O53)<>1),1/$F53,0),0) -> 0.020408163 | Q53: =IFERROR(IF(AND($D53<=Q$6,SUM($I53:P53)<>1),1/$F53,0),0) -> 0.020408163 | R53: =IFERROR(IF(AND($D53<=R$6,SUM($I53:Q53)<>1),1/$F53,0),0) -> 0.020408163 | ... BU53: =IFERROR(IF(AND($D53<=BU$6,SUM($I53:BT53)<>1),1/$F53,0),0) -> 0
I54: Financeiro | J54: =J53*$C53 -> 0 | K54: =K53*$C53 -> 0 | L54: =L53*$C53 -> 0 | M54: =M53*$C53 -> 0 | N54: =N53*$C53 -> 0 | O54: =O53*$C53 -> 0 | P54: =P53*$C53 -> 0 | Q54: =Q53*$C53 -> 0 | ... BU54: =BU53*$C53 -> 0
A55: 2.1.1 | B55: ADMINISTRAÇÃO LOCAL | C55: =VLOOKUP(A55,'Resumo Eventograma'!A:E,5,FALSE) -> 21531588 | D55: =EDATE(D$7,E55) -> 45170 | E55: 0 | F55: 49 | G55: =IF(F55<>"",H55-D55,"") -> 1521 | H55: =IFERROR(EOMONTH(D55,F55),"") -> 46691 | I55: Físico | J55: 0 | K55: =IFERROR(IF(AND($D55<=K$6,SUM($I55:J55)<>1),1/$F55,0),0) -> 0.020408163 | L55: =IFERROR(IF(AND($D55<=L$6,SUM($I55:K55)<>1),1/$F55,0),0) -> 0.020408163 | M55: =IFERROR(IF(AND($D55<=M$6,SUM($I55:L55)<>1),1/$F55,0),0) -> 0.020408163 | N55: =IFERROR(IF(AND($D55<=N$6,SUM($I55:M55)<>1),1/$F55,0),0) -> 0.020408163 | O55: =IFERROR(IF(AND($D55<=O$6,SUM($I55:N55)<>1),1/$F55,0),0) -> 0.020408163 | P55: =IFERROR(IF(AND($D55<=P$6,SUM($I55:O55)<>1),1/$F55,0),0) -> 0.020408163 | Q55: =IFERROR(IF(AND($D55<=Q$6,SUM($I55:P55)<>1),1/$F55,0),0) -> 0.020408163 | R55: =IFERROR(IF(AND($D55<=R$6,SUM($I55:Q55)<>1),1/$F55,0),0) -> 0.020408163 | ... BU55: =IFERROR(IF(AND($D55<=BU$6,SUM($I55:BT55)<>1),1/$F55,0),0) -> 0
I56: Financeiro | J56: =J55*$C55 -> 0 | K56: =K55*$C55 -> 439420.16 | L56: =L55*$C55 -> 439420.16 | M56: =M55*$C55 -> 439420.16 | N56: =N55*$C55 -> 439420.16 | O56: =O55*$C55 -> 439420.16 | P56: =P55*$C55 -> 439420.16 | Q56: =Q55*$C55 -> 439420.16 | ... BU56: =BU55*$C55 -> 0
A57: 2.2 | B57: SERVIÇOS AUXILIARES | D57: =EDATE(D$7,E57) -> 45200 | E57: 1 | F57: 43 | G57: =IF(F57<>"",H57-D57,"") -> 1338 | H57: =IFERROR(EOMONTH(D57,F57),"") -> 46538 | I57: Físico | J57: 0 | K57: =IFERROR(IF(AND($D57<=K$6,SUM($I57:J57)<>1),1/$F57,0),0) -> 0 | L57: =IFERROR(IF(AND($D57<=L$6,SUM($I57:K57)<>1),1/$F57,0),0) -> 0.023255814 | M57: =IFERROR(IF(AND($D57<=M$6,SUM($I57:L57)<>1),1/$F57,0),0) -> 0.023255814 | N57: =IFERROR(IF(AND($D57<=N$6,SUM($I57:M57)<>1),1/$F57,0),0) -> 0.023255814 | O57: =IFERROR(IF(AND($D57<=O$6,SUM($I57:N57)<>1),1/$F57,0),0) -> 0.023255814 | P57: =IFERROR(IF(AND($D57<=P$6,SUM($I57:O57)<>1),1/$F57,0),0) -> 0.023255814 | Q57: =IFERROR(IF(AND($D57<=Q$6,SUM($I57:P57)<>1),1/$F57,0),0) -> 0.023255814 | R57: =IFERROR(IF(AND($D57<=R$6,SUM($I57:Q57)<>1),1/$F57,0),0) -> 0.023255814 | ... BU57: =IFERROR(IF(AND($D57<=BU$6,SUM($I57:BT57)<>1),1/$F57,0),0) -> 0
I58: Financeiro | J58: =J57*$C57 -> 0 | K58: =K57*$C57 -> 0 | L58: =L57*$C57 -> 0 | M58: =M57*$C57 -> 0 | N58: =N57*$C57 -> 0 | O58: =O57*$C57 -> 0 | P58: =P57*$C57 -> 0 | Q58: =Q57*$C57 -> 0 | ... BU58: =BU57*$C57 -> 0
A59: 2.2.1 | B59: CANTEIRO DE OBRA | C59: =VLOOKUP(A59,'Resumo Eventograma'!A:E,5,FALSE) -> 2018343.7 | D59: =EDATE(D$7,E59) -> 45200 | E59: 1 | F59: 43 | G59: =IF(F59<>"",H59-D59,"") -> 1338 | H59: =IFERROR(EOMONTH(D59,F59),"") -> 46538 | I59: Físico | J59: 0 | K59: =IFERROR(IF(AND($D59<=K$6,SUM($I59:J59)<>1),1/$F59,0),0) -> 0 | L59: =IFERROR(IF(AND($D59<=L$6,SUM($I59:K59)<>1),1/$F59,0),0) -> 0.023255814 | M59: =IFERROR(IF(AND($D59<=M$6,SUM($I59:L59)<>1),1/$F59,0),0) -> 0.023255814 | N59: =IFERROR(IF(AND($D59<=N$6,SUM($I59:M59)<>1),1/$F59,0),0) -> 0.023255814 | O59: =IFERROR(IF(AND($D59<=O$6,SUM($I59:N59)<>1),1/$F59,0),0) -> 0.023255814 | P59: =IFERROR(IF(AND($D59<=P$6,SUM($I59:O59)<>1),1/$F59,0),0) -> 0.023255814 | Q59: =IFERROR(IF(AND($D59<=Q$6,SUM($I59:P59)<>1),1/$F59,0),0) -> 0.023255814 | R59: =IFERROR(IF(AND($D59<=R$6,SUM($I59:Q59)<>1),1/$F59,0),0) -> 0.023255814 | ... BU59: =IFERROR(IF(AND($D59<=BU$6,SUM($I59:BT59)<>1),1/$F59,0),0) -> 0
I60: Financeiro | J60: =J59*$C59 -> 0 | K60: =K59*$C59 -> 0 | L60: =L59*$C59 -> 46938.226 | M60: =M59*$C59 -> 46938.226 | N60: =N59*$C59 -> 46938.226 | O60: =O59*$C59 -> 46938.226 | P60: =P59*$C59 -> 46938.226 | Q60: =Q59*$C59 -> 46938.226 | ... BU60: =BU59*$C59 -> 0
A61: 2.2.2 | B61: SERVIÇOS COMPLEMETARES | C61: =VLOOKUP(A61,'Resumo Eventograma'!A:E,5,FALSE) -> 1948102.9 | D61: =EDATE(D$7,E61) -> 45200 | E61: 1 | F61: 1 | G61: =IF(F61<>"",H61-D61,"") -> 60 | H61: =IFERROR(EOMONTH(D61,F61),"") -> 45260 | I61: Físico | J61: 0 | K61: =IFERROR(IF(AND($D61<=K$6,SUM($I61:J61)<>1),1/$F61,0),0) -> 0 | L61: =IFERROR(IF(AND($D61<=L$6,SUM($I61:K61)<>1),1/$F61,0),0) -> 1 | M61: =IFERROR(IF(AND($D61<=M$6,SUM($I61:L61)<>1),1/$F61,0),0) -> 0 | N61: =IFERROR(IF(AND($D61<=N$6,SUM($I61:M61)<>1),1/$F61,0),0) -> 0 | O61: =IFERROR(IF(AND($D61<=O$6,SUM($I61:N61)<>1),1/$F61,0),0) -> 0 | P61: =IFERROR(IF(AND($D61<=P$6,SUM($I61:O61)<>1),1/$F61,0),0) -> 0 | Q61: =IFERROR(IF(AND($D61<=Q$6,SUM($I61:P61)<>1),1/$F61,0),0) -> 0 | R61: =IFERROR(IF(AND($D61<=R$6,SUM($I61:Q61)<>1),1/$F61,0),0) -> 0 | ... BU61: =IFERROR(IF(AND($D61<=BU$6,SUM($I61:BT61)<>1),1/$F61,0),0) -> 0
I62: Financeiro | J62: =J61*$C61 -> 0 | K62: =K61*$C61 -> 0 | L62: =L61*$C61 -> 1948102.9 | M62: =M61*$C61 -> 0 | N62: =N61*$C61 -> 0 | O62: =O61*$C61 -> 0 | P62: =P61*$C61 -> 0 | Q62: =Q61*$C61 -> 0 | ... BU62: =BU61*$C61 -> 0
A63: 2.3 | B63: SERVIÇOS AMBIENTAIS | D63: =EDATE(D$7,E63) -> 45200 | E63: 1 | F63: 7 | G63: =IF(F63<>"",H63-D63,"") -> 243 | H63: =IFERROR(EOMONTH(D63,F63),"") -> 45443 | I63: Físico | J63: 0 | K63: =IFERROR(IF(AND($D63<=K$6,SUM($I63:J63)<>1),1/$F63,0),0) -> 0 | L63: =IFERROR(IF(AND($D63<=L$6,SUM($I63:K63)<>1),1/$F63,0),0) -> 0.14285714 | M63: =IFERROR(IF(AND($D63<=M$6,SUM($I63:L63)<>1),1/$F63,0),0) -> 0.14285714 | N63: =IFERROR(IF(AND($D63<=N$6,SUM($I63:M63)<>1),1/$F63,0),0) -> 0.14285714 | O63: =IFERROR(IF(AND($D63<=O$6,SUM($I63:N63)<>1),1/$F63,0),0) -> 0.14285714 | P63: =IFERROR(IF(AND($D63<=P$6,SUM($I63:O63)<>1),1/$F63,0),0) -> 0.14285714 | Q63: =IFERROR(IF(AND($D63<=Q$6,SUM($I63:P63)<>1),1/$F63,0),0) -> 0.14285714 | R63: =IFERROR(IF(AND($D63<=R$6,SUM($I63:Q63)<>1),1/$F63,0),0) -> 0.14285714 | ... BU63: =IFERROR(IF(AND($D63<=BU$6,SUM($I63:BT63)<>1),1/$F63,0),0) -> 0
I64: Financeiro | J64: =J63*$C63 -> 0 | K64: =K63*$C63 -> 0 | L64: =L63*$C63 -> 0 | M64: =M63*$C63 -> 0 | N64: =N63*$C63 -> 0 | O64: =O63*$C63 -> 0 | P64: =P63*$C63 -> 0 | Q64: =Q63*$C63 -> 0 | ... BU64: =BU63*$C63 -> 0
A65: 2.3.1 | B65: ESTABILIZAÇÃO DOS ACESSOS | C65: =VLOOKUP(A65,'Resumo Eventograma'!A:E,5,FALSE) -> 931036.96 | D65: =EDATE(D$7,E65) -> 45200 | E65: 1 | F65: 7 | G65: =IF(F65<>"",H65-D65,"") -> 243 | H65: =IFERROR(EOMONTH(D65,F65),"") -> 45443 | I65: Físico | J65: 0 | K65: =IFERROR(IF(AND($D65<=K$6,SUM($I65:J65)<>1),1/$F65,0),0) -> 0 | L65: =IFERROR(IF(AND($D65<=L$6,SUM($I65:K65)<>1),1/$F65,0),0) -> 0.14285714 | M65: =IFERROR(IF(AND($D65<=M$6,SUM($I65:L65)<>1),1/$F65,0),0) -> 0.14285714 | N65: =IFERROR(IF(AND($D65<=N$6,SUM($I65:M65)<>1),1/$F65,0),0) -> 0.14285714 | O65: =IFERROR(IF(AND($D65<=O$6,SUM($I65:N65)<>1),1/$F65,0),0) -> 0.14285714 | P65: =IFERROR(IF(AND($D65<=P$6,SUM($I65:O65)<>1),1/$F65,0),0) -> 0.14285714 | Q65: =IFERROR(IF(AND($D65<=Q$6,SUM($I65:P65)<>1),1/$F65,0),0) -> 0.14285714 | R65: =IFERROR(IF(AND($D65<=R$6,SUM($I65:Q65)<>1),1/$F65,0),0) -> 0.14285714 | ... BU65: =IFERROR(IF(AND($D65<=BU$6,SUM($I65:BT65)<>1),1/$F65,0),0) -> 0
I66: Financeiro | J66: =J65*$C65 -> 0 | K66: =K65*$C65 -> 0 | L66: =L65*$C65 -> 133005.28 | M66: =M65*$C65 -> 133005.28 | N66: =N65*$C65 -> 133005.28 | O66: =O65*$C65 -> 133005.28 | P66: =P65*$C65 -> 133005.28 | Q66: =Q65*$C65 -> 133005.28 | ... BU66: =BU65*$C65 -> 0
A67: 2.3.2 | B67: PROTEÇÃO DE PERÍMETRO | C67: =VLOOKUP(A67,'Resumo Eventograma'!A:E,5,FALSE) -> 138464.76 | D67: =EDATE(D$7,E67) -> 45200 | E67: 1 | F67: 1 | G67: =IF(F67<>"",H67-D67,"") -> 60 | H67: =IFERROR(EOMONTH(D67,F67),"") -> 45260 | I67: Físico | J67: 0 | K67: =IFERROR(IF(AND($D67<=K$6,SUM($I67:J67)<>1),1/$F67,0),0) -> 0 | L67: =IFERROR(IF(AND($D67<=L$6,SUM($I67:K67)<>1),1/$F67,0),0) -> 1 | M67: =IFERROR(IF(AND($D67<=M$6,SUM($I67:L67)<>1),1/$F67,0),0) -> 0 | N67: =IFERROR(IF(AND($D67<=N$6,SUM($I67:M67)<>1),1/$F67,0),0) -> 0 | O67: =IFERROR(IF(AND($D67<=O$6,SUM($I67:N67)<>1),1/$F67,0),0) -> 0 | P67: =IFERROR(IF(AND($D67<=P$6,SUM($I67:O67)<>1),1/$F67,0),0) -> 0 | Q67: =IFERROR(IF(AND($D67<=Q$6,SUM($I67:P67)<>1),1/$F67,0),0) -> 0 | R67: =IFERROR(IF(AND($D67<=R$6,SUM($I67:Q67)<>1),1/$F67,0),0) -> 0 | ... BU67: =IFERROR(IF(AND($D67<=BU$6,SUM($I67:BT67)<>1),1/$F67,0),0) -> 0
I68: Financeiro | J68: =J67*$C67 -> 0 | K68: =K67*$C67 -> 0 | L68: =L67*$C67 -> 138464.76 | M68: =M67*$C67 -> 0 | N68: =N67*$C67 -> 0 | O68: =O67*$C67 -> 0 | P68: =P67*$C67 -> 0 | Q68: =Q67*$C67 -> 0 | ... BU68: =BU67*$C67 -> 0
A69: 2.3.3 | B69: DRENAGEM TEMPORÁRIA | C69: =VLOOKUP(A69,'Resumo Eventograma'!A:E,5,FALSE) -> 31691.45 | D69: =EDATE(D$7,E69) -> 45200 | E69: 1 | F69: 1 | G69: =IF(F69<>"",H69-D69,"") -> 60 | H69: =IFERROR(EOMONTH(D69,F69),"") -> 45260 | I69: Físico | J69: 0 | K69: =IFERROR(IF(AND($D69<=K$6,SUM($I69:J69)<>1),1/$F69,0),0) -> 0 | L69: =IFERROR(IF(AND($D69<=L$6,SUM($I69:K69)<>1),1/$F69,0),0) -> 1 | M69: =IFERROR(IF(AND($D69<=M$6,SUM($I69:L69)<>1),1/$F69,0),0) -> 0 | N69: =IFERROR(IF(AND($D69<=N$6,SUM($I69:M69)<>1),1/$F69,0),0) -> 0 | O69: =IFERROR(IF(AND($D69<=O$6,SUM($I69:N69)<>1),1/$F69,0),0) -> 0 | P69: =IFERROR(IF(AND($D69<=P$6,SUM($I69:O69)<>1),1/$F69,0),0) -> 0 | Q69: =IFERROR(IF(AND($D69<=Q$6,SUM($I69:P69)<>1),1/$F69,0),0) -> 0 | R69: =IFERROR(IF(AND($D69<=R$6,SUM($I69:Q69)<>1),1/$F69,0),0) -> 0 | ... BU69: =IFERROR(IF(AND($D69<=BU$6,SUM($I69:BT69)<>1),1/$F69,0),0) -> 0
I70: Financeiro | J70: =J69*$C69 -> 0 | K70: =K69*$C69 -> 0 | L70: =L69*$C69 -> 31691.45 | M70: =M69*$C69 -> 0 | N70: =N69*$C69 -> 0 | O70: =O69*$C69 -> 0 | P70: =P69*$C69 -> 0 | Q70: =Q69*$C69 -> 0 | ... BU70: =BU69*$C69 -> 0
A71: 3. | B71: OBRAS CIVIS | D71: =EDATE(D$7,E71) -> 45323 | E71: 5 | F71: 42 | G71: =IF(F71<>"",H71-D71,"") -> 1307 | H71: =IFERROR(EOMONTH(D71,F71),"") -> 46630 | I71: Físico | J71: 0 | K71: =IFERROR(IF(AND($D71<=K$6,SUM($I71:J71)<>1),1/$F71,0),0) -> 0 | L71: =IFERROR(IF(AND($D71<=L$6,SUM($I71:K71)<>1),1/$F71,0),0) -> 0 | M71: =IFERROR(IF(AND($D71<=M$6,SUM($I71:L71)<>1),1/$F71,0),0) -> 0 | N71: =IFERROR(IF(AND($D71<=N$6,SUM($I71:M71)<>1),1/$F71,0),0) -> 0 | O71: =IFERROR(IF(AND($D71<=O$6,SUM($I71:N71)<>1),1/$F71,0),0) -> 0 | P71: =IFERROR(IF(AND($D71<=P$6,SUM($I71:O71)<>1),1/$F71,0),0) -> 0.023809524 | Q71: =IFERROR(IF(AND($D71<=Q$6,SUM($I71:P71)<>1),1/$F71,0),0) -> 0.023809524 | R71: =IFERROR(IF(AND($D71<=R$6,SUM($I71:Q71)<>1),1/$F71,0),0) -> 0.023809524 | ... BU71: =IFERROR(IF(AND($D71<=BU$6,SUM($I71:BT71)<>1),1/$F71,0),0) -> 0
I72: Financeiro | J72: =J71*$C71 -> 0 | K72: =K71*$C71 -> 0 | L72: =L71*$C71 -> 0 | M72: =M71*$C71 -> 0 | N72: =N71*$C71 -> 0 | O72: =O71*$C71 -> 0 | P72: =P71*$C71 -> 0 | Q72: =Q71*$C71 -> 0 | ... BU72: =BU71*$C71 -> 0
A73: 3.1 | B73: ESTAÇÃO 35 | D73: =EDATE(D$7,E73) -> 45505 | E73: 11 | F73: 28 | G73: =IF(F73<>"",H73-D73,"") -> 882 | H73: =IFERROR(EOMONTH(D73,F73),"") -> 46387 | I73: Físico | J73: 0 | K73: =IFERROR(IF(AND($D73<=K$6,SUM($I73:J73)<>1),1/$F73,0),0) -> 0 | L73: =IFERROR(IF(AND($D73<=L$6,SUM($I73:K73)<>1),1/$F73,0),0) -> 0 | M73: =IFERROR(IF(AND($D73<=M$6,SUM($I73:L73)<>1),1/$F73,0),0) -> 0 | N73: =IFERROR(IF(AND($D73<=N$6,SUM($I73:M73)<>1),1/$F73,0),0) -> 0 | O73: =IFERROR(IF(AND($D73<=O$6,SUM($I73:N73)<>1),1/$F73,0),0) -> 0 | P73: =IFERROR(IF(AND($D73<=P$6,SUM($I73:O73)<>1),1/$F73,0),0) -> 0 | Q73: =IFERROR(IF(AND($D73<=Q$6,SUM($I73:P73)<>1),1/$F73,0),0) -> 0 | R73: =IFERROR(IF(AND($D73<=R$6,SUM($I73:Q73)<>1),1/$F73,0),0) -> 0 | ... BU73: =IFERROR(IF(AND($D73<=BU$6,SUM($I73:BT73)<>1),1/$F73,0),0) -> 0
I74: Financeiro | J74: =J73*$C73 -> 0 | K74: =K73*$C73 -> 0 | L74: =L73*$C73 -> 0 | M74: =M73*$C73 -> 0 | N74: =N73*$C73 -> 0 | O74: =O73*$C73 -> 0 | P74: =P73*$C73 -> 0 | Q74: =Q73*$C73 -> 0 | ... BU74: =BU73*$C73 -> 0
A75: 3.1.1 | B75: SERVIÇOS PRELIMINARES | C75: =VLOOKUP(A75,'Resumo Eventograma'!A:E,5,FALSE) -> 439653.07 | D75: =EDATE(D$7,E75) -> 45505 | E75: 11 | F75: 4 | G75: =IF(F75<>"",H75-D75,"") -> 152 | H75: =IFERROR(EOMONTH(D75,F75),"") -> 45657 | I75: Físico | J75: 0 | K75: =IFERROR(IF(AND($D75<=K$6,SUM($I75:J75)<>1),1/$F75,0),0) -> 0 | L75: =IFERROR(IF(AND($D75<=L$6,SUM($I75:K75)<>1),1/$F75,0),0) -> 0 | M75: =IFERROR(IF(AND($D75<=M$6,SUM($I75:L75)<>1),1/$F75,0),0) -> 0 | N75: =IFERROR(IF(AND($D75<=N$6,SUM($I75:M75)<>1),1/$F75,0),0) -> 0 | O75: =IFERROR(IF(AND($D75<=O$6,SUM($I75:N75)<>1),1/$F75,0),0) -> 0 | P75: =IFERROR(IF(AND($D75<=P$6,SUM($I75:O75)<>1),1/$F75,0),0) -> 0 | Q75: =IFERROR(IF(AND($D75<=Q$6,SUM($I75:P75)<>1),1/$F75,0),0) -> 0 | R75: =IFERROR(IF(AND($D75<=R$6,SUM($I75:Q75)<>1),1/$F75,0),0) -> 0 | ... BU75: =IFERROR(IF(AND($D75<=BU$6,SUM($I75:BT75)<>1),1/$F75,0),0) -> 0
I76: Financeiro | J76: =J75*$C75 -> 0 | K76: =K75*$C75 -> 0 | L76: =L75*$C75 -> 0 | M76: =M75*$C75 -> 0 | N76: =N75*$C75 -> 0 | O76: =O75*$C75 -> 0 | P76: =P75*$C75 -> 0 | Q76: =Q75*$C75 -> 0 | ... BU76: =BU75*$C75 -> 0
A77: 3.1.2 | B77: FUNDAÇÕES E ESTRUTURAS | C77: =VLOOKUP(A77,'Resumo Eventograma'!A:E,5,FALSE) -> 12169934 | D77: =EDATE(D$7,E77) -> 45597 | E77: 14 | F77: 9 | G77: =IF(F77<>"",H77-D77,"") -> 303 | H77: =IFERROR(EOMONTH(D77,F77),"") -> 45900 | I77: Físico | J77: 0 | K77: =IFERROR(IF(AND($D77<=K$6,SUM($I77:J77)<>1),1/$F77,0),0) -> 0 | L77: =IFERROR(IF(AND($D77<=L$6,SUM($I77:K77)<>1),1/$F77,0),0) -> 0 | M77: =IFERROR(IF(AND($D77<=M$6,SUM($I77:L77)<>1),1/$F77,0),0) -> 0 | N77: =IFERROR(IF(AND($D77<=N$6,SUM($I77:M77)<>1),1/$F77,0),0) -> 0 | O77: =IFERROR(IF(AND($D77<=O$6,SUM($I77:N77)<>1),1/$F77,0),0) -> 0 | P77: =IFERROR(IF(AND($D77<=P$6,SUM($I77:O77)<>1),1/$F77,0),0) -> 0 | Q77: =IFERROR(IF(AND($D77<=Q$6,SUM($I77:P77)<>1),1/$F77,0),0) -> 0 | R77: =IFERROR(IF(AND($D77<=R$6,SUM($I77:Q77)<>1),1/$F77,0),0) -> 0 | ... BU77: =IFERROR(IF(AND($D77<=BU$6,SUM($I77:BT77)<>1),1/$F77,0),0) -> 0
I78: Financeiro | J78: =J77*$C77 -> 0 | K78: =K77*$C77 -> 0 | L78: =L77*$C77 -> 0 | M78: =M77*$C77 -> 0 | N78: =N77*$C77 -> 0 | O78: =O77*$C77 -> 0 | P78: =P77*$C77 -> 0 | Q78: =Q77*$C77 -> 0 | ... BU78: =BU77*$C77 -> 0
A79: 3.1.3 | B79: ARQUITETURA E ELEMENTOS DE URBANISMO | C79: =VLOOKUP(A79,'Resumo Eventograma'!A:E,5,FALSE) -> 4160474.2 | D79: =EDATE(D$7,E79) -> 45870 | E79: 23 | F79: 15 | G79: =IF(F79<>"",H79-D79,"") -> 486 | H79: =IFERROR(EOMONTH(D79,F79),"") -> 46356 | I79: Físico | J79: 0 | K79: =IFERROR(IF(AND($D79<=K$6,SUM($I79:J79)<>1),1/$F79,0),0) -> 0 | L79: =IFERROR(IF(AND($D79<=L$6,SUM($I79:K79)<>1),1/$F79,0),0) -> 0 | M79: =IFERROR(IF(AND($D79<=M$6,SUM($I79:L79)<>1),1/$F79,0),0) -> 0 | N79: =IFERROR(IF(AND($D79<=N$6,SUM($I79:M79)<>1),1/$F79,0),0) -> 0 | O79: =IFERROR(IF(AND($D79<=O$6,SUM($I79:N79)<>1),1/$F79,0),0) -> 0 | P79: =IFERROR(IF(AND($D79<=P$6,SUM($I79:O79)<>1),1/$F79,0),0) -> 0 | Q79: =IFERROR(IF(AND($D79<=Q$6,SUM($I79:P79)<>1),1/$F79,0),0) -> 0 | R79: =IFERROR(IF(AND($D79<=R$6,SUM($I79:Q79)<>1),1/$F79,0),0) -> 0 | ... BU79: =IFERROR(IF(AND($D79<=BU$6,SUM($I79:BT79)<>1),1/$F79,0),0) -> 0
I80: Financeiro | J80: =J79*$C79 -> 0 | K80: =K79*$C79 -> 0 | L80: =L79*$C79 -> 0 | M80: =M79*$C79 -> 0 | N80: =N79*$C79 -> 0 | O80: =O79*$C79 -> 0 | P80: =P79*$C79 -> 0 | Q80: =Q79*$C79 -> 0 | ... BU80: =BU79*$C79 -> 0
A81: 3.1.4 | B81: INSTALAÇÕES HIDRÁULICAS E SANITÁRIAS | C81: =VLOOKUP(A81,'Resumo Eventograma'!A:E,5,FALSE) -> 222622.55 | D81: =EDATE(D$7,E81) -> 45689 | E81: 17 | F81: 13 | G81: =IF(F81<>"",H81-D81,"") -> 423 | H81: =IFERROR(EOMONTH(D81,F81),"") -> 46112 | I81: Físico | J81: 0 | K81: =IFERROR(IF(AND($D81<=K$6,SUM($I81:J81)<>1),1/$F81,0),0) -> 0 | L81: =IFERROR(IF(AND($D81<=L$6,SUM($I81:K81)<>1),1/$F81,0),0) -> 0 | M81: =IFERROR(IF(AND($D81<=M$6,SUM($I81:L81)<>1),1/$F81,0),0) -> 0 | N81: =IFERROR(IF(AND($D81<=N$6,SUM($I81:M81)<>1),1/$F81,0),0) -> 0 | O81: =IFERROR(IF(AND($D81<=O$6,SUM($I81:N81)<>1),1/$F81,0),0) -> 0 | P81: =IFERROR(IF(AND($D81<=P$6,SUM($I81:O81)<>1),1/$F81,0),0) -> 0 | Q81: =IFERROR(IF(AND($D81<=Q$6,SUM($I81:P81)<>1),1/$F81,0),0) -> 0 | R81: =IFERROR(IF(AND($D81<=R$6,SUM($I81:Q81)<>1),1/$F81,0),0) -> 0 | ... BU81: =IFERROR(IF(AND($D81<=BU$6,SUM($I81:BT81)<>1),1/$F81,0),0) -> 0
I82: Financeiro | J82: =J81*$C81 -> 0 | K82: =K81*$C81 -> 0 | L82: =L81*$C81 -> 0 | M82: =M81*$C81 -> 0 | N82: =N81*$C81 -> 0 | O82: =O81*$C81 -> 0 | P82: =P81*$C81 -> 0 | Q82: =Q81*$C81 -> 0 | ... BU82: =BU81*$C81 -> 0
A83: 3.1.5 | B83: INSTALAÇÕES ELÉTRICAS | C83: =VLOOKUP(A83,'Resumo Eventograma'!A:E,5,FALSE) -> 982738.9 | D83: =EDATE(D$7,E83) -> 45962 | E83: 26 | F83: 12 | G83: =IF(F83<>"",H83-D83,"") -> 394 | H83: =IFERROR(EOMONTH(D83,F83),"") -> 46356 | I83: Físico | J83: 0 | K83: =IFERROR(IF(AND($D83<=K$6,SUM($I83:J83)<>1),1/$F83,0),0) -> 0 | L83: =IFERROR(IF(AND($D83<=L$6,SUM($I83:K83)<>1),1/$F83,0),0) -> 0 | M83: =IFERROR(IF(AND($D83<=M$6,SUM($I83:L83)<>1),1/$F83,0),0) -> 0 | N83: =IFERROR(IF(AND($D83<=N$6,SUM($I83:M83)<>1),1/$F83,0),0) -> 0 | O83: =IFERROR(IF(AND($D83<=O$6,SUM($I83:N83)<>1),1/$F83,0),0) -> 0 | P83: =IFERROR(IF(AND($D83<=P$6,SUM($I83:O83)<>1),1/$F83,0),0) -> 0 | Q83: =IFERROR(IF(AND($D83<=Q$6,SUM($I83:P83)<>1),1/$F83,0),0) -> 0 | R83: =IFERROR(IF(AND($D83<=R$6,SUM($I83:Q83)<>1),1/$F83,0),0) -> 0 | ... BU83: =IFERROR(IF(AND($D83<=BU$6,SUM($I83:BT83)<>1),1/$F83,0),0) -> 0
I84: Financeiro | J84: =J83*$C83 -> 0 | K84: =K83*$C83 -> 0 | L84: =L83*$C83 -> 0 | M84: =M83*$C83 -> 0 | N84: =N83*$C83 -> 0 | O84: =O83*$C83 -> 0 | P84: =P83*$C83 -> 0 | Q84: =Q83*$C83 -> 0 | ... BU84: =BU83*$C83 -> 0
A85: 3.1.6 | B85: INSTALAÇÕES MECÂNICAS E DE UTILIDADES | C85: =VLOOKUP(A85,'Resumo Eventograma'!A:E,5,FALSE) -> 473819.73 | D85: =EDATE(D$7,E85) -> 45992 | E85: 27 | F85: 11 | G85: =IF(F85<>"",H85-D85,"") -> 364 | H85: =IFERROR(EOMONTH(D85,F85),"") -> 46356 | I85: Físico | J85: 0 | K85: =IFERROR(IF(AND($D85<=K$6,SUM($I85:J85)<>1),1/$F85,0),0) -> 0 | L85: =IFERROR(IF(AND($D85<=L$6,SUM($I85:K85)<>1),1/$F85,0),0) -> 0 | M85: =IFERROR(IF(AND($D85<=M$6,SUM($I85:L85)<>1),1/$F85,0),0) -> 0 | N85: =IFERROR(IF(AND($D85<=N$6,SUM($I85:M85)<>1),1/$F85,0),0) -> 0 | O85: =IFERROR(IF(AND($D85<=O$6,SUM($I85:N85)<>1),1/$F85,0),0) -> 0 | P85: =IFERROR(IF(AND($D85<=P$6,SUM($I85:O85)<>1),1/$F85,0),0) -> 0 | Q85: =IFERROR(IF(AND($D85<=Q$6,SUM($I85:P85)<>1),1/$F85,0),0) -> 0 | R85: =IFERROR(IF(AND($D85<=R$6,SUM($I85:Q85)<>1),1/$F85,0),0) -> 0 | ... BU85: =IFERROR(IF(AND($D85<=BU$6,SUM($I85:BT85)<>1),1/$F85,0),0) -> 0
I86: Financeiro | J86: =J85*$C85 -> 0 | K86: =K85*$C85 -> 0 | L86: =L85*$C85 -> 0 | M86: =M85*$C85 -> 0 | N86: =N85*$C85 -> 0 | O86: =O85*$C85 -> 0 | P86: =P85*$C85 -> 0 | Q86: =Q85*$C85 -> 0 | ... BU86: =BU85*$C85 -> 0
A87: 3.1.7 | B87: NO BREAKS | C87: =VLOOKUP(A87,'Resumo Eventograma'!A:E,5,FALSE) -> 59722.13 | D87: =EDATE(D$7,E87) -> 46296 | E87: 37 | F87: 1 | G87: =IF(F87<>"",H87-D87,"") -> 60 | H87: =IFERROR(EOMONTH(D87,F87),"") -> 46356 | I87: Físico | J87: 0 | K87: =IFERROR(IF(AND($D87<=K$6,SUM($I87:J87)<>1),1/$F87,0),0) -> 0 | L87: =IFERROR(IF(AND($D87<=L$6,SUM($I87:K87)<>1),1/$F87,0),0) -> 0 | M87: =IFERROR(IF(AND($D87<=M$6,SUM($I87:L87)<>1),1/$F87,0),0) -> 0 | N87: =IFERROR(IF(AND($D87<=N$6,SUM($I87:M87)<>1),1/$F87,0),0) -> 0 | O87: =IFERROR(IF(AND($D87<=O$6,SUM($I87:N87)<>1),1/$F87,0),0) -> 0 | P87: =IFERROR(IF(AND($D87<=P$6,SUM($I87:O87)<>1),1/$F87,0),0) -> 0 | Q87: =IFERROR(IF(AND($D87<=Q$6,SUM($I87:P87)<>1),1/$F87,0),0) -> 0 | R87: =IFERROR(IF(AND($D87<=R$6,SUM($I87:Q87)<>1),1/$F87,0),0) -> 0 | ... BU87: =IFERROR(IF(AND($D87<=BU$6,SUM($I87:BT87)<>1),1/$F87,0),0) -> 0
I88: Financeiro | J88: =J87*$C87 -> 0 | K88: =K87*$C87 -> 0 | L88: =L87*$C87 -> 0 | M88: =M87*$C87 -> 0 | N88: =N87*$C87 -> 0 | O88: =O87*$C87 -> 0 | P88: =P87*$C87 -> 0 | Q88: =Q87*$C87 -> 0 | ... BU88: =BU87*$C87 -> 0
A89: 3.1.8 | B89: SERVIÇOS COMPLEMENTARES | C89: =VLOOKUP(A89,'Resumo Eventograma'!A:E,5,FALSE) -> 63569.12 | D89: =EDATE(D$7,E89) -> 45992 | E89: 27 | F89: 11 | G89: =IF(F89<>"",H89-D89,"") -> 364 | H89: =IFERROR(EOMONTH(D89,F89),"") -> 46356 | I89: Físico | J89: 0 | K89: =IFERROR(IF(AND($D89<=K$6,SUM($I89:J89)<>1),1/$F89,0),0) -> 0 | L89: =IFERROR(IF(AND($D89<=L$6,SUM($I89:K89)<>1),1/$F89,0),0) -> 0 | M89: =IFERROR(IF(AND($D89<=M$6,SUM($I89:L89)<>1),1/$F89,0),0) -> 0 | N89: =IFERROR(IF(AND($D89<=N$6,SUM($I89:M89)<>1),1/$F89,0),0) -> 0 | O89: =IFERROR(IF(AND($D89<=O$6,SUM($I89:N89)<>1),1/$F89,0),0) -> 0 | P89: =IFERROR(IF(AND($D89<=P$6,SUM($I89:O89)<>1),1/$F89,0),0) -> 0 | Q89: =IFERROR(IF(AND($D89<=Q$6,SUM($I89:P89)<>1),1/$F89,0),0) -> 0 | R89: =IFERROR(IF(AND($D89<=R$6,SUM($I89:Q89)<>1),1/$F89,0),0) -> 0 | ... BU89: =IFERROR(IF(AND($D89<=BU$6,SUM($I89:BT89)<>1),1/$F89,0),0) -> 0
I90: Financeiro | J90: =J89*$C89 -> 0 | K90: =K89*$C89 -> 0 | L90: =L89*$C89 -> 0 | M90: =M89*$C89 -> 0 | N90: =N89*$C89 -> 0 | O90: =O89*$C89 -> 0 | P90: =P89*$C89 -> 0 | Q90: =Q89*$C89 -> 0 | ... BU90: =BU89*$C89 -> 0
A91: 3.2 | B91: ESTAÇÃO 36 | D91: =EDATE(D$7,E91) -> 45536 | E91: 12 | F91: 28 | G91: =IF(F91<>"",H91-D91,"") -> 882 | H91: =IFERROR(EOMONTH(D91,F91),"") -> 46418 | I91: Físico | J91: 0 | K91: =IFERROR(IF(AND($D91<=K$6,SUM($I91:J91)<>1),1/$F91,0),0) -> 0 | L91: =IFERROR(IF(AND($D91<=L$6,SUM($I91:K91)<>1),1/$F91,0),0) -> 0 | M91: =IFERROR(IF(AND($D91<=M$6,SUM($I91:L91)<>1),1/$F91,0),0) -> 0 | N91: =IFERROR(IF(AND($D91<=N$6,SUM($I91:M91)<>1),1/$F91,0),0) -> 0 | O91: =IFERROR(IF(AND($D91<=O$6,SUM($I91:N91)<>1),1/$F91,0),0) -> 0 | P91: =IFERROR(IF(AND($D91<=P$6,SUM($I91:O91)<>1),1/$F91,0),0) -> 0 | Q91: =IFERROR(IF(AND($D91<=Q$6,SUM($I91:P91)<>1),1/$F91,0),0) -> 0 | R91: =IFERROR(IF(AND($D91<=R$6,SUM($I91:Q91)<>1),1/$F91,0),0) -> 0 | ... BU91: =IFERROR(IF(AND($D91<=BU$6,SUM($I91:BT91)<>1),1/$F91,0),0) -> 0
I92: Financeiro | J92: =J91*$C91 -> 0 | K92: =K91*$C91 -> 0 | L92: =L91*$C91 -> 0 | M92: =M91*$C91 -> 0 | N92: =N91*$C91 -> 0 | O92: =O91*$C91 -> 0 | P92: =P91*$C91 -> 0 | Q92: =Q91*$C91 -> 0 | ... BU92: =BU91*$C91 -> 0
A93: 3.2.1 | B93: SERVIÇOS PRELIMINARES | C93: =VLOOKUP(A93,'Resumo Eventograma'!A:E,5,FALSE) -> 1869835.6 | D93: =EDATE(D$7,E93) -> 45536 | E93: 12 | F93: 28 | G93: =IF(F93<>"",H93-D93,"") -> 882 | H93: =IFERROR(EOMONTH(D93,F93),"") -> 46418 | I93: Físico | J93: 0 | K93: =IFERROR(IF(AND($D93<=K$6,SUM($I93:J93)<>1),1/$F93,0),0) -> 0 | L93: =IFERROR(IF(AND($D93<=L$6,SUM($I93:K93)<>1),1/$F93,0),0) -> 0 | M93: =IFERROR(IF(AND($D93<=M$6,SUM($I93:L93)<>1),1/$F93,0),0) -> 0 | N93: =IFERROR(IF(AND($D93<=N$6,SUM($I93:M93)<>1),1/$F93,0),0) -> 0 | O93: =IFERROR(IF(AND($D93<=O$6,SUM($I93:N93)<>1),1/$F93,0),0) -> 0 | P93: =IFERROR(IF(AND($D93<=P$6,SUM($I93:O93)<>1),1/$F93,0),0) -> 0 | Q93: =IFERROR(IF(AND($D93<=Q$6,SUM($I93:P93)<>1),1/$F93,0),0) -> 0 | R93: =IFERROR(IF(AND($D93<=R$6,SUM($I93:Q93)<>1),1/$F93,0),0) -> 0 | ... BU93: =IFERROR(IF(AND($D93<=BU$6,SUM($I93:BT93)<>1),1/$F93,0),0) -> 0
I94: Financeiro | J94: =J93*$C93 -> 0 | K94: =K93*$C93 -> 0 | L94: =L93*$C93 -> 0 | M94: =M93*$C93 -> 0 | N94: =N93*$C93 -> 0 | O94: =O93*$C93 -> 0 | P94: =P93*$C93 -> 0 | Q94: =Q93*$C93 -> 0 | ... BU94: =BU93*$C93 -> 0
A95: 3.2.2 | B95: FUNDAÇÕES E ESTRUTURAS | C95: =VLOOKUP(A95,'Resumo Eventograma'!A:E,5,FALSE) -> 12518556 | D95: =EDATE(D$7,E95) -> 45627 | E95: 15 | F95: 9 | G95: =IF(F95<>"",H95-D95,"") -> 303 | H95: =IFERROR(EOMONTH(D95,F95),"") -> 45930 | I95: Físico | J95: 0 | K95: =IFERROR(IF(AND($D95<=K$6,SUM($I95:J95)<>1),1/$F95,0),0) -> 0 | L95: =IFERROR(IF(AND($D95<=L$6,SUM($I95:K95)<>1),1/$F95,0),0) -> 0 | M95: =IFERROR(IF(AND($D95<=M$6,SUM($I95:L95)<>1),1/$F95,0),0) -> 0 | N95: =IFERROR(IF(AND($D95<=N$6,SUM($I95:M95)<>1),1/$F95,0),0) -> 0 | O95: =IFERROR(IF(AND($D95<=O$6,SUM($I95:N95)<>1),1/$F95,0),0) -> 0 | P95: =IFERROR(IF(AND($D95<=P$6,SUM($I95:O95)<>1),1/$F95,0),0) -> 0 | Q95: =IFERROR(IF(AND($D95<=Q$6,SUM($I95:P95)<>1),1/$F95,0),0) -> 0 | R95: =IFERROR(IF(AND($D95<=R$6,SUM($I95:Q95)<>1),1/$F95,0),0) -> 0 | ... BU95: =IFERROR(IF(AND($D95<=BU$6,SUM($I95:BT95)<>1),1/$F95,0),0) -> 0
I96: Financeiro | J96: =J95*$C95 -> 0 | K96: =K95*$C95 -> 0 | L96: =L95*$C95 -> 0 | M96: =M95*$C95 -> 0 | N96: =N95*$C95 -> 0 | O96: =O95*$C95 -> 0 | P96: =P95*$C95 -> 0 | Q96: =Q95*$C95 -> 0 | ... BU96: =BU95*$C95 -> 0
A97: 3.2.3 | B97: ARQUITETURA E ELEMENTOS DE URBANISMO | C97: =VLOOKUP(A97,'Resumo Eventograma'!A:E,5,FALSE) -> 3958929.5 | D97: =EDATE(D$7,E97) -> 45566 | E97: 13 | F97: 15 | G97: =IF(F97<>"",H97-D97,"") -> 487 | H97: =IFERROR(EOMONTH(D97,F97),"") -> 46053 | I97: Físico | J97: 0 | K97: =IFERROR(IF(AND($D97<=K$6,SUM($I97:J97)<>1),1/$F97,0),0) -> 0 | L97: =IFERROR(IF(AND($D97<=L$6,SUM($I97:K97)<>1),1/$F97,0),0) -> 0 | M97: =IFERROR(IF(AND($D97<=M$6,SUM($I97:L97)<>1),1/$F97,0),0) -> 0 | N97: =IFERROR(IF(AND($D97<=N$6,SUM($I97:M97)<>1),1/$F97,0),0) -> 0 | O97: =IFERROR(IF(AND($D97<=O$6,SUM($I97:N97)<>1),1/$F97,0),0) -> 0 | P97: =IFERROR(IF(AND($D97<=P$6,SUM($I97:O97)<>1),1/$F97,0),0) -> 0 | Q97: =IFERROR(IF(AND($D97<=Q$6,SUM($I97:P97)<>1),1/$F97,0),0) -> 0 | R97: =IFERROR(IF(AND($D97<=R$6,SUM($I97:Q97)<>1),1/$F97,0),0) -> 0 | ... BU97: =IFERROR(IF(AND($D97<=BU$6,SUM($I97:BT97)<>1),1/$F97,0),0) -> 0
I98: Financeiro | J98: =J97*$C97 -> 0 | K98: =K97*$C97 -> 0 | L98: =L97*$C97 -> 0 | M98: =M97*$C97 -> 0 | N98: =N97*$C97 -> 0 | O98: =O97*$C97 -> 0 | P98: =P97*$C97 -> 0 | Q98: =Q97*$C97 -> 0 | ... BU98: =BU97*$C97 -> 0
A99: 3.2.4 | B99: INSTALAÇÕES HIDRÁULICAS E SANITÁRIAS | C99: =VLOOKUP(A99,'Resumo Eventograma'!A:E,5,FALSE) -> 224862.3 | D99: =EDATE(D$7,E99) -> 46143 | E99: 32 | F99: 13 | G99: =IF(F99<>"",H99-D99,"") -> 425 | H99: =IFERROR(EOMONTH(D99,F99),"") -> 46568 | I99: Físico | J99: 0 | K99: =IFERROR(IF(AND($D99<=K$6,SUM($I99:J99)<>1),1/$F99,0),0) -> 0 | L99: =IFERROR(IF(AND($D99<=L$6,SUM($I99:K99)<>1),1/$F99,0),0) -> 0 | M99: =IFERROR(IF(AND($D99<=M$6,SUM($I99:L99)<>1),1/$F99,0),0) -> 0 | N99: =IFERROR(IF(AND($D99<=N$6,SUM($I99:M99)<>1),1/$F99,0),0) -> 0 | O99: =IFERROR(IF(AND($D99<=O$6,SUM($I99:N99)<>1),1/$F99,0),0) -> 0 | P99: =IFERROR(IF(AND($D99<=P$6,SUM($I99:O99)<>1),1/$F99,0),0) -> 0 | Q99: =IFERROR(IF(AND($D99<=Q$6,SUM($I99:P99)<>1),1/$F99,0),0) -> 0 | R99: =IFERROR(IF(AND($D99<=R$6,SUM($I99:Q99)<>1),1/$F99,0),0) -> 0 | ... BU99: =IFERROR(IF(AND($D99<=BU$6,SUM($I99:BT99)<>1),1/$F99,0),0) -> 0
I100: Financeiro | J100: =J99*$C99 -> 0 | K100: =K99*$C99 -> 0 | L100: =L99*$C99 -> 0 | M100: =M99*$C99 -> 0 | N100: =N99*$C99 -> 0 | O100: =O99*$C99 -> 0 | P100: =P99*$C99 -> 0 | Q100: =Q99*$C99 -> 0 | ... BU100: =BU99*$C99 -> 0
...

Sheet Resumo Eventograma
A1: 1 | B1: SERVIÇOS TÉCNICOS PROFISSIONAIS | E1: 5026461.3
A2: 1.1 | B2: SERVIÇOS TÉCNICOS | E2: 481394.2
A3: 1.1.1 | B3: SERVIÇOS TÉCNICOS INICIAIS | E3: 481394.2
A4: 1.2 | B4: PROJETOS EXECUTIVOS OBRAS CIVIS | E4: 1975295.9
A5: 1.2.1 | B5: PROJETO EXECUTIVO ESTAÇÃO 35 | E5: 360830.76
A6: 1.2.2 | B6: PROJETO EXECUTIVO ESTAÇÃO 36 | E6: 192650.92
A7: 1.2.3 | B7: PROJETO EXECUTIVO VIA PERMANENTE | E7: 349919.84
A8: 1.2.4 | B8: PROJETO EXECUTIVO SISTEMA VIÁRIO | E8: 315613.59
A9: 1.2.5 | B9: PROJETO EXECUTIVO VIADUTOS | E9: 275872.8
A10: 1.2.6 | B10: PROJETO EXECUTIVO COMPLEMENTAR | E10: 286944.62
A11: 1.2.7 | B11: PROJETO EXECUTIVO EMISSÁRIO | E11: 193463.32
A12: 1.3 | B12: PROJETOS EXECUTIVOS SISTEMAS FIXOS | E12: 2157109
A13: 1.3.1 | B13: PROJETO EXECUTIVO ENERGIA | E13: 2016548.8
A14: 1.3.2 | B14: PROJETO EXECUTIVO TELECOM | E14: 91471.69
A15: 1.3.3 | B15: PROJETO EXECUTIVO SISTEMAS MECÂNICOS | E15: 49088.51
A16: 1.4 | B16: PROJETOS AS BUILT OBRAS CIVIS | E16: 179485.7
A17: 1.4.1 | B17: PROJETOS AS BUILT | E17: 179485.7
A18: 1.5 | B18: PROJETOS AS BUILT SISTEMAS | E18: 233176.59
A19: 1.5.1 | B19: PROJETO AS BUILT ENERGIA | E19: 201654.84
A20: 1.5.2 | B20: PROJETO AS BUILT TELECOM | E20: 9147.14
A21: 1.5.3 | B21: PROJETO AS BUILT SISTEMAS MECÂNICOS | E21: 4908.84
A22: 1.5.4 | B22: RELATÓRIO FINAL AMBIENTAL | E22: 17465.77
A23: 2 | B23: SERVIÇOS GERAIS | E23: 26599227
A24: 2.1 | B24: ADMINISTRAÇÃO LOCAL | E24: 21531588
A25: 2.1.1 | B25: ADMINISTRAÇÃO LOCAL | E25: 21531588
A26: 2.2 | B26: SERVIÇOS AUXILIARES | E26: 3966446.6
A27: 2.2.1 | B27: CANTEIRO DE OBRA | E27: 2018343.7
A28: 2.2.2 | B28: SERVIÇOS COMPLEMETARES | E28: 1948102.9
A29: 2.3 | B29: SERVIÇOS AMBIENTAIS | E29: 1101193.2
A30: 2.3.1 | B30: ESTABILIZAÇÃO DOS ACESSOS | E30: 931036.96
A31: 2.3.2 | B31: PROTEÇÃO DE PERÍMETRO | E31: 138464.76
A32: 2.3.3 | B32: DRENAGEM TEMPORÁRIA | E32: 31691.45
A33: 3 | B33: OBRAS CIVIS | E33: 1.7123927e+08
A34: 3.1 | B34: ESTAÇÃO 35 | E34: 18572534
A35: 3.1.1 | B35: SERVIÇOS PRELIMINARES | E35: 439653.07
A36: 3.1.2 | B36: FUNDAÇÕES E ESTRUTURAS | E36: 12169934
A37: 3.1.3 | B37: ARQUITETURA E ELEMENTOS DE URBANISMO | E37: 4160474.2
A38: 3.1.4 | B38: INSTALAÇÕES HIDRÁULICAS E SANITÁRIAS | E38: 222622.55
A39: 3.1.5 | B39: INSTALAÇÕES ELÉTRICAS | E39: 982738.9
A40: 3.1.6 | B40: INSTALAÇÕES MECÂNICAS E DE UTILIDADES | E40: 473819.73
A41: 3.1.7 | B41: NO BREAKS | E41: 59722.13
A42: 3.1.8 | B42: SERVIÇOS COMPLEMENTARES | E42: 63569.12
A43: 3.2 | B43: ESTAÇÃO 36 | E43: 20192419
A44: 3.2.1 | B44: SERVIÇOS PRELIMINARES | E44: 1869835.6
A45: 3.2.2 | B45: FUNDAÇÕES E ESTRUTURAS | E45: 12518556
A46: 3.2.3 | B46: ARQUITETURA E ELEMENTOS DE URBANISMO | E46: 3958929.5
A47: 3.2.4 | B47: INSTALAÇÕES HIDRÁULICAS E SANITÁRIAS | E47: 224862.3
A48: 3.2.5 | B48: INSTALAÇÕES ELÉTRICAS | E48: 1028617
A49: 3.2.6 | B49: INSTALAÇÕES MECÂNICAS E DE UTILIDADES | E49: 473819.73
A50: 3.2.7 | B50: NO BREAKS | E50: 59722.13
A51: 3.2.8 | B51: SERVIÇOS COMPLEMENTARES | E51: 58076.51
A52: 3.3 | B52: VIADUTOS | E52: 12886702
A53: 3.3.1 | B53: VIADUTOS METROVIÁRIOS AVENIDA CENTRAL | E53: 4763843.3
A54: 3.3.2 | B54: VIADUTOS RODOVIÁRIOS 2ª AVENIDA SUL | E54: 2793007.6
A55: 3.3.3 | B55: VIADUTOS RODOVIÁRIOS 1ª RODOVIA SUL | E55: 5329851.1
A56: 3.4 | B56: PASSARELAS | E56: 3587337.7
A57: 3.4.1 | B57: PASSARELA - EST. 2895 | E57: 604735.81
A58: 3.4.2 | B58: PASSARELA - EST. 2947 | E58: 732201.83
A59: 3.4.3 | B59: PASSARELA - EST. 2975 | E59: 1374658.2
A60: 3.4.4 | B60: PASSARELA - EST. 2996 | E60: 875741.88
A61: 3.5 | B61: SISTEMA VIÁRIO | E61: 10549554
A62: 3.5.1 | B62: VIADUTOS RAMO 100 | E62: 1350881.1
A63: 3.5.2 | B63: VIADUTOS RAMO 200 | E63: 3330395.9
A64: 3.5.3 | B64: VIADUTOS RAMO 300 | E64: 956393.25
A65: 3.5.4 | B65: VIADUTOS RAMO 400 | E65: 950946.62
A66: 3.5.5 | B66: VIADUTOS RAMO 500 | E66: 996740.99
A67: 3.5.6 | B67: VIADUTOS RAMO 600 | E67: 992632.68
A68: 3.5.7 | B68: PLANTIO DE GRAMA | E68: 835324.25
A69: 3.5.8 | B69: CICLOVIA | E69: 1136239.2
A70: 3.6 | B70: VIA PERMANENTE | E70: 58546592
A71: 3.6.1 | B71: SERVIÇOS PRELIMINARES DE VIA PERMANENTE - LIMPEZA E PREPARO DA ÁREA | E71: 483360.91
A72: 3.6.2 | B72: TERRAPLENAGEM - CORTES E TRANSPORTE | E72: 6519388.7
A73: 3.6.3 | B73: TERRAPLENAGEM - ATERROS | E73: 92181.51
A74: 3.6.4 | B74: TERRAPLENAGEM - COBERTURA VEGETAL | E74: 299468.78
A75: 3.6.5 | B75: TERRAPLENAGEM VIA PERMANENTE - SUBLEITO | E75: 4116753.4
A76: 3.6.6 | B76: SOLO GRAMPEADO | E76: 7019455.6
A77: 3.6.7 | B77: DRENAGEM DA VIA PERMANENTE | E77: 8289707.7
A78: 3.6.8 | B78: FORMAÇÃO PARCIAL DE PILHA DE BRITA PARA LASTRO | E78: 1422329.1
A79: 3.6.9 | B79: FORMAÇÃO PARCIAL DE GRUPO DE DORMENTES | E79: 1971554.3
A80: 3.6.10 | B80: FORMAÇÃO PARCIAL DE GRUPO DE TRILHO UIC60 | E80: 5280628.1
A81: 3.6.11 | B81: MATERIAIS ASSOCIADOS A APARELHOS DE MUDANÇA DE VIA | E81: 1325587.1
A82: 3.6.12 | B82: IMPLANTAÇÃO DA SUPERESTRUTURA FERROVIÁRIA | E82: 15191634
... A84: 3.6.14 | B84: PROTEÇÃO CORRENTE DE FUGA | E84: 628618.62
A85: 3.7 | B85: OBRAS CIVIS SR-63 | E85: 2783589.4
A86: 3.7.1 | B86: SERVIÇOS PRELIMINARES | E86: 29914.64
A87: 3.7.2 | B87: FUNDAÇÕES E ESTRUTURAS | E87: 1667953.7
A88: 3.7.3 | B88: ARQUITETURA E ELEMENTOS DE URBANISMO | E88: 546532.52
A89: 3.7.4 | B89: INSTALAÇÕES HIDRÁULICAS E SANITÁRIAS | E89: 20693.8
A90: 3.7.5 | B90: COMBATE A INCÊNDIO | E90: 2034.45
A91: 3.7.6 | B91: INSTALAÇÕES ELÉTRICAS | E91: 409373.38
A92: 3.7.7 | B92: SISTEMAS ELETRÔNICOS | E92: 13706.01
A93: 3.7.8 | B93: INSTALAÇÕES MECÂNICAS E DE UTILIDADES | E93: 91187.7
A94: 3.7.9 | B94: SERVIÇOS COMPLEMENTARES | E94: 2193.23
A95: 3.8 | B95: EMISSÁRIO | E95: 39625970
A96: 3.8.1 | B96: EMISSÁRIO SAMAMBAIA | E96: 28958793
A97: 3.8.2 | B97: PAVIMENTAÇÃO E DRENAGEM | E97: 10667178
A98: 3.9 | B98: INTERFERÊNCIAS | E98: 4494571.2
A99: 3.9.1 | B99: REMANEJAMENTO - CAESB | E99: 4252871.2
A100: 3.9.2 | B100: REMANEJAMENTO - CAESB | E100: 241700.03
A101: 4 | B101: ENERGIA | E101: 1.2880434e+08
...
